{"text_format":"1","workbook":"xlsx","n_sheets":13,"sheets":["Quick Quote Tool","Quote","Rate Card","KEY FEATURES","General Questionnaire","App Questionnaire","Server Questionnaire","Summary - Manual","Dropdown","User Information","Order Summary","Instructions","Price Quote - Manual"],"not_rendered":{"charts":0,"images":1,"macros":1,"external_links":2,"defined_names":211,"comments":0,"pivot_tables":0},"unopened":[],"bounds":{"document_bytes":16777216,"sheet_cells":100000,"rows_first":2000,"rows_last":500,"rows_between":2000,"halvings":0,"cell_chars":16384,"cell_head_chars":4096},"cells_cut":0,"cells_raw":0,"read":"whole","date_system":"1900"}

{"sheet":"Quick Quote Tool","index":0,"n_rows":21,"n_cols":9,"rows_kept":21,"cut":false,"hidden":true,"merged":[[2,1,2,8]]}
[]
[]
[null,"Quote Tool"]
[]
[null,"Category","Product","Per","Setup Fee","MRC","Quantity","Setup Fee - \nSubtotal","MRC - \nSubtotal"]
[null,null,null,{"$f":"IF(ISNA(VLOOKUP(C6,RateCard,3,FALSE)),\"\",(VLOOKUP(C6,RateCard,3,FALSE)))","v":""},{"$f":"IF(ISNA(VLOOKUP(C6,RateCard,6,FALSE)),\"\",(VLOOKUP(C6,RateCard,6,FALSE)))","v":""},{"$f":"IF(ISNA(VLOOKUP(C6,RateCard,7,FALSE)),\"\",(VLOOKUP(C6,RateCard,7,FALSE)))","v":""},null,{"$f":"IF(ISNUMBER(E6*G6), E6*G6, \"\")","v":""},{"$f":"IF(ISNUMBER(F6*G6), F6*G6, \"\")","v":""}]
[null,null,null,"","","",null,{"$f":"IF(ISNUMBER(E7*G7), E7*G7, \"\")","v":""},{"$f":"IF(ISNUMBER(F7*G7), F7*G7, \"\")","v":""}]
[null,null,null,"","","",null,"",""]
[null,null,null,"","","",null,"",""]
[null,null,null,{"$f":"IF(ISNA(VLOOKUP(C10,RateCard,3,FALSE)),\"\",(VLOOKUP(C10,RateCard,3,FALSE)))","v":""},"","",null,"",""]
[null,null,null,"","","",null,"",""]
[null,null,null,"","","",null,"",""]
[null,null,null,"","","",null,"",""]
[null,null,null,"","","",null,"",""]
[null,null,null,"","","",null,"",""]
[null,null,null,"","","",null,"",""]
[null,null,null,"","","",null,"",""]
[null,null,null,"","","",null,"",""]
[null,null,null,"","","",null,"",""]
[null,null,null,"","","",null,"",""]
[null,null,null,null,"Total Setup and Monthly Recurring",null,null,{"$f":"SUM(H6:H20)","v":0},{"$f":"SUM(I6:I20)","v":0}]

{"sheet":"Quote","index":1,"n_rows":71,"n_cols":29,"rows_kept":71,"cut":false,"hidden":false,"merged":[[29,21,29,23],[30,21,30,23],[28,24,28,25],[29,24,29,25],[30,24,30,25],[35,5,35,14],[33,24,33,25],[34,24,34,25],[36,5,36,14],[37,5,37,14],[28,0,28,4],[29,0,29,4],[30,0,30,4],[28,5,28,14],[26,5,26,14],[27,5,27,14],[31,5,31,14],[32,5,32,14],[33,5,33,14],[34,5,34,14],[29,5,29,14],[30,5,30,14],[32,0,32,4],[33,0,33,4],[34,0,34,4],[35,0,35,4],[25,0,25,4],[26,0,26,4],[27,0,27,4],[31,0,31,4],[17,0,17,4],[18,0,18,4],[19,0,19,4],[20,0,20,4],[21,0,21,4],[22,0,22,4],[19,24,19,25],[20,24,20,25],[21,24,21,25],[49,4,49,14],[50,4,50,14],[7,4,7,9],[23,16,23,20],[24,16,24,20],[17,16,17,20],[18,16,18,20],[19,16,19,20],[7,13,7,18],[16,22,16,25],[17,24,17,25],[16,17,16,18],[16,19,16,21],[33,21,33,23],[34,21,34,23],[35,21,35,23],[39,24,39,25],[26,24,26,25],[27,24,27,25],[31,24,31,25],[32,24,32,25],[67,0,67,6],[10,13,10,19],[11,13,11,19],[12,13,12,19],[14,14,14,17],[9,4,9,9],[10,4,10,9],[11,4,11,9],[12,4,12,9],[34,16,34,20],[38,0,38,4],[17,5,17,14],[18,5,18,14],[19,5,19,14],[20,5,20,14],[21,5,21,14],[22,5,22,14],[23,5,23,14],[24,5,24,14],[25,5,25,14],[36,0,36,4],[37,0,37,4],[23,0,23,4],[24,0,24,4],[5,4,5,15],[6,4,6,15],[14,5,14,8],[9,13,9,19],[36,16,36,20],[37,16,37,20],[36,21,36,23],[37,21,37,23],[66,0,66,5],[50,18,50,28],[41,0,45,30],[66,28,66,31],[35,16,35,20],[66,18,66,25],[66,26,66,27],[38,18,38,19],[39,26,39,30],[49,18,49,28],[20,16,20,20],[21,16,21,20],[22,16,22,20],[23,21,23,23],[22,26,22,30],[22,24,22,25],[36,26,36,30],[37,26,37,30],[38,27,38,31],[18,26,18,30],[7,22,7,24],[14,26,14,27],[16,27,16,31],[8,21,8,31],[17,26,17,30],[18,24,18,25],[32,26,32,30],[32,21,32,23],[28,21,28,23],[38,25,38,26],[35,26,35,30],[33,26,33,30],[35,24,35,25],[36,24,36,25],[37,24,37,25],[23,24,23,25],[38,23,38,24],[20,21,20,23],[21,21,21,23],[22,21,22,23],[1,25,1,29],[9,23,9,29],[10,23,10,29],[11,23,11,29],[12,23,12,29],[17,21,17,23],[18,21,18,23],[19,21,19,23],[33,16,33,20],[27,16,27,20],[31,16,31,20],[27,21,27,23],[31,21,31,23],[24,24,24,25],[25,24,25,25],[28,16,28,20],[25,16,25,20],[26,16,26,20],[24,21,24,23],[25,21,25,23],[26,21,26,23],[32,16,32,20],[29,16,29,20],[30,16,30,20],[23,26,23,30],[24,26,24,30],[25,26,25,30],[34,26,34,30],[19,26,19,30],[20,26,20,30],[21,26,21,30],[26,26,26,30],[27,26,27,30],[31,26,31,30],[28,26,28,30],[29,26,29,30],[30,26,30,30]]}
[]
[null,null,null,null,null,null,null,null,null,null,null,null,null,null,null,null,null,null,null,null,null,null,"Date Prepared"]
[]
[]
[]
[null,null,"Name"]
[null,null,"Address"]
[null,null,"City",null,null,null,null,null,null,null,null,"State ",null,null,null,null,null,null,null,null,"Zip"]
[]
[null,null,null,"Name",null,null,null,null,null,null,null,null,"Name",null,null,null,null,null,null,null,null,null,"Name"]
[null,null,null,"E-mail",null,null,null,null,null,null,null,null,"E-mail",null,null,null,null,null,null,null,null,null,"E-mail"]
[null,null,null,"Phone",null,null,null,null,null,null,null,null,"Phone",null,null,null,null,null,null,null,null,null,"Phone"]
[null,null,null,"Role",null,null,null,null,null,null,null,null,"Role",null,null,null,null,null,null,null,null,null,"Role"]
[]
[null,null,null,"Contract Term",null,null,null,null,null,null,null,null,null,null,null,null,null,null,null,null,"Existing Account?",null,null,null,"x","Yes",null,null,"No"]
[]
[]
["Workspace_Products",null,null,null,null,"nFinity nWorkspace™ - 11 - 50 users",null,null,null,null,null,null,null,null,null,30,{"$f":"IF(ISNA(VLOOKUP(F18,RateCard_Partner,5,FALSE)),\"\",(VLOOKUP(F18,RateCard_Partner,5,FALSE)))","v":0},null,null,null,null,{"$f":"IF(ISNA(VLOOKUP(F18,RateCard_Partner,6,FALSE)),\"\",(VLOOKUP(F18,RateCard_Partner,6,FALSE)))","v":90},null,null,{"$f":"IF(P18=\"\", \"\", Q18*P18)","v":0},null,{"$f":"IF(P18=\"\", \"\", V18*P18)","v":2700}]
["Storage",null,null,null,null,"Storage (1 GB)",null,null,null,null,null,null,null,null,null,500,0,null,null,null,null,0.875,null,null,{"$f":"IF(P19=\"\", \"\", Q19*P19)","v":0},null,{"$f":"IF(P19=\"\", \"\", V19*P19)","v":437.5}]
["Application_Hosting",null,null,null,null,"QuickBooks Hosting Fee",null,null,null,null,null,null,null,null,null,30,0,null,null,null,null,12.5,null,null,0,null,375]
["Professional_Services",null,null,null,null,"Data Migration",null,null,null,null,null,null,null,null,null,1,95,null,null,null,null,0,null,null,95,null,0]
[null,null,null,null,null,null,null,null,null,null,null,null,null,null,null,null,"",null,null,null,null,"",null,null,"",null,""]
[null,null,null,null,null,null,null,null,null,null,null,null,null,null,null,null,"",null,null,null,null,"",null,null,"",null,""]
[null,null,null,null,null,null,null,null,null,null,null,null,null,null,null,null,"",null,null,null,null,"",null,null,"",null,""]
[null,null,null,null,null,null,null,null,null,null,null,null,null,null,null,null,"",null,null,null,null,"",null,null,"",null,""]
[null,null,null,null,null,null,null,null,null,null,null,null,null,null,null,null,"",null,null,null,null,"",null,null,"",null,""]
[null,null,null,null,null,null,null,null,null,null,null,null,null,null,null,null,"",null,null,null,null,"",null,null,"",null,""]
[null,null,null,null,null,null,null,null,null,null,null,null,null,null,null,null,"",null,null,null,null,"",null,null,{"$f":"IF(P28=\"\", \"\", Q28*P28)","v":""},null,""]
[null,null,null,null,null,null,null,null,null,null,null,null,null,null,null,null,"",null,null,null,null,"",null,null,"",null,{"$f":"IF(P29=\"\", \"\", V29*P29)","v":""}]
[null,null,null,null,null,null,null,null,null,null,null,null,null,null,null,null,"",null,null,null,null,"",null,null,"",null,""]
[null,null,null,null,null,null,null,null,null,null,null,null,null,null,null,null,"",null,null,null,null,"",null,null,"",null,""]
[null,null,null,null,null,null,null,null,null,null,null,null,null,null,null,null,"",null,null,null,null,"",null,null,"",null,""]
[null,null,null,null,null,null,null,null,null,null,null,null,null,null,null,null,"",null,null,null,null,"",null,null,"",null,""]
[null,null,null,null,null,null,null,null,null,null,null,null,null,null,null,null,"",null,null,null,null,"",null,null,"",null,""]
[null,null,null,null,null,null,null,null,null,null,null,null,null,null,null,null,"",null,null,null,null,"",null,null,"",null,""]
[null,null,null,null,null,null,null,null,null,null,null,null,null,null,null,null,"",null,null,null,null,"",null,null,"",null,""]
[null,null,null,null,null,null,null,null,null,null,null,null,null,null,null,null,"",null,null,null,null,"",null,null,"",null,""]
[null,null,null,null,null,null,null,null,null,null,null,null,null,null,null,null,"",null,null,null,null,"",null,null,"",null,""]
[]
[null,null,null,null,null,null,null,null,null,null,null,null,null,null,null,null,null,"Total Cost",null,null,null,null,null,null,{"$f":"SUM(Y18:Z38)","v":95},null,{"$f":"SUM(AA18:AE38)","v":3512.5}]
[]
[]
[]
[]
[]
[]
[null,null,"*Sufficient nFinity Storage for each personal drive is required for mailbox cache"]
[]
[]
[null,"Printed Name",null,null,null,null,null,null,null,null,null,null,null,null,null,"Signature"]
[null,"Title",null,null,null,null,null,null,null,null,null,null,null,null,null,"Date"]
[]
["I have read and agree to all applicable Terms and Conditions."]
[]
[]
[]
[]
[]
[]
[]
[]
[]
[]
[]
[]
[]
[]
[]
[]
[]
[null,"revised 03.09.15"]

{"sheet":"Rate Card","index":2,"n_rows":78,"n_cols":12,"rows_kept":78,"cut":false,"hidden":false,"merged":[[5,11,15,11],[72,1,72,9],[76,1,76,9],[73,1,73,9],[77,1,78,9],[74,1,74,2],[75,1,75,2]]}
[]
[null,null,null,null,null,null,null,null,"NRC Margin","MRC Margin"]
[null,null,null,null,null,null,null,null,0,0.6]
[null,null,null,null,null,null,"Partner"]
[null,"SKU","nGenx Product Name","Notes","Partner Product Name","Per","NRC\n(Buy Rate)","MRC\n(Buy Rate)","NRC\n(Partner Price)","MRC\n(Partner Price)",null,"Instructions"]
[null,"GEN","Workspace_Products",null,null,null,null,null,null,null,null,"Enter your Product Names in the \"Partner Product Name\" column.  Enter your pricing in the \"NRC (Partner Price)\" and \"MRC (Partner Price)\" columns.\n\nNote: Your Partner Product Name will appear on the \"Price Quote\" in place of the nGenx Product Name.  If the Partner Product Name is not specified, the \"Price Quote\" will default to the nGenx Product Name.\n\nBundling: If there are multiple nGenx Products that you bundle into one Product, enter that Product name next to each element included in the bundle.  Enter the total bundled price for only one element in the bundle.  Be sure that the prices for all other bundled elements are set to $0."]
[null,"GEN","nFinity nWorkspace™ - 3 User bundle","Hybrid VDI solution. Full desktop","nFinity nWorkspace™ - 3 User bundle","bundle",0,150,0,375]
[null,"GEN","nFinity nWorkspace™ - 5 - 10 users",null,"nFinity nWorkspace™ - 5 - 10 users","named user",0,40,0,100]
[null,"GEN","nFinity nWorkspace™ - 11 - 50 users",null,"nFinity nWorkspace™ - 11 - 50 users","named user",0,36,0,90]
[null,"GEN","nFinity nWorkspace™ - 51 - 250 users",null,"nFinity nWorkspace™ - 51 - 250 users","named user",0,32,0,80]
[null,"GEN","nFinity nWorkspace™ - 251 - 500 users",null,"nFinity nWorkspace™ - 251 - 500 users","named user",0,28,0,70]
[null,"GEN","nFinity nWorkspace™ - 501+ users",null,"nFinity nWorkspace™ - 501+ users","named user",0,26,0,65]
[null,"GEN","nFinity nWorkspace™ - NFR user",null,"nFinity nWorkspace™ - NFR user","named user",0,30,0,75]
[null,"GEN","nFinity nWorkspace™ Power User","1 vCPU / 4 GB RAM / 30 GB HDD1 / 30 GB HDD2","nFinity nWorkspace™ Power User","named user",0,99.99,0,249.97499999999999]
[null,"O365","Office_365"]
[null,"O365","O365 Enterprise E3 - For Reference Only",null,"O365 Enterprise E3","named user",0,20,0,50]
[null,"O365","O365 Exchange Online P1 - For Reference Only",null,"O365 Exchange Online P1","named user",0,4,0,10]
[null,"O365","O365 Office ProPlus - For Reference Only",null,"O365 Office ProPlus","named user",0,12,0,30]
[null,"O365","O365 Project Pro - For Reference Only",null,"O365 Project Pro","named user",0,25,0,62.5]
[null,"O365","O365 Visio Pro - For Reference Only",null,"O365 Visio Pro","named user",0,13,0,32.5,null,{"$f":"C6","v":"Workspace_Products"}]
[null,"MAIL","Mail_Services",null,null,null,null,null,null,null,null,{"$f":"C15","v":"Office_365"}]
[null,"MAIL","Hosted Exchange Setup","Required for all companies","Hosted Exchange Setup","company",25,0,25,0,null,{"$f":"C21","v":"Mail_Services"}]
[null,"MAIL","Hosted Exchange",null,"Hosted Exchange","named user",0,11.1,0,27.75,null,{"$f":"C30","v":"Subscription_Licensing"}]
[null,"MAIL","Hosted Exchange Lite",null,"Hosted Exchange Lite","named user",0,2.5,0,6.25,null,{"$f":"C46","v":"Application_Hosting"}]
[null,"MAIL","Encryption Setup","Setup for Edgewave encryption services.","Encryption Setup","domain",75,0,75,0,null,{"$f":"C49","v":"Storage"}]
[null,"MAIL","Encryption (Edgewave)","Edgewave ePrism service","Encryption (Edgewave)","named user",0,1.99,0,4.9749999999999996,null,{"$f":"C52","v":"Infrastructure"}]
[null,"MAIL","Archiving Setup","Setup for all Global Relay archiving services.","Archiving Setup","setup",299,0,299,0,null,{"$f":"C64","v":"Professional_Services"}]
[null,"MAIL","BASIC Email Archiving and eDiscovery","Global Relay. Includes Outlook Plugin, User Management Tools, etc. ","BASIC Email Archiving and eDiscovery","named user",0,3.8,0,9.5]
[null,"MAIL","ADVANCED Archiving Compliance and Supervision","Global Relay. Basic features plus compliance tools. SEC, SOCS, FRCP, FINRA","ADVANCED Archiving Compliance and Supervision","named user",0,5.55,0,13.875]
[null,"SL","Subscription_Licensing"]
[null,"SL","MS Office Standard","Includes Word, Excel, Powerpoint, Outlook, OneNote","MS Office Standard","named user",0,12.89,0,32.225000000000001]
[null,"SL","MS Office Pro","Includes Word, Excel, Powerpoint, Outlook, OneNote, Access","MS Office Pro","named user",0,17.59,0,43.974999999999994]
[null,"SL","MS Visio Standard",null,"MS Visio Standard","named user",0,7.1,0,17.75]
[null,"SL","MS Visio Professional",null,"MS Visio Professional","named user",0,14.3,0,35.75]
[null,"SL","MS Project Standard",null,"MS Project Standard","named user",0,18.3,0,45.75]
[null,"SL","MS Project Professional",null,"MS Project Professsional","named user",0,30.5,0,76.25]
[null,"SL","MS SQL Standard - SAL","Licenses each SQL user, regardless of the SQL server(s) accessed.","MS SQL Standard - SAL","named user",0,14.41,0,36.024999999999999]
[null,"SL","MS SQL Enterprise - SAL","Licenses each SQL user, regardless of the SQL server(s) accessed.","MS SQL Enterprise - SAL","named user",0,23.17,0,57.924999999999997]
[null,"SL","MS SQL Standard - 2 CPU (Min. order 2)","Licenses entire SQL server, regardless of user count.","MS SQL Standard - 2 CPU (Min. order 2)","dual-processor",0,133.30000000000001,0,333.25]
[null,"SL","MS SQL Enterprise - 2 CPU (Min. order 2)","Licenses entire SQL server, regardless of user count.","MS SQL Enterprise - 2 CPU (Min. order 2)","dual-processor",0,511,0,1277.5]
[null,"SL","nFinity Drive ","Share/sync files between Hosted Desktop, Local Desktop and Web Portal. nFinity Desktop only.","nFinity Drive","named user",0,7,0,17.5]
[null,"SL","RemoteScan","Share/sync files between Hosted Desktop, Local Desktop and Web Portal. nFinity Desktop only.","RemoteScan","named user",0,3,0,7.5]
[null,"SL","SQL Server Management Studio",null,"SQL Server Management Studio","named user",0,0,0,0]
[null,"SL","Adobe Acrobat Standard",null,"Adobe Acrobat Standard","named user",300,5,300,12.5]
[null,"SL","Adobe Acrobat Professional",null,"Adobe Acrobat Professional","named user",500,5,500,12.5]
[null,"BYOL","Application_Hosting"]
[null,"BYOL","Application Hosting & Delivery (> 8 apps or plugins)","Fee for hosting an application","Application Hosting & Delivery (> 8 apps or plugins)","customer",0,200,0,500]
[null,"BYOL","QuickBooks Hosting Fee - Monthly",null,"QuickBooks Hosting Fee","named user",0,5,0,12.5]
[null,"STOR","Storage"," "]
[null,"STOR","Storage (1 GB)","Adds to User (H:) drive, Company (I:) drive, LOB server, or nFinity Drive","Storage (1 GB)","GB",0,0.35,0,0.875]
[null,"STOR","Storage (1 TB)","Adds to User (H:) drive, Company (I:) drive, LOB server, or nFinity Drive","Storage (1 TB)","bundle",0,350,0,875]
[null,"CLOUD","Infrastructure"]
[null,"CLOUD","Economy Server (1 CPU/2G RAM/40G HD/20G HD)","1 vCPU / 2 GB RAM / 40 GB HDD1 / 20 GB HDD2","Economy Server (1 CPU/2G RAM/40G HD/20G HD)","server",0,78.22,0,195.54999999999998]
[null,"CLOUD","Standard Server (2 CPU/4G RAM/40G HD/40G HD)","2 vCPU / 4 GB RAM / 40 GB HDD1 / 40 GB HDD2","Standard Server (2 CPU/4G RAM/40G HD/40G HD)","server",0,123.54,0,308.84999999999997]
[null,"CLOUD","Professional Server (2 CPU/8G RAM/40G HD/60G HD)","2 vCPU / 8 GB RAM / 40 GB HDD1 / 60 GB HDD2","Professional Server (2 CPU/8G RAM/40G HD/60G HD)","server",0,156.41999999999999,0,391.04999999999995]
[null,"CLOUD","Enterprise Server  (4 CPU/12G RAM/40G HD/80G HD)","4 vCPU / 12 GB RAM / 40 GB HDD1 / 80 GB HDD2","Enterprise Server  (4 CPU/12G RAM/40G HD/80G HD)","server",0,248.96,0,622.4]
[null,"CLOUD","RAM (add-on)","Adds RAM to an Enterprise Server","RAM (add-on)","GB",0,8.9700000000000006,0,22.424999999999997]
[null,"CLOUD","CPU (add-on)","Adds virtual processor(s) to an Enterprise Server","CPU (add-on)","CPU",0,19.829999999999998,0,49.574999999999996]
[null,"CLOUD","IP Address","Assigns a private or public IP address to an LOB server ","IP Address","IP Address",10,0.99,10,2.4749999999999996]
[null,"CLOUD","Monitoring Service","Provides a private firewall on a NetScaler VPX appliance","Monitoring Service","service",45,5,45,12.5]
[null,"CLOUD","Monitoring Visibility",null,"Monitoring Visibility","customer",0,19.95,0,49.875]
[null,"CLOUD","Custom Web Filtering",null,"Custom Web Filtering","named user",0,2,0,5]
[null,"CLOUD","VPN Connection","Connection between hosted server(s) and external network - VSG-80 (80mb, 20 vpn, 16k)","VPN Connection","connection",150,25,150,62.5]
[null,"SERV","Professional_Services"]
[null,"SERV","Consulting and Professional Services - Tier I","Shipment of a physical hard drive to a customer","Consulting and Professional Services - Tier I","hour",125,0,125,0]
[null,"SERV","Consulting and Professional Services - Tier II",null,"Consulting and Professional Services - Tier II","hour",225,0,225,0]
[null,"SERV","Data Migration",null,"Data Migration","data seed",95,0,95,0]
[null,"DATA","DataCenter_Services"]
[null,"DATA","Virtual Data Center / Platforma as a Service","Shipment of a physical hard drive to a customer","Virtual Data Center / Platform as a Service","data seed",5000,5000,5000,5000]
[null,"DATA","nFinity nWorkspace™ - VDC",null,"nFinity nWorkspace™ - VDC","named user",0,16,0,16]
[null,"DATA","End User Support",null,"End User Support","named user",0,4,0,4]
[null,"DATA","Onboarding Fee",null,"Onboarding Fee","customer",75,0,75,0]
[null,"Acknowledgement"]
[null,"I have reviewed the above Buy Rates and agree to compensate nGenx accordingly for the services rendered to my customers."]
[null,"Printed Name",null,"Signature","Signature"]
[null,"Title",null,"Date","Date"]
[null,"CONFIDENTIALITY"]
[null,"This document and any analysis, language and proposed concepts or models contained herein remain the exclusive intellectual property of nGenx LLC (\"nGenx\"). This document may not be disclosed, reproduced in part or full or otherwise presented to any party but the expressed intended audience and for the expressed purpose without written consent of nGenx."]

{"sheet":"KEY FEATURES","index":3,"n_rows":27,"n_cols":1,"rows_kept":27,"cut":false,"hidden":false,"merged":[]}
["nWorkspace Key Features. "]
["Windows 8 Experience"]
["Active Directory"]
["Windows File Server"]
["Terminal Server(s) 2012 R2 Operating System"]
["Unlimited Application Installations"]
["Pooled storage = 60GB PER CLIENT"]
["Unlimited additional storage available at .35 Cents/GB"]
["Access to CWS for Scalability, Easily Add/Remove Users"]
["Free Cloud Antivirus-Powered by GFI"]
["Free Cloud Firewall-Clavister OR Net Scaler depending on DC choice"]
["Choice of Data Center(s)- Artisan or Google.  (Azure coming soon)"]
["Operating System- security patches, upgrades, and maintenance"]
["Anywhere, Anytime, Any Device Access"]
["Thin Print for easy printing access"]
["No need for Onsite Servers "]
["Nightly & Weekly Backup's included"]
["Image Level Backup in two locations / Quick Restore of VM or File"]
["Data Center Replication"]
["Disaster Recovery included"]
["Hardware Failover Protection"]
["Tier 4 Data Center swith 99.99% uptime"]
["SSAE 16 /HIPPA/PCI Complainant Data Centers"]
["Redundant Power, Cooling, and Internet"]
["Redundant Firewalls and Load Balancing"]
["24x7x365 Infrastructure, Host Performance & Security Monitoring"]
["Data Migration Services Available on Request"]

{"sheet":"General Questionnaire","index":4,"n_rows":191,"n_cols":12,"rows_kept":191,"cut":false,"hidden":true,"merged":[[12,7,12,9],[5,3,5,6],[10,7,10,9],[1,1,1,9],[5,7,5,9],[6,7,6,9],[8,7,8,9],[132,11,136,11],[131,3,131,8],[29,11,73,11],[141,11,150,11],[82,7,82,9],[83,7,83,9],[84,7,84,9],[89,3,89,8],[78,11,105,11],[77,3,77,9],[78,7,78,9],[79,7,79,9],[80,7,80,9],[155,11,190,11],[154,3,154,7],[20,11,24,11],[9,7,9,9],[6,11,15,11],[109,3,109,8],[19,3,19,8],[28,3,28,8],[7,7,7,9],[110,11,127,11],[81,7,81,9],[11,7,11,9],[13,7,13,9],[14,7,14,9],[15,7,15,9],[140,3,140,7]]}
[]
[null,"General Questionnaire"]
[]
[null,null,"Company Information"]
[]
[null,null,null,"Section",null,null,null,"Response",null,null,null,"Notes"]
[null,null,null,null,"Basic Order Info",null,null,"Required for all orders"]
[null,null,null,null,"Partner Name"]
[null,null,null,null,"Company Name"]
[null,null,null,null,"Provisioning Contact"]
[null,null,null,null,"Order Type"]
[null,null,null,null,"Company Contact Info",null,null,"Required for orders with Adobe or QuickBooks Subscription"]
[null,null,null,null,"Address Line 1"]
[null,null,null,null,"Address Line 2"]
[null,null,null,null,"City, State, ZIP"]
[null,null,null,null,"Telephone"]
[]
[null,null,"nFinity™ Product Lines"]
[]
[null,null,null,"Product",null,null,null,null,null,"Response",null,"Notes"]
[null,null,null,null,"nFinity Workspace™",null,null,null,null,"User Count"]
[null,null,null,null,"nFinity Quick Launch™"]
[null,null,null,null,"nFinity Advanced Desktop™"]
[null,null,null,null,"nFinity Advanced Desktop + Quick Launch"]
[null,null,null,null,"nFinity Drive (available ONLY to nFinity Advanced Desktop users)"]
[]
[null,null,"nFinity Apps™ - Subscription Licensing"]
[]
[null,null,null,"Product",null,null,null,null,null,"Response",null,"Notes"]
[null,null,null,null,"Microsoft Office Suites",null,null,null,null,"User Count"]
[null,null,null,null,"Standard Suite - Word, Excel, PowerPoint, Outlook, OneNote, Publisher"]
[null,null,null,null,"Professional Suite - Standard Suite plus Access"]
[null,null,null,null,"Microsoft Visio",null,null,null,null,"User Count"]
[null,null,null,null,"Standard"]
[null,null,null,null,"Professional"]
[null,null,null,null,"Microsoft Project",null,null,null,null,"User Count"]
[null,null,null,null,"Standard"]
[null,null,null,null,"Microsoft SQL",null,null,null,null,"Yes/No"]
[null,null,null,null,"Do any BYO Apps use a SQL Standard or SQL Enterprise database?"]
[null,null,null,null,"Select User -OR- Processor Licensing"]
[null,null,null,null,null,"SQL - User Licensing",null,null,null,"User Count"]
[null,null,null,null,null,"How many users use SQL Standard?"]
[null,null,null,null,null,"How many users use SQL Enterprise?"]
[null,null,null,null,null,"SQL - Processor Licensing",null,null,null,"Quantity"]
[null,null,null,null,null,"What is the total number of server processors running SQL Standard?"]
[null,null,null,null,null,"What is the total number of server processors running SQL Enterprise?"]
[null,null,null,null,"Adobe Acrobat",null,null,null,null,"User Count"]
[null,null,null,null,"Adobe Acrobat Standard - Latest Version"]
[null,null,null,null,"Adobe Acrobat Professional - Latest Version"]
[null,null,null,null,"Quickbooks"]
[null,null,null,null,null,"Quickbooks - Subscription Licensing",null,null,"Multi-user mode?","User Count"]
[null,null,null,null,null,"Pro"]
[null,null,null,null,null,"Premier"]
[null,null,null,null,null,"Accountant"]
[null,null,null,null,null,"Quickbooks - BYO Licensing (App Questionnaire also REQUIRED)"]
[null,null,null,null,null,null,"Pro",null,"Multi-user mode?","User Count"]
[null,null,null,null,null,null,"Current Year"]
[null,null,null,null,null,null,"Current Year less 1"]
[null,null,null,null,null,null,"Current Year less 2"]
[null,null,null,null,null,null,"Premier",null,"Multi-user mode?","User Count"]
[null,null,null,null,null,null,"Current Year"]
[null,null,null,null,null,null,"Current Year less 1"]
[null,null,null,null,null,null,"Current Year less 2"]
[null,null,null,null,null,null,"Accountant",null,"Multi-user mode?","User Count"]
[null,null,null,null,null,null,"Current Year"]
[null,null,null,null,null,null,"Current Year less 1"]
[null,null,null,null,null,null,"Current Year less 2"]
[null,null,null,null,null,null,"Enterprise",null,null,"User Count"]
[null,null,null,null,null,null,"App and Server Questionnaires also REQUIRED"]
[null,null,null,null,"Additional Applications",null,null,null,null,"User Count"]
[null,null,null,null,"SQL Server Management Studio (2008 R2)"]
[null,null,null,null,"Evernote"]
[null,null,null,null,"Skype (Chat Only)"]
[null,null,null,null,"LastPass (Password Manager)"]
[]
[null,null,"Office 365"]
[]
[null,null,null,"Reseller Contact Info",null,null,null,null,null,null,null,"Notes"]
[null,null,null,null,"Company Name"]
[null,null,null,null,"Address Line 1"]
[null,null,null,null,"Address Line 2"]
[null,null,null,null,"City, State, Zip"]
[null,null,null,null,"Account Rep Name"]
[null,null,null,null,"Account Rep Phone"]
[null,null,null,null,"Account Rep E-mail"]
[]
[null,null,null,null,"Note: The following Office 365 plans include desktop application licenses, and are supported for   "]
[null,null,null,null,"Single Sign-On within the nFinity Workspace.  "]
[]
[null,null,null,"Product",null,null,null,null,null,"Response"]
[null,null,null,null,"Office 365 Suite Plans"]
[null,null,null,null,null,"Retail",null,null,null,"User Count"]
[null,null,null,null,null,"Midsize Business"]
[null,null,null,null,null,"Enterprise E3"]
[null,null,null,null,null,"Enterprise E4"]
[null,null,null,null,null,"Non-Profit",null,null,null,"User Count"]
[null,null,null,null,null,"Non-Profit E3"]
[null,null,null,null,null,"Government",null,null,null,"User Count"]
[null,null,null,null,null,"Government E3"]
[null,null,null,null,null,"Education",null,null,null,"User Count"]
[null,null,null,null,null,"Education A3"]
[null,null,null,null,null,"Education A4"]
[null,null,null,null,"Office 365 Standalone Plans",null,null,null,null,"User Count"]
[null,null,null,null,"Lync"]
[null,null,null,null,"Visio"]
[null,null,null,null,"Project"]
[]
[null,null,"nFinity Storage™"]
[]
[null,null,null,"Product",null,null,null,null,null,"Response",null,"Notes"]
[null,null,null,null,"Company Storage (I:\\ Drive)",null,null,null,null,"Quantity"]
[null,null,null,null,"Please select the amount of storage needed (in GB):"]
[null,null,null,null,"Personal Storage (H:\\ Drive)",null,null,null,null,"Yes/No"]
[null,null,null,null,"Do any users require more than the included 2 GB of storage?"]
[null,null,null,null,null,"Storage Options",null,null,null,"User Count"]
[null,null,null,null,null,"3 GB"]
[null,null,null,null,null,"4 GB"]
[null,null,null,null,null,"5 GB"]
[null,null,null,null,null,"6 GB"]
[null,null,null,null,null,"7 GB"]
[null,null,null,null,null,"8 GB"]
[null,null,null,null,null,"9 GB"]
[null,null,null,null,null,"10 GB"]
[null,null,null,null,null,"15 GB"]
[null,null,null,null,null,"20 GB"]
[null,null,null,null,null,"30 GB"]
[null,null,null,null,"nFinity Drive (ShareFile)",null,null,null,null,"Quantity"]
[null,null,null,null,"Please select the amount of storage needed (in GB):"]
[]
[null,null,"Data Transfer"]
[]
[null,null,null,"Product",null,null,null,null,null,"Response",null,"Notes"]
[null,null,null,null,"Data Migration",null,null,null,null,"Yes/No"]
[null,null,null,null,"Will the customer have at least 20 GB of existing data to migrate?"]
[null,null,null,null,null,"Physical Data Seeds",null,null,null,"Quantity"]
[null,null,null,null,null,"How many data seeds are needed? (2 TB capacity, separate seed(s) per location)"]
[null,null,null,null,null,"Note: Follow Data Seed Policy timelines to avoid an expedite fee"]
[]
[null,null,"Additional Services (REQUIRES APPROVAL)"]
[]
[null,null,null,"Product",null,null,null,null,"Approved By:","Quantity",null,"Notes"]
[null,null,null,null,"IP Address"]
[null,null,null,null,"Virtual Firewall Service"]
[null,null,null,null,"Load-Balancing Service"]
[null,null,null,null,"VPN connection"]
[null,null,null,null,"Monitoring Service"]
[null,null,null,null,"Professional Services - Tier I"]
[null,null,null,null,"Professional Services - Tier II"]
[null,null,null,null,"Scan to Cloud / sFTP"]
[null,null,null,null,"SMTP Relay"]
[null,null,null,null,"Additional Storage"]
[]
[null,null,"nFinity E-mail™"]
[]
[null,null,null,"Product",null,null,null,null,null,"Response",null,"Notes"]
[null,null,null,null,"Hosted Exchange"]
[null,null,null,null,null,"Web Mail",null,null,null,"User Count"]
[null,null,null,null,null,"1 GB"]
[null,null,null,null,null,"2 GB"]
[null,null,null,null,null,"3 GB"]
[null,null,null,null,null,"4 GB"]
[null,null,null,null,null,"5 GB"]
[null,null,null,null,null,"10 GB"]
[null,null,null,null,null,"Standard",null,null,null,"User Count"]
[null,null,null,null,null,"1 GB"]
[null,null,null,null,null,"2 GB"]
[null,null,null,null,null,"3 GB"]
[null,null,null,null,null,"4 GB"]
[null,null,null,null,null,"5 GB"]
[null,null,null,null,null,"10 GB"]
[null,null,null,null,null,"20 GB"]
[null,null,null,null,null,"Professional",null,null,null,"User Count"]
[null,null,null,null,null,"1 GB"]
[null,null,null,null,null,"2 GB"]
[null,null,null,null,null,"3 GB"]
[null,null,null,null,null,"4 GB"]
[null,null,null,null,null,"5 GB"]
[null,null,null,null,null,"10 GB"]
[null,null,null,null,null,"20 GB"]
[null,null,null,null,"Encryption",null,null,null,null,"User Count"]
[null,null,null,null,"Mail Encryption Service"]
[null,null,null,null,null,"E-Mail Domains",null,null,null,"Quantity"]
[null,null,null,null,null,"How many e-mail domains need encryption?"]
[null,null,null,null,"Archiving"]
[null,null,null,null,null,"Mail Archiving",null,null,null,"User Count"]
[null,null,null,null,null,"Basic (Archiving and eDiscovery)"]
[null,null,null,null,null,"Advanced (Basic features + Compliance)"]
[null,null,null,null,null,"Instant Message Archiving",null,null,null,"Yes/No"]
[null,null,null,null,null,"Archive for Instant Messaging (AOL, Lync, MSN, etc.)"]
[null,null,null,null,null,"Existing Mail Import",null,null,null,"Quantity"]
[null,null,null,null,null,"Historical Archive Import (per GB)"]

{"sheet":"App Questionnaire","index":5,"n_rows":46,"n_cols":6,"rows_kept":46,"cut":false,"hidden":true,"merged":[[2,4,2,5],[4,4,4,5],[5,4,5,5]]}
[]
[null,null,"App Questionnaire"]
[]
[]
[null,null,"Application #1 - "]
[null,null,null,null,"Application #1"]
[]
[null,null,null,null,null,"Notes"]
[null,"Discovery","App Info","App Order type?"]
[null,null,null,"Name?"]
[null,null,null,"Vendor?"]
[null,null,null,"Edition?"]
[null,null,null,"Version?"]
[null,null,null,"Projected user count?"]
[null,null,"Characteristics","App type?"]
[null,null,null,"App-specific storage (GB)?"]
[null,null,null,"Integrated applications?"]
[null,null,"Support","Client OS support?"]
[null,null,null,"Citrix/RDS/TS support?"]
[null,null,null,"Vendor support contract?"]
[null,null,"Common Gotchas","Extraordinary printing?"]
[null,null,null,"Extraordinary scanning?"]
[null,null,null,"VPN or external network?"]
[null,null,null,"Client-connected peripherals?"]
[null,null,null,"Graphically intensive?"]
[null,null,null,"E-mail or messaging platform?"]
[null,null,null,"Physical hardware requirement?"]
[null,null,"Server-Side Services","Which statement describes the services associated with this App?"]
[null,null,null,"Which services are specific to this App?"]
[null,null,null,"Which services of OTHER apps connect to this App?"]
[null,null,"Vendor","vCPU?"]
[null,null,"Recommendations - ","RAM?"]
[null,null,"Server (NOT Client)","Vol 1 (GB)?"]
[null,null,null,"Vol 2 (GB)?"]
[null,"Order Info","Licensing","Licensing type?"]
[null,null,null,"Enforcement model?"]
[null,null,null,"License key?"]
[null,null,null,"Activation key?"]
[null,null,null,"Product code?"]
[null,null,"Installation","Install media transfer method?"]
[null,null,null,"Install file download link?"]
[null,null,null,"Credentials to access install file?"]
[null,null,null,"Install documentation link?"]
[null,null,null,"Install language?"]
[]
[null,null,null,null,"SERVICE OF EXISTING APP - Specify in \"Notes\""]

{"sheet":"Server Questionnaire","index":6,"n_rows":30,"n_cols":10,"rows_kept":30,"cut":false,"hidden":true,"merged":[[11,5,11,8],[12,5,12,8],[2,4,2,9],[5,4,5,9],[7,4,7,8],[8,5,8,8],[10,5,10,8]]}
[]
[null,null,"Server Questionnaire"]
[]
[]
[null,null,"Server #1"]
[null,null,null,null,"Server #1"]
[]
[null,null,null,null,null,null,null,null,null,"Notes"]
[null,"Discovery","Server Info","Server Order Type?"]
[null,null,null,"Existing Server Name?"]
[null,null,null,"Which applications use this server?"]
[null,null,null,"Which services run on this server?"]
[null,null,null,"Server OS Support?"]
[null,null,"Design","Vendor Recommendation","Application","vCPU","RAM (GB)","Vol 1 (GB)","Vol 2 (GB)"]
[]
[]
[null,null,null,"Proposed Design","Server Package","vCPU","RAM (GB)","Vol 1 (GB)","Vol 2 (GB)"]
[]
[]
[null,null,null,null,"Total",{"$f":"IF(NOT(ISBLANK(F18)), SUM(F18:F19), \"\")","v":""},{"$f":"IF(NOT(ISBLANK(G18)), SUM(G18:G19), \"\")","v":""},{"$f":"IF(NOT(ISBLANK(H18)), SUM(H18:H19), \"\")","v":""},{"$f":"IF(NOT(ISBLANK(I18)), SUM(I18:I19), \"\")","v":""}]
[null,null,null,null,"Additional Volumes","Vol 3 (GB)","Vol 4 (GB)","Vol 5 (GB)","Vol 6 (GB)"]
[]
[null,null,null,"Existing Design","Server Package","vCPU","RAM (GB)","Vol 1 (GB)","Vol 2 (GB)"]
[]
[]
[null,null,null,null,"Total",{"$f":"IF(NOT(ISBLANK(F24)), SUM(F24:F25), \"\")","v":""},{"$f":"IF(NOT(ISBLANK(G24)), SUM(G24:G25), \"\")","v":""},{"$f":"IF(NOT(ISBLANK(H24)), SUM(H24:H25), \"\")","v":""},{"$f":"IF(NOT(ISBLANK(I24)), SUM(I24:I25), \"\")","v":""}]
[null,null,null,null,"Additional Volumes","Vol 3 (GB)","Vol 4 (GB)","Vol 5 (GB)","Vol 6 (GB)"]
[]
[]
[null,null,null,null,"SERVICE OF EXISTING APP - Specify in \"Notes\""]

{"sheet":"Summary - Manual","index":7,"n_rows":119,"n_cols":6,"rows_kept":119,"cut":false,"hidden":true,"merged":[]}
[]
[]
[null,null,null,"Order Summary"]
[]
[null,null,"Product","Per","Quantity","Notes"]
[null,null,"nFinity Quick Launch™","named user"]
[null,null,"nFinity Advanced Desktop™","named user"]
[null,null,"nFinity Advanced Desktop + Quick Launch","named user"]
[]
[null,null,"MS Office Standard","named user"]
[null,null,"MS Office Pro","named user"]
[null,null,"MS Visio Standard","named user"]
[null,null,"MS Visio Professional","named user"]
[null,null,"MS Visio Premium","named user"]
[null,null,"MS Project Standard","named user"]
[null,null,"MS Project Professional ","named user"]
[null,null,"MS SQL Standard - SAL","named user"]
[null,null,"MS SQL Enterprise - SAL","named user"]
[null,null,"QuickBooks Pro","named user"]
[null,null,"QuickBooks Premier","named user"]
[null,null,"Quickbooks Premier Accountant","named user"]
[null,null,"Quickbooks Hosting Fee","named user"]
[null,null,"Quickbooks Multi-user Mode","company"]
[]
[null,null,"Application Maintenance","app"]
[null,null,"Application Presentation","named user"]
[null,null,"Add-on/Plug-in - Client Side","plug-in"]
[null,null,"Add-on/Services - Server Side","service "]
[null,null,"Standard Server","server  "]
[null,null,"Professional Server","server"]
[null,null,"Enterprise Server","server"]
[]
[null,null,"Storage (1 GB)","each"]
[null,null,"Storage (10 GB)","bundle"]
[null,null,"Storage (20 GB)","bundle"]
[null,null,"Storage (50 GB)","bundle"]
[null,null,"Storage (100 GB)","bundle"]
[null,null,"Storage (200 GB)","bundle"]
[null,null,"Storage (500 GB)","bundle"]
[]
[null,null,"Hosted Exchange - web mail (1 GB)","mailbox"]
[null,null,"Hosted Exchange - web mail (2 GB)","mailbox"]
[null,null,"Hosted Exchange - web mail (3 GB)","mailbox"]
[null,null,"Hosted Exchange - web mail (4 GB)","mailbox"]
[null,null,"Hosted Exchange - web mail (5 GB)","mailbox"]
[null,null,"Hosted Exchange - Standard (1 GB)","mailbox"]
[null,null,"Hosted Exchange - Standard (2 GB)","mailbox"]
[null,null,"Hosted Exchange - Standard (3 GB)","mailbox"]
[null,null,"Hosted Exchange - Standard (4 GB)","mailbox"]
[null,null,"Hosted Exchange - Standard (5 GB)","mailbox"]
[null,null,"Hosted Exchange - Standard (10 GB)","mailbox"]
[null,null,"Hosted Exchange - Standard (20 GB)","mailbox"]
[null,null,"Hosted Exchange - Professional (1 GB)","mailbox"]
[null,null,"Hosted Exchange - Professional (2 GB)","mailbox"]
[null,null,"Hosted Exchange - Professional (3 GB)","mailbox"]
[null,null,"Hosted Exchange - Professional (4 GB)","mailbox"]
[null,null,"Hosted Exchange - Professional (5 GB) ","mailbox"]
[null,null,"Hosted Exchange - Professional (10 GB)","mailbox"]
[null,null,"Hosted Exchange - Professional (20 GB)","mailbox"]
[null,null,"Archiving Setup (0-100 users)","setup"]
[null,null,"Archiving Setup (101+ users)","setup"]
[null,null,"Archiving Retention (1 year/user)","mailbox"]
[null,null,"Archiving Retention (3 year/user)","mailbox"]
[null,null,"Archiving Retention (5 year/user)","mailbox"]
[null,null,"Archiving Retention (7 year/user)","mailbox"]
[null,null,"Archiving Compliance and Monitoring ","mailbox"]
[null,null,"Dedicated NOS WORM Storage Setup","Setup"]
[]
[null,null,"Private Standard Server","server"]
[null,null,"Private Professional Server","server"]
[null,null,"Private Enterprise Server","server"]
[null,null,"Private Custom Server","Custom"]
[null,null,"Private RAM (add-on)","each"]
[null,null,"Private vCPU (add-on)","each"]
[null,null,"Private IP Addresses","each"]
[null,null,"Private Dedicated Firewall Service","each"]
[null,null,"Private Load-Balancing Service","each"]
[null,null,"Private VPN Connections ","each"]
[null,null,"Private Monitoring Service","server"]
[null,null,"MS SQL Standard - SAL","named user"]
[null,null,"MS SQL Enterprise - SAL","named user"]
[null,null,"MS SQL Standard Server - Proc License","vCPU"]
[null,null,"MS SQL Enterprise Server - Proc License","vCPU"]
[]
[null,null,"Professional Services  per hour","hour"]
[null,null,"Physical Data Seed","data seed"]
[]
[null,null,"EDU - nFinity Browser™ ","named user"]
[null,null,"EDU - nFinity Basic Desktop™","named user"]
[null,null,"EDU - nFinity Quick Launch™","named user"]
[null,null,"EDU - nFinity Advanced Desktop™","named user"]
[null,null,"EDU - nFinity Advanced Desktop + Quick Launch","named user"]
[null,null,"EDU - MS Office Standard","named user"]
[null,null,"EDU - MS Office Pro","named user"]
[null,null,"EDU - MS Visio Professional","named user"]
[null,null,"EDU - MS Visio Premium","named user"]
[null,null,"EDU - MS Project Professional ","named user"]
[null,null,"EDU - MS SQL Standard","named user"]
[null,null,"EDU - MS SQL Enterprise","named user"]
[null,null,"EDU - MS SQL Standard - Proc","vCPU"]
[null,null,"EDU - MS SQL Enterprise - Proc","vCPU"]
[null,null,"EDU - Hosted Exchange - web mail (1 GB)","mailbox"]
[null,null,"EDU - Hosted Exchange - web mail (2 GB)","mailbox"]
[null,null,"EDU - Hosted Exchange - web mail (3 GB)","mailbox"]
[null,null,"EDU - Hosted Exchange - web mail (4 GB)","mailbox"]
[null,null,"EDU - Hosted Exchange - web mail (5 GB)","mailbox"]
[null,null,"EDU - Hosted Exchange - Standard (1 GB)","mailbox"]
[null,null,"EDU - Hosted Exchange - Standard (2 GB)","mailbox"]
[null,null,"EDU - Hosted Exchange - Standard (3 GB)","mailbox"]
[null,null,"EDU - Hosted Exchange - Standard (4 GB)","mailbox"]
[null,null,"EDU - Hosted Exchange - Standard (5 GB)","mailbox"]
[null,null,"EDU - Hosted Exchange - Professional (1 GB)","mailbox"]
[null,null,"EDU - Hosted Exchange - Professional (2 GB)","mailbox"]
[null,null,"EDU - Hosted Exchange - Professional (3 GB)","mailbox"]
[null,null,"EDU - Hosted Exchange - Professional (4 GB)","mailbox"]
[null,null,"EDU - Hosted Exchange - Professional (5 GB) ","mailbox"]
[]
[null,null,"Scan To Cloud","named user"]
[null,null,"SMTP Relay","connection"]

{"sheet":"Dropdown","index":8,"n_rows":645,"n_cols":23,"rows_kept":645,"cut":false,"hidden":true,"merged":[]}
["App Name","App Number","App Full-Name","Server Number","App Type","Client Operating System Support","Citrix/RDS/TS Support","Vendor Support Contract","Yes/No","Licensing Model","Licensing Enforcement Model","Install Media/File Type","Install Language","Pre-populated service types","Additional Services?","Add/Remove Service","Proposed Design","CPU","RAM","HDD ","HDD for App","Server OS Support","App Services"]
[{"$f":"IF(ISBLANK(INDEX('App Questionnaire'!$10:$10,1,2*(ROW(A1)-1)+COLUMN(AppHeaderCell) + 1)), \"\", (INDEX('App Questionnaire'!$10:$10,1,2*(ROW(A1)-1)+COLUMN(AppHeaderCell) + 1)))","v":""},{"$f":"IF(ISBLANK(INDEX('App Questionnaire'!$6:$6,1,2*(ROW(A1)-1)+COLUMN(AppHeaderCell) + 1)), \"\", (INDEX('App Questionnaire'!$6:$6,1,2*(ROW(A1)-1)+COLUMN(AppHeaderCell) + 1)))","v":"Application #1"},"MS Office - All Apps",{"$f":"IF(ISBLANK(INDEX('Server Questionnaire'!$6:$6,1,6*(ROW(A1)-1)+COLUMN(ServerHeaderCell) + 1)), \"\", (INDEX('Server Questionnaire'!$6:$6,1,6*(ROW(A1)-1)+COLUMN(ServerHeaderCell) + 1)))","v":"Server #1"},"Application - Client (No Server Needed)","Windows Server 2012 R2","Yes","Yes (Paid Support Contract)","Yes","Per Named User","License File","Shipment of Physical Media","English","Database - MS SQL 2008 Standard","Back-up","Add New Service",null,1,2,null,null,"Windows Server 2012 R2","This app DOES NOT connect to any services"]
[{"$f":"IF(ISBLANK(INDEX('App Questionnaire'!$10:$10,1,2*(ROW(A2)-1)+COLUMN(AppHeaderCell) + 1)), \"\", (INDEX('App Questionnaire'!$10:$10,1,2*(ROW(A2)-1)+COLUMN(AppHeaderCell) + 1)))","v":""},{"$f":"IF(ISBLANK(INDEX('App Questionnaire'!$6:$6,1,2*(ROW(A2)-1)+COLUMN(AppHeaderCell) + 1)), \"\", (INDEX('App Questionnaire'!$6:$6,1,2*(ROW(A2)-1)+COLUMN(AppHeaderCell) + 1)))","v":""},"MS Excel",{"$f":"IF(ISBLANK(INDEX('Server Questionnaire'!$6:$6,1,6*(ROW(A2)-1)+COLUMN(ServerHeaderCell) + 1)), \"\", (INDEX('Server Questionnaire'!$6:$6,1,6*(ROW(A2)-1)+COLUMN(ServerHeaderCell) + 1)))","v":""},"Application - Client/Storage (No Server Needed)","Windows Server 2008 R2","Not officially, but it works","N/A (Application is Free)","No","Per Named Device","License Server","Web Download","French","Database - MS SQL 2008 Enterprise","Business Logics","Remove Existing Service","Economy",2,4,20,5,"Windows Server 2008 R2","This app ONLY connects to its own service(s)"]
[{"$f":"IF(ISBLANK(INDEX('App Questionnaire'!$10:$10,1,2*(ROW(A3)-1)+COLUMN(AppHeaderCell) + 1)), \"\", (INDEX('App Questionnaire'!$10:$10,1,2*(ROW(A3)-1)+COLUMN(AppHeaderCell) + 1)))","v":""},{"$f":"IF(ISBLANK(INDEX('App Questionnaire'!$6:$6,1,2*(ROW(A3)-1)+COLUMN(AppHeaderCell) + 1)), \"\", (INDEX('App Questionnaire'!$6:$6,1,2*(ROW(A3)-1)+COLUMN(AppHeaderCell) + 1)))","v":""},"MS Outlook",{"$f":"IF(ISBLANK(INDEX('Server Questionnaire'!$6:$6,1,6*(ROW(A3)-1)+COLUMN(ServerHeaderCell) + 1)), \"\", (INDEX('Server Questionnaire'!$6:$6,1,6*(ROW(A3)-1)+COLUMN(ServerHeaderCell) + 1)))","v":""},"Application - Client/Server(s)","None of above, but Windows 8","No","No",null,"Concurrent User","Contacts Vendor via the WWW","SFTP (File Transfer)","German","Database - MS SQL 2008 Express","Database",null,"Standard",4,8,30,10,"Other - Specify in \"Notes\"","This app ONLY connects to the service(s) of ANOTHER app"]
[{"$f":"IF(ISBLANK(INDEX('App Questionnaire'!$10:$10,1,2*(ROW(A4)-1)+COLUMN(AppHeaderCell) + 1)), \"\", (INDEX('App Questionnaire'!$10:$10,1,2*(ROW(A4)-1)+COLUMN(AppHeaderCell) + 1)))","v":""},{"$f":"IF(ISBLANK(INDEX('App Questionnaire'!$6:$6,1,2*(ROW(A4)-1)+COLUMN(AppHeaderCell) + 1)), \"\", (INDEX('App Questionnaire'!$6:$6,1,2*(ROW(A4)-1)+COLUMN(AppHeaderCell) + 1)))","v":""},"MS Word",{"$f":"IF(ISBLANK(INDEX('Server Questionnaire'!$6:$6,1,6*(ROW(A4)-1)+COLUMN(ServerHeaderCell) + 1)), \"\", (INDEX('Server Questionnaire'!$6:$6,1,6*(ROW(A4)-1)+COLUMN(ServerHeaderCell) + 1)))","v":""},"Plug-in - Client","None of above, but Windows 7 - x64","Not sure",null,null,"Site Licensing","Physical Licensing Dongle","Other - Specify in \"Notes\"","Spanish","Web - IIS","Licensing",null,"Professional",6,12,40,15,null,"This app has its own service(s) AND connects to the service(s) of ANOTHER app"]
[{"$f":"IF(ISBLANK(INDEX('App Questionnaire'!$10:$10,1,2*(ROW(A5)-1)+COLUMN(AppHeaderCell) + 1)), \"\", (INDEX('App Questionnaire'!$10:$10,1,2*(ROW(A5)-1)+COLUMN(AppHeaderCell) + 1)))","v":""},{"$f":"IF(ISBLANK(INDEX('App Questionnaire'!$6:$6,1,2*(ROW(A5)-1)+COLUMN(AppHeaderCell) + 1)), \"\", (INDEX('App Questionnaire'!$6:$6,1,2*(ROW(A5)-1)+COLUMN(AppHeaderCell) + 1)))","v":""},"Internet Explorer",{"$f":"IF(ISBLANK(INDEX('Server Questionnaire'!$6:$6,1,6*(ROW(A5)-1)+COLUMN(ServerHeaderCell) + 1)), \"\", (INDEX('Server Questionnaire'!$6:$6,1,6*(ROW(A5)-1)+COLUMN(ServerHeaderCell) + 1)))","v":""},"Server-Side Application","None of above, but Windows 7 - x32",null,null,null,"No Licensing Required","Honor System",null,"Portuguese","- Add/Remove Custom Service -","Mail generation",null,"Enterprise",8,16,50,20]
[{"$f":"IF(ISBLANK(INDEX('App Questionnaire'!$10:$10,1,2*(ROW(A6)-1)+COLUMN(AppHeaderCell) + 1)), \"\", (INDEX('App Questionnaire'!$10:$10,1,2*(ROW(A6)-1)+COLUMN(AppHeaderCell) + 1)))","v":""},{"$f":"IF(ISBLANK(INDEX('App Questionnaire'!$6:$6,1,2*(ROW(A6)-1)+COLUMN(AppHeaderCell) + 1)), \"\", (INDEX('App Questionnaire'!$6:$6,1,2*(ROW(A6)-1)+COLUMN(AppHeaderCell) + 1)))","v":""},"Other - Specify in \"Notes\"",{"$f":"IF(ISBLANK(INDEX('Server Questionnaire'!$6:$6,1,6*(ROW(A6)-1)+COLUMN(ServerHeaderCell) + 1)), \"\", (INDEX('Server Questionnaire'!$6:$6,1,6*(ROW(A6)-1)+COLUMN(ServerHeaderCell) + 1)))","v":""},null,"None of above, but Windows Server 2003",null,null,null,"Other - Specify in \"Notes\"","No Licensing Required",null,"Japanese",null,"Reporting",null,null,null,null,60,30]
[{"$f":"IF(ISBLANK(INDEX('App Questionnaire'!$10:$10,1,2*(ROW(A7)-1)+COLUMN(AppHeaderCell) + 1)), \"\", (INDEX('App Questionnaire'!$10:$10,1,2*(ROW(A7)-1)+COLUMN(AppHeaderCell) + 1)))","v":""},{"$f":"IF(ISBLANK(INDEX('App Questionnaire'!$6:$6,1,2*(ROW(A7)-1)+COLUMN(AppHeaderCell) + 1)), \"\", (INDEX('App Questionnaire'!$6:$6,1,2*(ROW(A7)-1)+COLUMN(AppHeaderCell) + 1)))","v":""},"EXISTING APP(S) - Specify in \"Notes\"",{"$f":"IF(ISBLANK(INDEX('Server Questionnaire'!$6:$6,1,6*(ROW(A7)-1)+COLUMN(ServerHeaderCell) + 1)), \"\", (INDEX('Server Questionnaire'!$6:$6,1,6*(ROW(A7)-1)+COLUMN(ServerHeaderCell) + 1)))","v":""},null,"None of above, but Windows XP",null,null,null,null,"Other - Specify in \"Notes\"",null,"Other - Specify in \"Notes\"",null,"Synchronization",null,null,null,null,70,40]
[{"$f":"IF(ISBLANK(INDEX('App Questionnaire'!$10:$10,1,2*(ROW(A8)-1)+COLUMN(AppHeaderCell) + 1)), \"\", (INDEX('App Questionnaire'!$10:$10,1,2*(ROW(A8)-1)+COLUMN(AppHeaderCell) + 1)))","v":""},{"$f":"IF(ISBLANK(INDEX('App Questionnaire'!$6:$6,1,2*(ROW(A8)-1)+COLUMN(AppHeaderCell) + 1)), \"\", (INDEX('App Questionnaire'!$6:$6,1,2*(ROW(A8)-1)+COLUMN(AppHeaderCell) + 1)))","v":""},{"$f":" IF(B2 = \"\", \"\", B2 & \" - \" & A2)","v":"Application #1 - "},{"$f":"IF(ISBLANK(INDEX('Server Questionnaire'!$6:$6,1,6*(ROW(A8)-1)+COLUMN(ServerHeaderCell) + 1)), \"\", (INDEX('Server Questionnaire'!$6:$6,1,6*(ROW(A8)-1)+COLUMN(ServerHeaderCell) + 1)))","v":""},null,"Other - Specify in \"Notes\"",null,null,null,null,null,null,null,null,"Web",null,null,null,null,80,50]
[{"$f":"IF(ISBLANK(INDEX('App Questionnaire'!$10:$10,1,2*(ROW(A9)-1)+COLUMN(AppHeaderCell) + 1)), \"\", (INDEX('App Questionnaire'!$10:$10,1,2*(ROW(A9)-1)+COLUMN(AppHeaderCell) + 1)))","v":""},{"$f":"IF(ISBLANK(INDEX('App Questionnaire'!$6:$6,1,2*(ROW(A9)-1)+COLUMN(AppHeaderCell) + 1)), \"\", (INDEX('App Questionnaire'!$6:$6,1,2*(ROW(A9)-1)+COLUMN(AppHeaderCell) + 1)))","v":""},{"$f":" IF(B3 = \"\", \"\", B3 & \" - \" & A3)","v":""},{"$f":"IF(ISBLANK(INDEX('Server Questionnaire'!$6:$6,1,6*(ROW(A9)-1)+COLUMN(ServerHeaderCell) + 1)), \"\", (INDEX('Server Questionnaire'!$6:$6,1,6*(ROW(A9)-1)+COLUMN(ServerHeaderCell) + 1)))","v":""},null,null,null,null,null,null,null,null,null,null,"Other - Specify in \"Notes\"",null,null,null,null,90,60]
[{"$f":"IF(ISBLANK(INDEX('App Questionnaire'!$10:$10,1,2*(ROW(A10)-1)+COLUMN(AppHeaderCell) + 1)), \"\", (INDEX('App Questionnaire'!$10:$10,1,2*(ROW(A10)-1)+COLUMN(AppHeaderCell) + 1)))","v":""},{"$f":"IF(ISBLANK(INDEX('App Questionnaire'!$6:$6,1,2*(ROW(A10)-1)+COLUMN(AppHeaderCell) + 1)), \"\", (INDEX('App Questionnaire'!$6:$6,1,2*(ROW(A10)-1)+COLUMN(AppHeaderCell) + 1)))","v":""},{"$f":" IF(B4 = \"\", \"\", B4 & \" - \" & A4)","v":""},{"$f":"IF(ISBLANK(INDEX('Server Questionnaire'!$6:$6,1,6*(ROW(A10)-1)+COLUMN(ServerHeaderCell) + 1)), \"\", (INDEX('Server Questionnaire'!$6:$6,1,6*(ROW(A10)-1)+COLUMN(ServerHeaderCell) + 1)))","v":""},null,null,null,null,null,null,null,null,null,null,null,null,null,null,null,100,70]
[{"$f":"IF(ISBLANK(INDEX('App Questionnaire'!$10:$10,1,2*(ROW(A11)-1)+COLUMN(AppHeaderCell) + 1)), \"\", (INDEX('App Questionnaire'!$10:$10,1,2*(ROW(A11)-1)+COLUMN(AppHeaderCell) + 1)))","v":""},{"$f":"IF(ISBLANK(INDEX('App Questionnaire'!$6:$6,1,2*(ROW(A11)-1)+COLUMN(AppHeaderCell) + 1)), \"\", (INDEX('App Questionnaire'!$6:$6,1,2*(ROW(A11)-1)+COLUMN(AppHeaderCell) + 1)))","v":""},"",{"$f":"IF(ISBLANK(INDEX('Server Questionnaire'!$6:$6,1,6*(ROW(A11)-1)+COLUMN(ServerHeaderCell) + 1)), \"\", (INDEX('Server Questionnaire'!$6:$6,1,6*(ROW(A11)-1)+COLUMN(ServerHeaderCell) + 1)))","v":""},null,null,null,null,null,null,null,null,null,null,null,null,null,null,null,120,80]
[{"$f":"IF(ISBLANK(INDEX('App Questionnaire'!$10:$10,1,2*(ROW(A12)-1)+COLUMN(AppHeaderCell) + 1)), \"\", (INDEX('App Questionnaire'!$10:$10,1,2*(ROW(A12)-1)+COLUMN(AppHeaderCell) + 1)))","v":""},{"$f":"IF(ISBLANK(INDEX('App Questionnaire'!$6:$6,1,2*(ROW(A12)-1)+COLUMN(AppHeaderCell) + 1)), \"\", (INDEX('App Questionnaire'!$6:$6,1,2*(ROW(A12)-1)+COLUMN(AppHeaderCell) + 1)))","v":""},"",{"$f":"IF(ISBLANK(INDEX('Server Questionnaire'!$6:$6,1,6*(ROW(A12)-1)+COLUMN(ServerHeaderCell) + 1)), \"\", (INDEX('Server Questionnaire'!$6:$6,1,6*(ROW(A12)-1)+COLUMN(ServerHeaderCell) + 1)))","v":""},null,null,null,null,null,null,null,null,null,null,null,null,null,null,null,140,90]
[{"$f":"IF(ISBLANK(INDEX('App Questionnaire'!$10:$10,1,2*(ROW(A13)-1)+COLUMN(AppHeaderCell) + 1)), \"\", (INDEX('App Questionnaire'!$10:$10,1,2*(ROW(A13)-1)+COLUMN(AppHeaderCell) + 1)))","v":""},{"$f":"IF(ISBLANK(INDEX('App Questionnaire'!$6:$6,1,2*(ROW(A13)-1)+COLUMN(AppHeaderCell) + 1)), \"\", (INDEX('App Questionnaire'!$6:$6,1,2*(ROW(A13)-1)+COLUMN(AppHeaderCell) + 1)))","v":""},"",{"$f":"IF(ISBLANK(INDEX('Server Questionnaire'!$6:$6,1,6*(ROW(A13)-1)+COLUMN(ServerHeaderCell) + 1)), \"\", (INDEX('Server Questionnaire'!$6:$6,1,6*(ROW(A13)-1)+COLUMN(ServerHeaderCell) + 1)))","v":""},null,null,null,null,null,null,null,null,null,null,null,null,null,null,null,160,100]
[{"$f":"IF(ISBLANK(INDEX('App Questionnaire'!$10:$10,1,2*(ROW(A14)-1)+COLUMN(AppHeaderCell) + 1)), \"\", (INDEX('App Questionnaire'!$10:$10,1,2*(ROW(A14)-1)+COLUMN(AppHeaderCell) + 1)))","v":""},{"$f":"IF(ISBLANK(INDEX('App Questionnaire'!$6:$6,1,2*(ROW(A14)-1)+COLUMN(AppHeaderCell) + 1)), \"\", (INDEX('App Questionnaire'!$6:$6,1,2*(ROW(A14)-1)+COLUMN(AppHeaderCell) + 1)))","v":""},"",{"$f":"IF(ISBLANK(INDEX('Server Questionnaire'!$6:$6,1,6*(ROW(A14)-1)+COLUMN(ServerHeaderCell) + 1)), \"\", (INDEX('Server Questionnaire'!$6:$6,1,6*(ROW(A14)-1)+COLUMN(ServerHeaderCell) + 1)))","v":""},null,null,null,null,null,null,null,null,null,null,null,null,null,null,null,180,120]
[{"$f":"IF(ISBLANK(INDEX('App Questionnaire'!$10:$10,1,2*(ROW(A15)-1)+COLUMN(AppHeaderCell) + 1)), \"\", (INDEX('App Questionnaire'!$10:$10,1,2*(ROW(A15)-1)+COLUMN(AppHeaderCell) + 1)))","v":""},{"$f":"IF(ISBLANK(INDEX('App Questionnaire'!$6:$6,1,2*(ROW(A15)-1)+COLUMN(AppHeaderCell) + 1)), \"\", (INDEX('App Questionnaire'!$6:$6,1,2*(ROW(A15)-1)+COLUMN(AppHeaderCell) + 1)))","v":""},"",{"$f":"IF(ISBLANK(INDEX('Server Questionnaire'!$6:$6,1,6*(ROW(A15)-1)+COLUMN(ServerHeaderCell) + 1)), \"\", (INDEX('Server Questionnaire'!$6:$6,1,6*(ROW(A15)-1)+COLUMN(ServerHeaderCell) + 1)))","v":""},null,null,null,null,null,null,null,null,null,null,null,null,null,null,null,200,140]
[{"$f":"IF(ISBLANK(INDEX('App Questionnaire'!$10:$10,1,2*(ROW(A16)-1)+COLUMN(AppHeaderCell) + 1)), \"\", (INDEX('App Questionnaire'!$10:$10,1,2*(ROW(A16)-1)+COLUMN(AppHeaderCell) + 1)))","v":""},{"$f":"IF(ISBLANK(INDEX('App Questionnaire'!$6:$6,1,2*(ROW(A16)-1)+COLUMN(AppHeaderCell) + 1)), \"\", (INDEX('App Questionnaire'!$6:$6,1,2*(ROW(A16)-1)+COLUMN(AppHeaderCell) + 1)))","v":""},"",{"$f":"IF(ISBLANK(INDEX('Server Questionnaire'!$6:$6,1,6*(ROW(A16)-1)+COLUMN(ServerHeaderCell) + 1)), \"\", (INDEX('Server Questionnaire'!$6:$6,1,6*(ROW(A16)-1)+COLUMN(ServerHeaderCell) + 1)))","v":""},null,null,null,null,null,null,null,null,null,null,null,null,null,null,null,250,160]
[{"$f":"IF(ISBLANK(INDEX('App Questionnaire'!$10:$10,1,2*(ROW(A17)-1)+COLUMN(AppHeaderCell) + 1)), \"\", (INDEX('App Questionnaire'!$10:$10,1,2*(ROW(A17)-1)+COLUMN(AppHeaderCell) + 1)))","v":""},{"$f":"IF(ISBLANK(INDEX('App Questionnaire'!$6:$6,1,2*(ROW(A17)-1)+COLUMN(AppHeaderCell) + 1)), \"\", (INDEX('App Questionnaire'!$6:$6,1,2*(ROW(A17)-1)+COLUMN(AppHeaderCell) + 1)))","v":""},"",{"$f":"IF(ISBLANK(INDEX('Server Questionnaire'!$6:$6,1,6*(ROW(A17)-1)+COLUMN(ServerHeaderCell) + 1)), \"\", (INDEX('Server Questionnaire'!$6:$6,1,6*(ROW(A17)-1)+COLUMN(ServerHeaderCell) + 1)))","v":""},null,null,null,null,null,null,null,null,null,null,null,null,null,null,null,300,180]
[{"$f":"IF(ISBLANK(INDEX('App Questionnaire'!$10:$10,1,2*(ROW(A18)-1)+COLUMN(AppHeaderCell) + 1)), \"\", (INDEX('App Questionnaire'!$10:$10,1,2*(ROW(A18)-1)+COLUMN(AppHeaderCell) + 1)))","v":""},{"$f":"IF(ISBLANK(INDEX('App Questionnaire'!$6:$6,1,2*(ROW(A18)-1)+COLUMN(AppHeaderCell) + 1)), \"\", (INDEX('App Questionnaire'!$6:$6,1,2*(ROW(A18)-1)+COLUMN(AppHeaderCell) + 1)))","v":""},"",{"$f":"IF(ISBLANK(INDEX('Server Questionnaire'!$6:$6,1,6*(ROW(A18)-1)+COLUMN(ServerHeaderCell) + 1)), \"\", (INDEX('Server Questionnaire'!$6:$6,1,6*(ROW(A18)-1)+COLUMN(ServerHeaderCell) + 1)))","v":""},null,null,null,null,null,null,null,null,null,null,null,null,null,null,null,350,200]
[{"$f":"IF(ISBLANK(INDEX('App Questionnaire'!$10:$10,1,2*(ROW(A19)-1)+COLUMN(AppHeaderCell) + 1)), \"\", (INDEX('App Questionnaire'!$10:$10,1,2*(ROW(A19)-1)+COLUMN(AppHeaderCell) + 1)))","v":""},{"$f":"IF(ISBLANK(INDEX('App Questionnaire'!$6:$6,1,2*(ROW(A19)-1)+COLUMN(AppHeaderCell) + 1)), \"\", (INDEX('App Questionnaire'!$6:$6,1,2*(ROW(A19)-1)+COLUMN(AppHeaderCell) + 1)))","v":""},"",{"$f":"IF(ISBLANK(INDEX('Server Questionnaire'!$6:$6,1,6*(ROW(A19)-1)+COLUMN(ServerHeaderCell) + 1)), \"\", (INDEX('Server Questionnaire'!$6:$6,1,6*(ROW(A19)-1)+COLUMN(ServerHeaderCell) + 1)))","v":""},null,null,null,null,null,null,null,null,null,null,null,null,null,null,null,400,250]
[{"$f":"IF(ISBLANK(INDEX('App Questionnaire'!$10:$10,1,2*(ROW(A20)-1)+COLUMN(AppHeaderCell) + 1)), \"\", (INDEX('App Questionnaire'!$10:$10,1,2*(ROW(A20)-1)+COLUMN(AppHeaderCell) + 1)))","v":""},{"$f":"IF(ISBLANK(INDEX('App Questionnaire'!$6:$6,1,2*(ROW(A20)-1)+COLUMN(AppHeaderCell) + 1)), \"\", (INDEX('App Questionnaire'!$6:$6,1,2*(ROW(A20)-1)+COLUMN(AppHeaderCell) + 1)))","v":""},"",{"$f":"IF(ISBLANK(INDEX('Server Questionnaire'!$6:$6,1,6*(ROW(A20)-1)+COLUMN(ServerHeaderCell) + 1)), \"\", (INDEX('Server Questionnaire'!$6:$6,1,6*(ROW(A20)-1)+COLUMN(ServerHeaderCell) + 1)))","v":""},null,null,null,null,null,null,null,null,null,null,null,null,null,null,null,450,300]
[{"$f":"IF(ISBLANK(INDEX('App Questionnaire'!$10:$10,1,2*(ROW(A21)-1)+COLUMN(AppHeaderCell) + 1)), \"\", (INDEX('App Questionnaire'!$10:$10,1,2*(ROW(A21)-1)+COLUMN(AppHeaderCell) + 1)))","v":""},{"$f":"IF(ISBLANK(INDEX('App Questionnaire'!$6:$6,1,2*(ROW(A21)-1)+COLUMN(AppHeaderCell) + 1)), \"\", (INDEX('App Questionnaire'!$6:$6,1,2*(ROW(A21)-1)+COLUMN(AppHeaderCell) + 1)))","v":""},"",{"$f":"IF(ISBLANK(INDEX('Server Questionnaire'!$6:$6,1,6*(ROW(A21)-1)+COLUMN(ServerHeaderCell) + 1)), \"\", (INDEX('Server Questionnaire'!$6:$6,1,6*(ROW(A21)-1)+COLUMN(ServerHeaderCell) + 1)))","v":""},null,null,null,null,null,null,null,null,null,null,null,null,null,null,null,500,350]
[{"$f":"IF(ISBLANK(INDEX('App Questionnaire'!$10:$10,1,2*(ROW(A22)-1)+COLUMN(AppHeaderCell) + 1)), \"\", (INDEX('App Questionnaire'!$10:$10,1,2*(ROW(A22)-1)+COLUMN(AppHeaderCell) + 1)))","v":""},{"$f":"IF(ISBLANK(INDEX('App Questionnaire'!$6:$6,1,2*(ROW(A22)-1)+COLUMN(AppHeaderCell) + 1)), \"\", (INDEX('App Questionnaire'!$6:$6,1,2*(ROW(A22)-1)+COLUMN(AppHeaderCell) + 1)))","v":""},"",{"$f":"IF(ISBLANK(INDEX('Server Questionnaire'!$6:$6,1,6*(ROW(A22)-1)+COLUMN(ServerHeaderCell) + 1)), \"\", (INDEX('Server Questionnaire'!$6:$6,1,6*(ROW(A22)-1)+COLUMN(ServerHeaderCell) + 1)))","v":""},null,null,null,null,null,null,null,null,null,null,null,null,null,null,null,600,400]
[{"$f":"IF(ISBLANK(INDEX('App Questionnaire'!$10:$10,1,2*(ROW(A23)-1)+COLUMN(AppHeaderCell) + 1)), \"\", (INDEX('App Questionnaire'!$10:$10,1,2*(ROW(A23)-1)+COLUMN(AppHeaderCell) + 1)))","v":""},{"$f":"IF(ISBLANK(INDEX('App Questionnaire'!$6:$6,1,2*(ROW(A23)-1)+COLUMN(AppHeaderCell) + 1)), \"\", (INDEX('App Questionnaire'!$6:$6,1,2*(ROW(A23)-1)+COLUMN(AppHeaderCell) + 1)))","v":""},"",{"$f":"IF(ISBLANK(INDEX('Server Questionnaire'!$6:$6,1,6*(ROW(A23)-1)+COLUMN(ServerHeaderCell) + 1)), \"\", (INDEX('Server Questionnaire'!$6:$6,1,6*(ROW(A23)-1)+COLUMN(ServerHeaderCell) + 1)))","v":""},null,null,null,null,null,null,null,null,null,null,null,null,null,null,null,700,450]
[{"$f":"IF(ISBLANK(INDEX('App Questionnaire'!$10:$10,1,2*(ROW(A24)-1)+COLUMN(AppHeaderCell) + 1)), \"\", (INDEX('App Questionnaire'!$10:$10,1,2*(ROW(A24)-1)+COLUMN(AppHeaderCell) + 1)))","v":""},{"$f":"IF(ISBLANK(INDEX('App Questionnaire'!$6:$6,1,2*(ROW(A24)-1)+COLUMN(AppHeaderCell) + 1)), \"\", (INDEX('App Questionnaire'!$6:$6,1,2*(ROW(A24)-1)+COLUMN(AppHeaderCell) + 1)))","v":""},"",{"$f":"IF(ISBLANK(INDEX('Server Questionnaire'!$6:$6,1,6*(ROW(A24)-1)+COLUMN(ServerHeaderCell) + 1)), \"\", (INDEX('Server Questionnaire'!$6:$6,1,6*(ROW(A24)-1)+COLUMN(ServerHeaderCell) + 1)))","v":""},null,null,null,null,null,null,null,null,null,null,null,null,null,null,null,800,500]
[{"$f":"IF(ISBLANK(INDEX('App Questionnaire'!$10:$10,1,2*(ROW(A25)-1)+COLUMN(AppHeaderCell) + 1)), \"\", (INDEX('App Questionnaire'!$10:$10,1,2*(ROW(A25)-1)+COLUMN(AppHeaderCell) + 1)))","v":""},{"$f":"IF(ISBLANK(INDEX('App Questionnaire'!$6:$6,1,2*(ROW(A25)-1)+COLUMN(AppHeaderCell) + 1)), \"\", (INDEX('App Questionnaire'!$6:$6,1,2*(ROW(A25)-1)+COLUMN(AppHeaderCell) + 1)))","v":""},"",{"$f":"IF(ISBLANK(INDEX('Server Questionnaire'!$6:$6,1,6*(ROW(A25)-1)+COLUMN(ServerHeaderCell) + 1)), \"\", (INDEX('Server Questionnaire'!$6:$6,1,6*(ROW(A25)-1)+COLUMN(ServerHeaderCell) + 1)))","v":""},null,null,null,null,null,null,null,null,null,null,null,null,null,null,null,900,600]
[{"$f":"IF(ISBLANK(INDEX('App Questionnaire'!$10:$10,1,2*(ROW(A26)-1)+COLUMN(AppHeaderCell) + 1)), \"\", (INDEX('App Questionnaire'!$10:$10,1,2*(ROW(A26)-1)+COLUMN(AppHeaderCell) + 1)))","v":""},{"$f":"IF(ISBLANK(INDEX('App Questionnaire'!$6:$6,1,2*(ROW(A26)-1)+COLUMN(AppHeaderCell) + 1)), \"\", (INDEX('App Questionnaire'!$6:$6,1,2*(ROW(A26)-1)+COLUMN(AppHeaderCell) + 1)))","v":""},"",{"$f":"IF(ISBLANK(INDEX('Server Questionnaire'!$6:$6,1,6*(ROW(A26)-1)+COLUMN(ServerHeaderCell) + 1)), \"\", (INDEX('Server Questionnaire'!$6:$6,1,6*(ROW(A26)-1)+COLUMN(ServerHeaderCell) + 1)))","v":""},null,null,null,null,null,null,null,null,null,null,null,null,null,null,null,1000,700]
[{"$f":"IF(ISBLANK(INDEX('App Questionnaire'!$10:$10,1,2*(ROW(A27)-1)+COLUMN(AppHeaderCell) + 1)), \"\", (INDEX('App Questionnaire'!$10:$10,1,2*(ROW(A27)-1)+COLUMN(AppHeaderCell) + 1)))","v":""},{"$f":"IF(ISBLANK(INDEX('App Questionnaire'!$6:$6,1,2*(ROW(A27)-1)+COLUMN(AppHeaderCell) + 1)), \"\", (INDEX('App Questionnaire'!$6:$6,1,2*(ROW(A27)-1)+COLUMN(AppHeaderCell) + 1)))","v":""},"",{"$f":"IF(ISBLANK(INDEX('Server Questionnaire'!$6:$6,1,6*(ROW(A27)-1)+COLUMN(ServerHeaderCell) + 1)), \"\", (INDEX('Server Questionnaire'!$6:$6,1,6*(ROW(A27)-1)+COLUMN(ServerHeaderCell) + 1)))","v":""},null,null,null,null,null,null,null,null,null,null,null,null,null,null,null,1250,800]
[{"$f":"IF(ISBLANK(INDEX('App Questionnaire'!$10:$10,1,2*(ROW(A28)-1)+COLUMN(AppHeaderCell) + 1)), \"\", (INDEX('App Questionnaire'!$10:$10,1,2*(ROW(A28)-1)+COLUMN(AppHeaderCell) + 1)))","v":""},{"$f":"IF(ISBLANK(INDEX('App Questionnaire'!$6:$6,1,2*(ROW(A28)-1)+COLUMN(AppHeaderCell) + 1)), \"\", (INDEX('App Questionnaire'!$6:$6,1,2*(ROW(A28)-1)+COLUMN(AppHeaderCell) + 1)))","v":""},"",{"$f":"IF(ISBLANK(INDEX('Server Questionnaire'!$6:$6,1,6*(ROW(A28)-1)+COLUMN(ServerHeaderCell) + 1)), \"\", (INDEX('Server Questionnaire'!$6:$6,1,6*(ROW(A28)-1)+COLUMN(ServerHeaderCell) + 1)))","v":""},null,null,null,null,null,null,null,null,null,null,null,null,null,null,null,1500,900]
[{"$f":"IF(ISBLANK(INDEX('App Questionnaire'!$10:$10,1,2*(ROW(A29)-1)+COLUMN(AppHeaderCell) + 1)), \"\", (INDEX('App Questionnaire'!$10:$10,1,2*(ROW(A29)-1)+COLUMN(AppHeaderCell) + 1)))","v":""},{"$f":"IF(ISBLANK(INDEX('App Questionnaire'!$6:$6,1,2*(ROW(A29)-1)+COLUMN(AppHeaderCell) + 1)), \"\", (INDEX('App Questionnaire'!$6:$6,1,2*(ROW(A29)-1)+COLUMN(AppHeaderCell) + 1)))","v":""},"",{"$f":"IF(ISBLANK(INDEX('Server Questionnaire'!$6:$6,1,6*(ROW(A29)-1)+COLUMN(ServerHeaderCell) + 1)), \"\", (INDEX('Server Questionnaire'!$6:$6,1,6*(ROW(A29)-1)+COLUMN(ServerHeaderCell) + 1)))","v":""},null,null,null,null,null,null,null,null,null,null,null,null,null,null,null,1750,1000]
[{"$f":"IF(ISBLANK(INDEX('App Questionnaire'!$10:$10,1,2*(ROW(A30)-1)+COLUMN(AppHeaderCell) + 1)), \"\", (INDEX('App Questionnaire'!$10:$10,1,2*(ROW(A30)-1)+COLUMN(AppHeaderCell) + 1)))","v":""},{"$f":"IF(ISBLANK(INDEX('App Questionnaire'!$6:$6,1,2*(ROW(A30)-1)+COLUMN(AppHeaderCell) + 1)), \"\", (INDEX('App Questionnaire'!$6:$6,1,2*(ROW(A30)-1)+COLUMN(AppHeaderCell) + 1)))","v":""},"",{"$f":"IF(ISBLANK(INDEX('Server Questionnaire'!$6:$6,1,6*(ROW(A30)-1)+COLUMN(ServerHeaderCell) + 1)), \"\", (INDEX('Server Questionnaire'!$6:$6,1,6*(ROW(A30)-1)+COLUMN(ServerHeaderCell) + 1)))","v":""},null,null,null,null,null,null,null,null,null,null,null,null,null,null,null,2000,1250]
[{"$f":"IF(ISBLANK(INDEX('App Questionnaire'!$10:$10,1,2*(ROW(A31)-1)+COLUMN(AppHeaderCell) + 1)), \"\", (INDEX('App Questionnaire'!$10:$10,1,2*(ROW(A31)-1)+COLUMN(AppHeaderCell) + 1)))","v":""},{"$f":"IF(ISBLANK(INDEX('App Questionnaire'!$6:$6,1,2*(ROW(A31)-1)+COLUMN(AppHeaderCell) + 1)), \"\", (INDEX('App Questionnaire'!$6:$6,1,2*(ROW(A31)-1)+COLUMN(AppHeaderCell) + 1)))","v":""},"",{"$f":"IF(ISBLANK(INDEX('Server Questionnaire'!$6:$6,1,6*(ROW(A31)-1)+COLUMN(ServerHeaderCell) + 1)), \"\", (INDEX('Server Questionnaire'!$6:$6,1,6*(ROW(A31)-1)+COLUMN(ServerHeaderCell) + 1)))","v":""},null,null,null,null,null,null,null,null,null,null,null,null,null,null,null,null,1500]
[{"$f":"IF(ISBLANK(INDEX('App Questionnaire'!$10:$10,1,2*(ROW(A32)-1)+COLUMN(AppHeaderCell) + 1)), \"\", (INDEX('App Questionnaire'!$10:$10,1,2*(ROW(A32)-1)+COLUMN(AppHeaderCell) + 1)))","v":""},{"$f":"IF(ISBLANK(INDEX('App Questionnaire'!$6:$6,1,2*(ROW(A32)-1)+COLUMN(AppHeaderCell) + 1)), \"\", (INDEX('App Questionnaire'!$6:$6,1,2*(ROW(A32)-1)+COLUMN(AppHeaderCell) + 1)))","v":""},"",{"$f":"IF(ISBLANK(INDEX('Server Questionnaire'!$6:$6,1,6*(ROW(A32)-1)+COLUMN(ServerHeaderCell) + 1)), \"\", (INDEX('Server Questionnaire'!$6:$6,1,6*(ROW(A32)-1)+COLUMN(ServerHeaderCell) + 1)))","v":""},null,null,null,null,null,null,null,null,null,null,null,null,null,null,null,null,1750]
[{"$f":"IF(ISBLANK(INDEX('App Questionnaire'!$10:$10,1,2*(ROW(A33)-1)+COLUMN(AppHeaderCell) + 1)), \"\", (INDEX('App Questionnaire'!$10:$10,1,2*(ROW(A33)-1)+COLUMN(AppHeaderCell) + 1)))","v":""},{"$f":"IF(ISBLANK(INDEX('App Questionnaire'!$6:$6,1,2*(ROW(A33)-1)+COLUMN(AppHeaderCell) + 1)), \"\", (INDEX('App Questionnaire'!$6:$6,1,2*(ROW(A33)-1)+COLUMN(AppHeaderCell) + 1)))","v":""},"",{"$f":"IF(ISBLANK(INDEX('Server Questionnaire'!$6:$6,1,6*(ROW(A33)-1)+COLUMN(ServerHeaderCell) + 1)), \"\", (INDEX('Server Questionnaire'!$6:$6,1,6*(ROW(A33)-1)+COLUMN(ServerHeaderCell) + 1)))","v":""},null,null,null,null,null,null,null,null,null,null,null,null,null,null,null,null,2000]
[{"$f":"IF(ISBLANK(INDEX('App Questionnaire'!$10:$10,1,2*(ROW(A34)-1)+COLUMN(AppHeaderCell) + 1)), \"\", (INDEX('App Questionnaire'!$10:$10,1,2*(ROW(A34)-1)+COLUMN(AppHeaderCell) + 1)))","v":""},{"$f":"IF(ISBLANK(INDEX('App Questionnaire'!$6:$6,1,2*(ROW(A34)-1)+COLUMN(AppHeaderCell) + 1)), \"\", (INDEX('App Questionnaire'!$6:$6,1,2*(ROW(A34)-1)+COLUMN(AppHeaderCell) + 1)))","v":""},"",{"$f":"IF(ISBLANK(INDEX('Server Questionnaire'!$6:$6,1,6*(ROW(A34)-1)+COLUMN(ServerHeaderCell) + 1)), \"\", (INDEX('Server Questionnaire'!$6:$6,1,6*(ROW(A34)-1)+COLUMN(ServerHeaderCell) + 1)))","v":""}]
[{"$f":"IF(ISBLANK(INDEX('App Questionnaire'!$10:$10,1,2*(ROW(A35)-1)+COLUMN(AppHeaderCell) + 1)), \"\", (INDEX('App Questionnaire'!$10:$10,1,2*(ROW(A35)-1)+COLUMN(AppHeaderCell) + 1)))","v":""},{"$f":"IF(ISBLANK(INDEX('App Questionnaire'!$6:$6,1,2*(ROW(A35)-1)+COLUMN(AppHeaderCell) + 1)), \"\", (INDEX('App Questionnaire'!$6:$6,1,2*(ROW(A35)-1)+COLUMN(AppHeaderCell) + 1)))","v":""},"",{"$f":"IF(ISBLANK(INDEX('Server Questionnaire'!$6:$6,1,6*(ROW(A35)-1)+COLUMN(ServerHeaderCell) + 1)), \"\", (INDEX('Server Questionnaire'!$6:$6,1,6*(ROW(A35)-1)+COLUMN(ServerHeaderCell) + 1)))","v":""}]
[{"$f":"IF(ISBLANK(INDEX('App Questionnaire'!$10:$10,1,2*(ROW(A36)-1)+COLUMN(AppHeaderCell) + 1)), \"\", (INDEX('App Questionnaire'!$10:$10,1,2*(ROW(A36)-1)+COLUMN(AppHeaderCell) + 1)))","v":""},{"$f":"IF(ISBLANK(INDEX('App Questionnaire'!$6:$6,1,2*(ROW(A36)-1)+COLUMN(AppHeaderCell) + 1)), \"\", (INDEX('App Questionnaire'!$6:$6,1,2*(ROW(A36)-1)+COLUMN(AppHeaderCell) + 1)))","v":""},"",{"$f":"IF(ISBLANK(INDEX('Server Questionnaire'!$6:$6,1,6*(ROW(A36)-1)+COLUMN(ServerHeaderCell) + 1)), \"\", (INDEX('Server Questionnaire'!$6:$6,1,6*(ROW(A36)-1)+COLUMN(ServerHeaderCell) + 1)))","v":""}]
[{"$f":"IF(ISBLANK(INDEX('App Questionnaire'!$10:$10,1,2*(ROW(A37)-1)+COLUMN(AppHeaderCell) + 1)), \"\", (INDEX('App Questionnaire'!$10:$10,1,2*(ROW(A37)-1)+COLUMN(AppHeaderCell) + 1)))","v":""},{"$f":"IF(ISBLANK(INDEX('App Questionnaire'!$6:$6,1,2*(ROW(A37)-1)+COLUMN(AppHeaderCell) + 1)), \"\", (INDEX('App Questionnaire'!$6:$6,1,2*(ROW(A37)-1)+COLUMN(AppHeaderCell) + 1)))","v":""},"",{"$f":"IF(ISBLANK(INDEX('Server Questionnaire'!$6:$6,1,6*(ROW(A37)-1)+COLUMN(ServerHeaderCell) + 1)), \"\", (INDEX('Server Questionnaire'!$6:$6,1,6*(ROW(A37)-1)+COLUMN(ServerHeaderCell) + 1)))","v":""}]
[{"$f":"IF(ISBLANK(INDEX('App Questionnaire'!$10:$10,1,2*(ROW(A38)-1)+COLUMN(AppHeaderCell) + 1)), \"\", (INDEX('App Questionnaire'!$10:$10,1,2*(ROW(A38)-1)+COLUMN(AppHeaderCell) + 1)))","v":""},{"$f":"IF(ISBLANK(INDEX('App Questionnaire'!$6:$6,1,2*(ROW(A38)-1)+COLUMN(AppHeaderCell) + 1)), \"\", (INDEX('App Questionnaire'!$6:$6,1,2*(ROW(A38)-1)+COLUMN(AppHeaderCell) + 1)))","v":""},"",{"$f":"IF(ISBLANK(INDEX('Server Questionnaire'!$6:$6,1,6*(ROW(A38)-1)+COLUMN(ServerHeaderCell) + 1)), \"\", (INDEX('Server Questionnaire'!$6:$6,1,6*(ROW(A38)-1)+COLUMN(ServerHeaderCell) + 1)))","v":""}]
[{"$f":"IF(ISBLANK(INDEX('App Questionnaire'!$10:$10,1,2*(ROW(A39)-1)+COLUMN(AppHeaderCell) + 1)), \"\", (INDEX('App Questionnaire'!$10:$10,1,2*(ROW(A39)-1)+COLUMN(AppHeaderCell) + 1)))","v":""},{"$f":"IF(ISBLANK(INDEX('App Questionnaire'!$6:$6,1,2*(ROW(A39)-1)+COLUMN(AppHeaderCell) + 1)), \"\", (INDEX('App Questionnaire'!$6:$6,1,2*(ROW(A39)-1)+COLUMN(AppHeaderCell) + 1)))","v":""},"",{"$f":"IF(ISBLANK(INDEX('Server Questionnaire'!$6:$6,1,6*(ROW(A39)-1)+COLUMN(ServerHeaderCell) + 1)), \"\", (INDEX('Server Questionnaire'!$6:$6,1,6*(ROW(A39)-1)+COLUMN(ServerHeaderCell) + 1)))","v":""}]
[{"$f":"IF(ISBLANK(INDEX('App Questionnaire'!$10:$10,1,2*(ROW(A40)-1)+COLUMN(AppHeaderCell) + 1)), \"\", (INDEX('App Questionnaire'!$10:$10,1,2*(ROW(A40)-1)+COLUMN(AppHeaderCell) + 1)))","v":""},{"$f":"IF(ISBLANK(INDEX('App Questionnaire'!$6:$6,1,2*(ROW(A40)-1)+COLUMN(AppHeaderCell) + 1)), \"\", (INDEX('App Questionnaire'!$6:$6,1,2*(ROW(A40)-1)+COLUMN(AppHeaderCell) + 1)))","v":""},"",{"$f":"IF(ISBLANK(INDEX('Server Questionnaire'!$6:$6,1,6*(ROW(A40)-1)+COLUMN(ServerHeaderCell) + 1)), \"\", (INDEX('Server Questionnaire'!$6:$6,1,6*(ROW(A40)-1)+COLUMN(ServerHeaderCell) + 1)))","v":""}]
[{"$f":"IF(ISBLANK(INDEX('App Questionnaire'!$10:$10,1,2*(ROW(A41)-1)+COLUMN(AppHeaderCell) + 1)), \"\", (INDEX('App Questionnaire'!$10:$10,1,2*(ROW(A41)-1)+COLUMN(AppHeaderCell) + 1)))","v":""},{"$f":"IF(ISBLANK(INDEX('App Questionnaire'!$6:$6,1,2*(ROW(A41)-1)+COLUMN(AppHeaderCell) + 1)), \"\", (INDEX('App Questionnaire'!$6:$6,1,2*(ROW(A41)-1)+COLUMN(AppHeaderCell) + 1)))","v":""},"",{"$f":"IF(ISBLANK(INDEX('Server Questionnaire'!$6:$6,1,6*(ROW(A41)-1)+COLUMN(ServerHeaderCell) + 1)), \"\", (INDEX('Server Questionnaire'!$6:$6,1,6*(ROW(A41)-1)+COLUMN(ServerHeaderCell) + 1)))","v":""}]
[{"$f":"IF(ISBLANK(INDEX('App Questionnaire'!$10:$10,1,2*(ROW(A42)-1)+COLUMN(AppHeaderCell) + 1)), \"\", (INDEX('App Questionnaire'!$10:$10,1,2*(ROW(A42)-1)+COLUMN(AppHeaderCell) + 1)))","v":""},{"$f":"IF(ISBLANK(INDEX('App Questionnaire'!$6:$6,1,2*(ROW(A42)-1)+COLUMN(AppHeaderCell) + 1)), \"\", (INDEX('App Questionnaire'!$6:$6,1,2*(ROW(A42)-1)+COLUMN(AppHeaderCell) + 1)))","v":""},"",{"$f":"IF(ISBLANK(INDEX('Server Questionnaire'!$6:$6,1,6*(ROW(A42)-1)+COLUMN(ServerHeaderCell) + 1)), \"\", (INDEX('Server Questionnaire'!$6:$6,1,6*(ROW(A42)-1)+COLUMN(ServerHeaderCell) + 1)))","v":""}]
[{"$f":"IF(ISBLANK(INDEX('App Questionnaire'!$10:$10,1,2*(ROW(A43)-1)+COLUMN(AppHeaderCell) + 1)), \"\", (INDEX('App Questionnaire'!$10:$10,1,2*(ROW(A43)-1)+COLUMN(AppHeaderCell) + 1)))","v":""},{"$f":"IF(ISBLANK(INDEX('App Questionnaire'!$6:$6,1,2*(ROW(A43)-1)+COLUMN(AppHeaderCell) + 1)), \"\", (INDEX('App Questionnaire'!$6:$6,1,2*(ROW(A43)-1)+COLUMN(AppHeaderCell) + 1)))","v":""},"",{"$f":"IF(ISBLANK(INDEX('Server Questionnaire'!$6:$6,1,6*(ROW(A43)-1)+COLUMN(ServerHeaderCell) + 1)), \"\", (INDEX('Server Questionnaire'!$6:$6,1,6*(ROW(A43)-1)+COLUMN(ServerHeaderCell) + 1)))","v":""}]
[{"$f":"IF(ISBLANK(INDEX('App Questionnaire'!$10:$10,1,2*(ROW(A44)-1)+COLUMN(AppHeaderCell) + 1)), \"\", (INDEX('App Questionnaire'!$10:$10,1,2*(ROW(A44)-1)+COLUMN(AppHeaderCell) + 1)))","v":""},{"$f":"IF(ISBLANK(INDEX('App Questionnaire'!$6:$6,1,2*(ROW(A44)-1)+COLUMN(AppHeaderCell) + 1)), \"\", (INDEX('App Questionnaire'!$6:$6,1,2*(ROW(A44)-1)+COLUMN(AppHeaderCell) + 1)))","v":""},"",{"$f":"IF(ISBLANK(INDEX('Server Questionnaire'!$6:$6,1,6*(ROW(A44)-1)+COLUMN(ServerHeaderCell) + 1)), \"\", (INDEX('Server Questionnaire'!$6:$6,1,6*(ROW(A44)-1)+COLUMN(ServerHeaderCell) + 1)))","v":""}]
[{"$f":"IF(ISBLANK(INDEX('App Questionnaire'!$10:$10,1,2*(ROW(A45)-1)+COLUMN(AppHeaderCell) + 1)), \"\", (INDEX('App Questionnaire'!$10:$10,1,2*(ROW(A45)-1)+COLUMN(AppHeaderCell) + 1)))","v":""},{"$f":"IF(ISBLANK(INDEX('App Questionnaire'!$6:$6,1,2*(ROW(A45)-1)+COLUMN(AppHeaderCell) + 1)), \"\", (INDEX('App Questionnaire'!$6:$6,1,2*(ROW(A45)-1)+COLUMN(AppHeaderCell) + 1)))","v":""},"",{"$f":"IF(ISBLANK(INDEX('Server Questionnaire'!$6:$6,1,6*(ROW(A45)-1)+COLUMN(ServerHeaderCell) + 1)), \"\", (INDEX('Server Questionnaire'!$6:$6,1,6*(ROW(A45)-1)+COLUMN(ServerHeaderCell) + 1)))","v":""}]
[{"$f":"IF(ISBLANK(INDEX('App Questionnaire'!$10:$10,1,2*(ROW(A46)-1)+COLUMN(AppHeaderCell) + 1)), \"\", (INDEX('App Questionnaire'!$10:$10,1,2*(ROW(A46)-1)+COLUMN(AppHeaderCell) + 1)))","v":""},{"$f":"IF(ISBLANK(INDEX('App Questionnaire'!$6:$6,1,2*(ROW(A46)-1)+COLUMN(AppHeaderCell) + 1)), \"\", (INDEX('App Questionnaire'!$6:$6,1,2*(ROW(A46)-1)+COLUMN(AppHeaderCell) + 1)))","v":""},"",{"$f":"IF(ISBLANK(INDEX('Server Questionnaire'!$6:$6,1,6*(ROW(A46)-1)+COLUMN(ServerHeaderCell) + 1)), \"\", (INDEX('Server Questionnaire'!$6:$6,1,6*(ROW(A46)-1)+COLUMN(ServerHeaderCell) + 1)))","v":""}]
[{"$f":"IF(ISBLANK(INDEX('App Questionnaire'!$10:$10,1,2*(ROW(A47)-1)+COLUMN(AppHeaderCell) + 1)), \"\", (INDEX('App Questionnaire'!$10:$10,1,2*(ROW(A47)-1)+COLUMN(AppHeaderCell) + 1)))","v":""},{"$f":"IF(ISBLANK(INDEX('App Questionnaire'!$6:$6,1,2*(ROW(A47)-1)+COLUMN(AppHeaderCell) + 1)), \"\", (INDEX('App Questionnaire'!$6:$6,1,2*(ROW(A47)-1)+COLUMN(AppHeaderCell) + 1)))","v":""},"",{"$f":"IF(ISBLANK(INDEX('Server Questionnaire'!$6:$6,1,6*(ROW(A47)-1)+COLUMN(ServerHeaderCell) + 1)), \"\", (INDEX('Server Questionnaire'!$6:$6,1,6*(ROW(A47)-1)+COLUMN(ServerHeaderCell) + 1)))","v":""}]
[{"$f":"IF(ISBLANK(INDEX('App Questionnaire'!$10:$10,1,2*(ROW(A48)-1)+COLUMN(AppHeaderCell) + 1)), \"\", (INDEX('App Questionnaire'!$10:$10,1,2*(ROW(A48)-1)+COLUMN(AppHeaderCell) + 1)))","v":""},{"$f":"IF(ISBLANK(INDEX('App Questionnaire'!$6:$6,1,2*(ROW(A48)-1)+COLUMN(AppHeaderCell) + 1)), \"\", (INDEX('App Questionnaire'!$6:$6,1,2*(ROW(A48)-1)+COLUMN(AppHeaderCell) + 1)))","v":""},"",{"$f":"IF(ISBLANK(INDEX('Server Questionnaire'!$6:$6,1,6*(ROW(A48)-1)+COLUMN(ServerHeaderCell) + 1)), \"\", (INDEX('Server Questionnaire'!$6:$6,1,6*(ROW(A48)-1)+COLUMN(ServerHeaderCell) + 1)))","v":""}]
[{"$f":"IF(ISBLANK(INDEX('App Questionnaire'!$10:$10,1,2*(ROW(A49)-1)+COLUMN(AppHeaderCell) + 1)), \"\", (INDEX('App Questionnaire'!$10:$10,1,2*(ROW(A49)-1)+COLUMN(AppHeaderCell) + 1)))","v":""},{"$f":"IF(ISBLANK(INDEX('App Questionnaire'!$6:$6,1,2*(ROW(A49)-1)+COLUMN(AppHeaderCell) + 1)), \"\", (INDEX('App Questionnaire'!$6:$6,1,2*(ROW(A49)-1)+COLUMN(AppHeaderCell) + 1)))","v":""},"",{"$f":"IF(ISBLANK(INDEX('Server Questionnaire'!$6:$6,1,6*(ROW(A49)-1)+COLUMN(ServerHeaderCell) + 1)), \"\", (INDEX('Server Questionnaire'!$6:$6,1,6*(ROW(A49)-1)+COLUMN(ServerHeaderCell) + 1)))","v":""}]
[{"$f":"IF(ISBLANK(INDEX('App Questionnaire'!$10:$10,1,2*(ROW(A50)-1)+COLUMN(AppHeaderCell) + 1)), \"\", (INDEX('App Questionnaire'!$10:$10,1,2*(ROW(A50)-1)+COLUMN(AppHeaderCell) + 1)))","v":""},{"$f":"IF(ISBLANK(INDEX('App Questionnaire'!$6:$6,1,2*(ROW(A50)-1)+COLUMN(AppHeaderCell) + 1)), \"\", (INDEX('App Questionnaire'!$6:$6,1,2*(ROW(A50)-1)+COLUMN(AppHeaderCell) + 1)))","v":""},"",{"$f":"IF(ISBLANK(INDEX('Server Questionnaire'!$6:$6,1,6*(ROW(A50)-1)+COLUMN(ServerHeaderCell) + 1)), \"\", (INDEX('Server Questionnaire'!$6:$6,1,6*(ROW(A50)-1)+COLUMN(ServerHeaderCell) + 1)))","v":""}]
[{"$f":"IF(ISBLANK(INDEX('App Questionnaire'!$10:$10,1,2*(ROW(A51)-1)+COLUMN(AppHeaderCell) + 1)), \"\", (INDEX('App Questionnaire'!$10:$10,1,2*(ROW(A51)-1)+COLUMN(AppHeaderCell) + 1)))","v":""},{"$f":"IF(ISBLANK(INDEX('App Questionnaire'!$6:$6,1,2*(ROW(A51)-1)+COLUMN(AppHeaderCell) + 1)), \"\", (INDEX('App Questionnaire'!$6:$6,1,2*(ROW(A51)-1)+COLUMN(AppHeaderCell) + 1)))","v":""},"",{"$f":"IF(ISBLANK(INDEX('Server Questionnaire'!$6:$6,1,6*(ROW(A51)-1)+COLUMN(ServerHeaderCell) + 1)), \"\", (INDEX('Server Questionnaire'!$6:$6,1,6*(ROW(A51)-1)+COLUMN(ServerHeaderCell) + 1)))","v":""}]
[{"$f":"IF(ISBLANK(INDEX('App Questionnaire'!$10:$10,1,2*(ROW(A52)-1)+COLUMN(AppHeaderCell) + 1)), \"\", (INDEX('App Questionnaire'!$10:$10,1,2*(ROW(A52)-1)+COLUMN(AppHeaderCell) + 1)))","v":""},{"$f":"IF(ISBLANK(INDEX('App Questionnaire'!$6:$6,1,2*(ROW(A52)-1)+COLUMN(AppHeaderCell) + 1)), \"\", (INDEX('App Questionnaire'!$6:$6,1,2*(ROW(A52)-1)+COLUMN(AppHeaderCell) + 1)))","v":""},"",{"$f":"IF(ISBLANK(INDEX('Server Questionnaire'!$6:$6,1,6*(ROW(A52)-1)+COLUMN(ServerHeaderCell) + 1)), \"\", (INDEX('Server Questionnaire'!$6:$6,1,6*(ROW(A52)-1)+COLUMN(ServerHeaderCell) + 1)))","v":""}]
[{"$f":"IF(ISBLANK(INDEX('App Questionnaire'!$10:$10,1,2*(ROW(A53)-1)+COLUMN(AppHeaderCell) + 1)), \"\", (INDEX('App Questionnaire'!$10:$10,1,2*(ROW(A53)-1)+COLUMN(AppHeaderCell) + 1)))","v":""},{"$f":"IF(ISBLANK(INDEX('App Questionnaire'!$6:$6,1,2*(ROW(A53)-1)+COLUMN(AppHeaderCell) + 1)), \"\", (INDEX('App Questionnaire'!$6:$6,1,2*(ROW(A53)-1)+COLUMN(AppHeaderCell) + 1)))","v":""},"",{"$f":"IF(ISBLANK(INDEX('Server Questionnaire'!$6:$6,1,6*(ROW(A53)-1)+COLUMN(ServerHeaderCell) + 1)), \"\", (INDEX('Server Questionnaire'!$6:$6,1,6*(ROW(A53)-1)+COLUMN(ServerHeaderCell) + 1)))","v":""}]
[{"$f":"IF(ISBLANK(INDEX('App Questionnaire'!$10:$10,1,2*(ROW(A54)-1)+COLUMN(AppHeaderCell) + 1)), \"\", (INDEX('App Questionnaire'!$10:$10,1,2*(ROW(A54)-1)+COLUMN(AppHeaderCell) + 1)))","v":""},{"$f":"IF(ISBLANK(INDEX('App Questionnaire'!$6:$6,1,2*(ROW(A54)-1)+COLUMN(AppHeaderCell) + 1)), \"\", (INDEX('App Questionnaire'!$6:$6,1,2*(ROW(A54)-1)+COLUMN(AppHeaderCell) + 1)))","v":""},"",{"$f":"IF(ISBLANK(INDEX('Server Questionnaire'!$6:$6,1,6*(ROW(A54)-1)+COLUMN(ServerHeaderCell) + 1)), \"\", (INDEX('Server Questionnaire'!$6:$6,1,6*(ROW(A54)-1)+COLUMN(ServerHeaderCell) + 1)))","v":""}]
[{"$f":"IF(ISBLANK(INDEX('App Questionnaire'!$10:$10,1,2*(ROW(A55)-1)+COLUMN(AppHeaderCell) + 1)), \"\", (INDEX('App Questionnaire'!$10:$10,1,2*(ROW(A55)-1)+COLUMN(AppHeaderCell) + 1)))","v":""},{"$f":"IF(ISBLANK(INDEX('App Questionnaire'!$6:$6,1,2*(ROW(A55)-1)+COLUMN(AppHeaderCell) + 1)), \"\", (INDEX('App Questionnaire'!$6:$6,1,2*(ROW(A55)-1)+COLUMN(AppHeaderCell) + 1)))","v":""},"",{"$f":"IF(ISBLANK(INDEX('Server Questionnaire'!$6:$6,1,6*(ROW(A55)-1)+COLUMN(ServerHeaderCell) + 1)), \"\", (INDEX('Server Questionnaire'!$6:$6,1,6*(ROW(A55)-1)+COLUMN(ServerHeaderCell) + 1)))","v":""}]
[{"$f":"IF(ISBLANK(INDEX('App Questionnaire'!$10:$10,1,2*(ROW(A56)-1)+COLUMN(AppHeaderCell) + 1)), \"\", (INDEX('App Questionnaire'!$10:$10,1,2*(ROW(A56)-1)+COLUMN(AppHeaderCell) + 1)))","v":""},{"$f":"IF(ISBLANK(INDEX('App Questionnaire'!$6:$6,1,2*(ROW(A56)-1)+COLUMN(AppHeaderCell) + 1)), \"\", (INDEX('App Questionnaire'!$6:$6,1,2*(ROW(A56)-1)+COLUMN(AppHeaderCell) + 1)))","v":""},"",{"$f":"IF(ISBLANK(INDEX('Server Questionnaire'!$6:$6,1,6*(ROW(A56)-1)+COLUMN(ServerHeaderCell) + 1)), \"\", (INDEX('Server Questionnaire'!$6:$6,1,6*(ROW(A56)-1)+COLUMN(ServerHeaderCell) + 1)))","v":""}]
[{"$f":"IF(ISBLANK(INDEX('App Questionnaire'!$10:$10,1,2*(ROW(A57)-1)+COLUMN(AppHeaderCell) + 1)), \"\", (INDEX('App Questionnaire'!$10:$10,1,2*(ROW(A57)-1)+COLUMN(AppHeaderCell) + 1)))","v":""},{"$f":"IF(ISBLANK(INDEX('App Questionnaire'!$6:$6,1,2*(ROW(A57)-1)+COLUMN(AppHeaderCell) + 1)), \"\", (INDEX('App Questionnaire'!$6:$6,1,2*(ROW(A57)-1)+COLUMN(AppHeaderCell) + 1)))","v":""},"",{"$f":"IF(ISBLANK(INDEX('Server Questionnaire'!$6:$6,1,6*(ROW(A57)-1)+COLUMN(ServerHeaderCell) + 1)), \"\", (INDEX('Server Questionnaire'!$6:$6,1,6*(ROW(A57)-1)+COLUMN(ServerHeaderCell) + 1)))","v":""}]
[{"$f":"IF(ISBLANK(INDEX('App Questionnaire'!$10:$10,1,2*(ROW(A58)-1)+COLUMN(AppHeaderCell) + 1)), \"\", (INDEX('App Questionnaire'!$10:$10,1,2*(ROW(A58)-1)+COLUMN(AppHeaderCell) + 1)))","v":""},{"$f":"IF(ISBLANK(INDEX('App Questionnaire'!$6:$6,1,2*(ROW(A58)-1)+COLUMN(AppHeaderCell) + 1)), \"\", (INDEX('App Questionnaire'!$6:$6,1,2*(ROW(A58)-1)+COLUMN(AppHeaderCell) + 1)))","v":""},"",{"$f":"IF(ISBLANK(INDEX('Server Questionnaire'!$6:$6,1,6*(ROW(A58)-1)+COLUMN(ServerHeaderCell) + 1)), \"\", (INDEX('Server Questionnaire'!$6:$6,1,6*(ROW(A58)-1)+COLUMN(ServerHeaderCell) + 1)))","v":""}]
[{"$f":"IF(ISBLANK(INDEX('App Questionnaire'!$10:$10,1,2*(ROW(A59)-1)+COLUMN(AppHeaderCell) + 1)), \"\", (INDEX('App Questionnaire'!$10:$10,1,2*(ROW(A59)-1)+COLUMN(AppHeaderCell) + 1)))","v":""},{"$f":"IF(ISBLANK(INDEX('App Questionnaire'!$6:$6,1,2*(ROW(A59)-1)+COLUMN(AppHeaderCell) + 1)), \"\", (INDEX('App Questionnaire'!$6:$6,1,2*(ROW(A59)-1)+COLUMN(AppHeaderCell) + 1)))","v":""},"",{"$f":"IF(ISBLANK(INDEX('Server Questionnaire'!$6:$6,1,6*(ROW(A59)-1)+COLUMN(ServerHeaderCell) + 1)), \"\", (INDEX('Server Questionnaire'!$6:$6,1,6*(ROW(A59)-1)+COLUMN(ServerHeaderCell) + 1)))","v":""}]
[{"$f":"IF(ISBLANK(INDEX('App Questionnaire'!$10:$10,1,2*(ROW(A60)-1)+COLUMN(AppHeaderCell) + 1)), \"\", (INDEX('App Questionnaire'!$10:$10,1,2*(ROW(A60)-1)+COLUMN(AppHeaderCell) + 1)))","v":""},{"$f":"IF(ISBLANK(INDEX('App Questionnaire'!$6:$6,1,2*(ROW(A60)-1)+COLUMN(AppHeaderCell) + 1)), \"\", (INDEX('App Questionnaire'!$6:$6,1,2*(ROW(A60)-1)+COLUMN(AppHeaderCell) + 1)))","v":""},"",{"$f":"IF(ISBLANK(INDEX('Server Questionnaire'!$6:$6,1,6*(ROW(A60)-1)+COLUMN(ServerHeaderCell) + 1)), \"\", (INDEX('Server Questionnaire'!$6:$6,1,6*(ROW(A60)-1)+COLUMN(ServerHeaderCell) + 1)))","v":""}]
[{"$f":"IF(ISBLANK(INDEX('App Questionnaire'!$10:$10,1,2*(ROW(A61)-1)+COLUMN(AppHeaderCell) + 1)), \"\", (INDEX('App Questionnaire'!$10:$10,1,2*(ROW(A61)-1)+COLUMN(AppHeaderCell) + 1)))","v":""},{"$f":"IF(ISBLANK(INDEX('App Questionnaire'!$6:$6,1,2*(ROW(A61)-1)+COLUMN(AppHeaderCell) + 1)), \"\", (INDEX('App Questionnaire'!$6:$6,1,2*(ROW(A61)-1)+COLUMN(AppHeaderCell) + 1)))","v":""},"",{"$f":"IF(ISBLANK(INDEX('Server Questionnaire'!$6:$6,1,6*(ROW(A61)-1)+COLUMN(ServerHeaderCell) + 1)), \"\", (INDEX('Server Questionnaire'!$6:$6,1,6*(ROW(A61)-1)+COLUMN(ServerHeaderCell) + 1)))","v":""}]
[{"$f":"IF(ISBLANK(INDEX('App Questionnaire'!$10:$10,1,2*(ROW(A62)-1)+COLUMN(AppHeaderCell) + 1)), \"\", (INDEX('App Questionnaire'!$10:$10,1,2*(ROW(A62)-1)+COLUMN(AppHeaderCell) + 1)))","v":""},{"$f":"IF(ISBLANK(INDEX('App Questionnaire'!$6:$6,1,2*(ROW(A62)-1)+COLUMN(AppHeaderCell) + 1)), \"\", (INDEX('App Questionnaire'!$6:$6,1,2*(ROW(A62)-1)+COLUMN(AppHeaderCell) + 1)))","v":""},"",{"$f":"IF(ISBLANK(INDEX('Server Questionnaire'!$6:$6,1,6*(ROW(A62)-1)+COLUMN(ServerHeaderCell) + 1)), \"\", (INDEX('Server Questionnaire'!$6:$6,1,6*(ROW(A62)-1)+COLUMN(ServerHeaderCell) + 1)))","v":""}]
[{"$f":"IF(ISBLANK(INDEX('App Questionnaire'!$10:$10,1,2*(ROW(A63)-1)+COLUMN(AppHeaderCell) + 1)), \"\", (INDEX('App Questionnaire'!$10:$10,1,2*(ROW(A63)-1)+COLUMN(AppHeaderCell) + 1)))","v":""},{"$f":"IF(ISBLANK(INDEX('App Questionnaire'!$6:$6,1,2*(ROW(A63)-1)+COLUMN(AppHeaderCell) + 1)), \"\", (INDEX('App Questionnaire'!$6:$6,1,2*(ROW(A63)-1)+COLUMN(AppHeaderCell) + 1)))","v":""},"",{"$f":"IF(ISBLANK(INDEX('Server Questionnaire'!$6:$6,1,6*(ROW(A63)-1)+COLUMN(ServerHeaderCell) + 1)), \"\", (INDEX('Server Questionnaire'!$6:$6,1,6*(ROW(A63)-1)+COLUMN(ServerHeaderCell) + 1)))","v":""}]
[{"$f":"IF(ISBLANK(INDEX('App Questionnaire'!$10:$10,1,2*(ROW(A64)-1)+COLUMN(AppHeaderCell) + 1)), \"\", (INDEX('App Questionnaire'!$10:$10,1,2*(ROW(A64)-1)+COLUMN(AppHeaderCell) + 1)))","v":""},{"$f":"IF(ISBLANK(INDEX('App Questionnaire'!$6:$6,1,2*(ROW(A64)-1)+COLUMN(AppHeaderCell) + 1)), \"\", (INDEX('App Questionnaire'!$6:$6,1,2*(ROW(A64)-1)+COLUMN(AppHeaderCell) + 1)))","v":""},"",{"$f":"IF(ISBLANK(INDEX('Server Questionnaire'!$6:$6,1,6*(ROW(A64)-1)+COLUMN(ServerHeaderCell) + 1)), \"\", (INDEX('Server Questionnaire'!$6:$6,1,6*(ROW(A64)-1)+COLUMN(ServerHeaderCell) + 1)))","v":""}]
[{"$f":"IF(ISBLANK(INDEX('App Questionnaire'!$10:$10,1,2*(ROW(A65)-1)+COLUMN(AppHeaderCell) + 1)), \"\", (INDEX('App Questionnaire'!$10:$10,1,2*(ROW(A65)-1)+COLUMN(AppHeaderCell) + 1)))","v":""},{"$f":"IF(ISBLANK(INDEX('App Questionnaire'!$6:$6,1,2*(ROW(A65)-1)+COLUMN(AppHeaderCell) + 1)), \"\", (INDEX('App Questionnaire'!$6:$6,1,2*(ROW(A65)-1)+COLUMN(AppHeaderCell) + 1)))","v":""},"",{"$f":"IF(ISBLANK(INDEX('Server Questionnaire'!$6:$6,1,6*(ROW(A65)-1)+COLUMN(ServerHeaderCell) + 1)), \"\", (INDEX('Server Questionnaire'!$6:$6,1,6*(ROW(A65)-1)+COLUMN(ServerHeaderCell) + 1)))","v":""}]
[{"$f":"IF(ISBLANK(INDEX('App Questionnaire'!$10:$10,1,2*(ROW(A66)-1)+COLUMN(AppHeaderCell) + 1)), \"\", (INDEX('App Questionnaire'!$10:$10,1,2*(ROW(A66)-1)+COLUMN(AppHeaderCell) + 1)))","v":""},{"$f":"IF(ISBLANK(INDEX('App Questionnaire'!$6:$6,1,2*(ROW(A66)-1)+COLUMN(AppHeaderCell) + 1)), \"\", (INDEX('App Questionnaire'!$6:$6,1,2*(ROW(A66)-1)+COLUMN(AppHeaderCell) + 1)))","v":""},"",{"$f":"IF(ISBLANK(INDEX('Server Questionnaire'!$6:$6,1,6*(ROW(A66)-1)+COLUMN(ServerHeaderCell) + 1)), \"\", (INDEX('Server Questionnaire'!$6:$6,1,6*(ROW(A66)-1)+COLUMN(ServerHeaderCell) + 1)))","v":""}]
[{"$f":"IF(ISBLANK(INDEX('App Questionnaire'!$10:$10,1,2*(ROW(A67)-1)+COLUMN(AppHeaderCell) + 1)), \"\", (INDEX('App Questionnaire'!$10:$10,1,2*(ROW(A67)-1)+COLUMN(AppHeaderCell) + 1)))","v":""},{"$f":"IF(ISBLANK(INDEX('App Questionnaire'!$6:$6,1,2*(ROW(A67)-1)+COLUMN(AppHeaderCell) + 1)), \"\", (INDEX('App Questionnaire'!$6:$6,1,2*(ROW(A67)-1)+COLUMN(AppHeaderCell) + 1)))","v":""},"",{"$f":"IF(ISBLANK(INDEX('Server Questionnaire'!$6:$6,1,6*(ROW(A67)-1)+COLUMN(ServerHeaderCell) + 1)), \"\", (INDEX('Server Questionnaire'!$6:$6,1,6*(ROW(A67)-1)+COLUMN(ServerHeaderCell) + 1)))","v":""}]
[{"$f":"IF(ISBLANK(INDEX('App Questionnaire'!$10:$10,1,2*(ROW(A68)-1)+COLUMN(AppHeaderCell) + 1)), \"\", (INDEX('App Questionnaire'!$10:$10,1,2*(ROW(A68)-1)+COLUMN(AppHeaderCell) + 1)))","v":""},{"$f":"IF(ISBLANK(INDEX('App Questionnaire'!$6:$6,1,2*(ROW(A68)-1)+COLUMN(AppHeaderCell) + 1)), \"\", (INDEX('App Questionnaire'!$6:$6,1,2*(ROW(A68)-1)+COLUMN(AppHeaderCell) + 1)))","v":""},"",{"$f":"IF(ISBLANK(INDEX('Server Questionnaire'!$6:$6,1,6*(ROW(A68)-1)+COLUMN(ServerHeaderCell) + 1)), \"\", (INDEX('Server Questionnaire'!$6:$6,1,6*(ROW(A68)-1)+COLUMN(ServerHeaderCell) + 1)))","v":""}]
[{"$f":"IF(ISBLANK(INDEX('App Questionnaire'!$10:$10,1,2*(ROW(A69)-1)+COLUMN(AppHeaderCell) + 1)), \"\", (INDEX('App Questionnaire'!$10:$10,1,2*(ROW(A69)-1)+COLUMN(AppHeaderCell) + 1)))","v":""},{"$f":"IF(ISBLANK(INDEX('App Questionnaire'!$6:$6,1,2*(ROW(A69)-1)+COLUMN(AppHeaderCell) + 1)), \"\", (INDEX('App Questionnaire'!$6:$6,1,2*(ROW(A69)-1)+COLUMN(AppHeaderCell) + 1)))","v":""},"",{"$f":"IF(ISBLANK(INDEX('Server Questionnaire'!$6:$6,1,6*(ROW(A69)-1)+COLUMN(ServerHeaderCell) + 1)), \"\", (INDEX('Server Questionnaire'!$6:$6,1,6*(ROW(A69)-1)+COLUMN(ServerHeaderCell) + 1)))","v":""}]
[{"$f":"IF(ISBLANK(INDEX('App Questionnaire'!$10:$10,1,2*(ROW(A70)-1)+COLUMN(AppHeaderCell) + 1)), \"\", (INDEX('App Questionnaire'!$10:$10,1,2*(ROW(A70)-1)+COLUMN(AppHeaderCell) + 1)))","v":""},{"$f":"IF(ISBLANK(INDEX('App Questionnaire'!$6:$6,1,2*(ROW(A70)-1)+COLUMN(AppHeaderCell) + 1)), \"\", (INDEX('App Questionnaire'!$6:$6,1,2*(ROW(A70)-1)+COLUMN(AppHeaderCell) + 1)))","v":""},"",{"$f":"IF(ISBLANK(INDEX('Server Questionnaire'!$6:$6,1,6*(ROW(A70)-1)+COLUMN(ServerHeaderCell) + 1)), \"\", (INDEX('Server Questionnaire'!$6:$6,1,6*(ROW(A70)-1)+COLUMN(ServerHeaderCell) + 1)))","v":""}]
[{"$f":"IF(ISBLANK(INDEX('App Questionnaire'!$10:$10,1,2*(ROW(A71)-1)+COLUMN(AppHeaderCell) + 1)), \"\", (INDEX('App Questionnaire'!$10:$10,1,2*(ROW(A71)-1)+COLUMN(AppHeaderCell) + 1)))","v":""},{"$f":"IF(ISBLANK(INDEX('App Questionnaire'!$6:$6,1,2*(ROW(A71)-1)+COLUMN(AppHeaderCell) + 1)), \"\", (INDEX('App Questionnaire'!$6:$6,1,2*(ROW(A71)-1)+COLUMN(AppHeaderCell) + 1)))","v":""},"",{"$f":"IF(ISBLANK(INDEX('Server Questionnaire'!$6:$6,1,6*(ROW(A71)-1)+COLUMN(ServerHeaderCell) + 1)), \"\", (INDEX('Server Questionnaire'!$6:$6,1,6*(ROW(A71)-1)+COLUMN(ServerHeaderCell) + 1)))","v":""}]
[{"$f":"IF(ISBLANK(INDEX('App Questionnaire'!$10:$10,1,2*(ROW(A72)-1)+COLUMN(AppHeaderCell) + 1)), \"\", (INDEX('App Questionnaire'!$10:$10,1,2*(ROW(A72)-1)+COLUMN(AppHeaderCell) + 1)))","v":""},{"$f":"IF(ISBLANK(INDEX('App Questionnaire'!$6:$6,1,2*(ROW(A72)-1)+COLUMN(AppHeaderCell) + 1)), \"\", (INDEX('App Questionnaire'!$6:$6,1,2*(ROW(A72)-1)+COLUMN(AppHeaderCell) + 1)))","v":""},"",{"$f":"IF(ISBLANK(INDEX('Server Questionnaire'!$6:$6,1,6*(ROW(A72)-1)+COLUMN(ServerHeaderCell) + 1)), \"\", (INDEX('Server Questionnaire'!$6:$6,1,6*(ROW(A72)-1)+COLUMN(ServerHeaderCell) + 1)))","v":""}]
[{"$f":"IF(ISBLANK(INDEX('App Questionnaire'!$10:$10,1,2*(ROW(A73)-1)+COLUMN(AppHeaderCell) + 1)), \"\", (INDEX('App Questionnaire'!$10:$10,1,2*(ROW(A73)-1)+COLUMN(AppHeaderCell) + 1)))","v":""},{"$f":"IF(ISBLANK(INDEX('App Questionnaire'!$6:$6,1,2*(ROW(A73)-1)+COLUMN(AppHeaderCell) + 1)), \"\", (INDEX('App Questionnaire'!$6:$6,1,2*(ROW(A73)-1)+COLUMN(AppHeaderCell) + 1)))","v":""},"",{"$f":"IF(ISBLANK(INDEX('Server Questionnaire'!$6:$6,1,6*(ROW(A73)-1)+COLUMN(ServerHeaderCell) + 1)), \"\", (INDEX('Server Questionnaire'!$6:$6,1,6*(ROW(A73)-1)+COLUMN(ServerHeaderCell) + 1)))","v":""}]
[{"$f":"IF(ISBLANK(INDEX('App Questionnaire'!$10:$10,1,2*(ROW(A74)-1)+COLUMN(AppHeaderCell) + 1)), \"\", (INDEX('App Questionnaire'!$10:$10,1,2*(ROW(A74)-1)+COLUMN(AppHeaderCell) + 1)))","v":""},{"$f":"IF(ISBLANK(INDEX('App Questionnaire'!$6:$6,1,2*(ROW(A74)-1)+COLUMN(AppHeaderCell) + 1)), \"\", (INDEX('App Questionnaire'!$6:$6,1,2*(ROW(A74)-1)+COLUMN(AppHeaderCell) + 1)))","v":""},{"$f":" IF(B68 = \"\", \"\", B68 & \" - \" & A68)","v":""},{"$f":"IF(ISBLANK(INDEX('Server Questionnaire'!$6:$6,1,6*(ROW(A74)-1)+COLUMN(ServerHeaderCell) + 1)), \"\", (INDEX('Server Questionnaire'!$6:$6,1,6*(ROW(A74)-1)+COLUMN(ServerHeaderCell) + 1)))","v":""}]
[{"$f":"IF(ISBLANK(INDEX('App Questionnaire'!$10:$10,1,2*(ROW(A75)-1)+COLUMN(AppHeaderCell) + 1)), \"\", (INDEX('App Questionnaire'!$10:$10,1,2*(ROW(A75)-1)+COLUMN(AppHeaderCell) + 1)))","v":""},{"$f":"IF(ISBLANK(INDEX('App Questionnaire'!$6:$6,1,2*(ROW(A75)-1)+COLUMN(AppHeaderCell) + 1)), \"\", (INDEX('App Questionnaire'!$6:$6,1,2*(ROW(A75)-1)+COLUMN(AppHeaderCell) + 1)))","v":""},"",{"$f":"IF(ISBLANK(INDEX('Server Questionnaire'!$6:$6,1,6*(ROW(A75)-1)+COLUMN(ServerHeaderCell) + 1)), \"\", (INDEX('Server Questionnaire'!$6:$6,1,6*(ROW(A75)-1)+COLUMN(ServerHeaderCell) + 1)))","v":""}]
[{"$f":"IF(ISBLANK(INDEX('App Questionnaire'!$10:$10,1,2*(ROW(A76)-1)+COLUMN(AppHeaderCell) + 1)), \"\", (INDEX('App Questionnaire'!$10:$10,1,2*(ROW(A76)-1)+COLUMN(AppHeaderCell) + 1)))","v":""},{"$f":"IF(ISBLANK(INDEX('App Questionnaire'!$6:$6,1,2*(ROW(A76)-1)+COLUMN(AppHeaderCell) + 1)), \"\", (INDEX('App Questionnaire'!$6:$6,1,2*(ROW(A76)-1)+COLUMN(AppHeaderCell) + 1)))","v":""},"",{"$f":"IF(ISBLANK(INDEX('Server Questionnaire'!$6:$6,1,6*(ROW(A76)-1)+COLUMN(ServerHeaderCell) + 1)), \"\", (INDEX('Server Questionnaire'!$6:$6,1,6*(ROW(A76)-1)+COLUMN(ServerHeaderCell) + 1)))","v":""}]
[{"$f":"IF(ISBLANK(INDEX('App Questionnaire'!$10:$10,1,2*(ROW(A77)-1)+COLUMN(AppHeaderCell) + 1)), \"\", (INDEX('App Questionnaire'!$10:$10,1,2*(ROW(A77)-1)+COLUMN(AppHeaderCell) + 1)))","v":""},{"$f":"IF(ISBLANK(INDEX('App Questionnaire'!$6:$6,1,2*(ROW(A77)-1)+COLUMN(AppHeaderCell) + 1)), \"\", (INDEX('App Questionnaire'!$6:$6,1,2*(ROW(A77)-1)+COLUMN(AppHeaderCell) + 1)))","v":""},"",{"$f":"IF(ISBLANK(INDEX('Server Questionnaire'!$6:$6,1,6*(ROW(A77)-1)+COLUMN(ServerHeaderCell) + 1)), \"\", (INDEX('Server Questionnaire'!$6:$6,1,6*(ROW(A77)-1)+COLUMN(ServerHeaderCell) + 1)))","v":""}]
[{"$f":"IF(ISBLANK(INDEX('App Questionnaire'!$10:$10,1,2*(ROW(A78)-1)+COLUMN(AppHeaderCell) + 1)), \"\", (INDEX('App Questionnaire'!$10:$10,1,2*(ROW(A78)-1)+COLUMN(AppHeaderCell) + 1)))","v":""},{"$f":"IF(ISBLANK(INDEX('App Questionnaire'!$6:$6,1,2*(ROW(A78)-1)+COLUMN(AppHeaderCell) + 1)), \"\", (INDEX('App Questionnaire'!$6:$6,1,2*(ROW(A78)-1)+COLUMN(AppHeaderCell) + 1)))","v":""},"",{"$f":"IF(ISBLANK(INDEX('Server Questionnaire'!$6:$6,1,6*(ROW(A78)-1)+COLUMN(ServerHeaderCell) + 1)), \"\", (INDEX('Server Questionnaire'!$6:$6,1,6*(ROW(A78)-1)+COLUMN(ServerHeaderCell) + 1)))","v":""}]
[{"$f":"IF(ISBLANK(INDEX('App Questionnaire'!$10:$10,1,2*(ROW(A79)-1)+COLUMN(AppHeaderCell) + 1)), \"\", (INDEX('App Questionnaire'!$10:$10,1,2*(ROW(A79)-1)+COLUMN(AppHeaderCell) + 1)))","v":""},{"$f":"IF(ISBLANK(INDEX('App Questionnaire'!$6:$6,1,2*(ROW(A79)-1)+COLUMN(AppHeaderCell) + 1)), \"\", (INDEX('App Questionnaire'!$6:$6,1,2*(ROW(A79)-1)+COLUMN(AppHeaderCell) + 1)))","v":""},"",{"$f":"IF(ISBLANK(INDEX('Server Questionnaire'!$6:$6,1,6*(ROW(A79)-1)+COLUMN(ServerHeaderCell) + 1)), \"\", (INDEX('Server Questionnaire'!$6:$6,1,6*(ROW(A79)-1)+COLUMN(ServerHeaderCell) + 1)))","v":""}]
[{"$f":"IF(ISBLANK(INDEX('App Questionnaire'!$10:$10,1,2*(ROW(A80)-1)+COLUMN(AppHeaderCell) + 1)), \"\", (INDEX('App Questionnaire'!$10:$10,1,2*(ROW(A80)-1)+COLUMN(AppHeaderCell) + 1)))","v":""},{"$f":"IF(ISBLANK(INDEX('App Questionnaire'!$6:$6,1,2*(ROW(A80)-1)+COLUMN(AppHeaderCell) + 1)), \"\", (INDEX('App Questionnaire'!$6:$6,1,2*(ROW(A80)-1)+COLUMN(AppHeaderCell) + 1)))","v":""},"",{"$f":"IF(ISBLANK(INDEX('Server Questionnaire'!$6:$6,1,6*(ROW(A80)-1)+COLUMN(ServerHeaderCell) + 1)), \"\", (INDEX('Server Questionnaire'!$6:$6,1,6*(ROW(A80)-1)+COLUMN(ServerHeaderCell) + 1)))","v":""}]
[{"$f":"IF(ISBLANK(INDEX('App Questionnaire'!$10:$10,1,2*(ROW(A81)-1)+COLUMN(AppHeaderCell) + 1)), \"\", (INDEX('App Questionnaire'!$10:$10,1,2*(ROW(A81)-1)+COLUMN(AppHeaderCell) + 1)))","v":""},{"$f":"IF(ISBLANK(INDEX('App Questionnaire'!$6:$6,1,2*(ROW(A81)-1)+COLUMN(AppHeaderCell) + 1)), \"\", (INDEX('App Questionnaire'!$6:$6,1,2*(ROW(A81)-1)+COLUMN(AppHeaderCell) + 1)))","v":""},"",{"$f":"IF(ISBLANK(INDEX('Server Questionnaire'!$6:$6,1,6*(ROW(A81)-1)+COLUMN(ServerHeaderCell) + 1)), \"\", (INDEX('Server Questionnaire'!$6:$6,1,6*(ROW(A81)-1)+COLUMN(ServerHeaderCell) + 1)))","v":""}]
[{"$f":"IF(ISBLANK(INDEX('App Questionnaire'!$10:$10,1,2*(ROW(A82)-1)+COLUMN(AppHeaderCell) + 1)), \"\", (INDEX('App Questionnaire'!$10:$10,1,2*(ROW(A82)-1)+COLUMN(AppHeaderCell) + 1)))","v":""},{"$f":"IF(ISBLANK(INDEX('App Questionnaire'!$6:$6,1,2*(ROW(A82)-1)+COLUMN(AppHeaderCell) + 1)), \"\", (INDEX('App Questionnaire'!$6:$6,1,2*(ROW(A82)-1)+COLUMN(AppHeaderCell) + 1)))","v":""},"",{"$f":"IF(ISBLANK(INDEX('Server Questionnaire'!$6:$6,1,6*(ROW(A82)-1)+COLUMN(ServerHeaderCell) + 1)), \"\", (INDEX('Server Questionnaire'!$6:$6,1,6*(ROW(A82)-1)+COLUMN(ServerHeaderCell) + 1)))","v":""}]
[{"$f":"IF(ISBLANK(INDEX('App Questionnaire'!$10:$10,1,2*(ROW(A83)-1)+COLUMN(AppHeaderCell) + 1)), \"\", (INDEX('App Questionnaire'!$10:$10,1,2*(ROW(A83)-1)+COLUMN(AppHeaderCell) + 1)))","v":""},{"$f":"IF(ISBLANK(INDEX('App Questionnaire'!$6:$6,1,2*(ROW(A83)-1)+COLUMN(AppHeaderCell) + 1)), \"\", (INDEX('App Questionnaire'!$6:$6,1,2*(ROW(A83)-1)+COLUMN(AppHeaderCell) + 1)))","v":""},"",{"$f":"IF(ISBLANK(INDEX('Server Questionnaire'!$6:$6,1,6*(ROW(A83)-1)+COLUMN(ServerHeaderCell) + 1)), \"\", (INDEX('Server Questionnaire'!$6:$6,1,6*(ROW(A83)-1)+COLUMN(ServerHeaderCell) + 1)))","v":""}]
[{"$f":"IF(ISBLANK(INDEX('App Questionnaire'!$10:$10,1,2*(ROW(A84)-1)+COLUMN(AppHeaderCell) + 1)), \"\", (INDEX('App Questionnaire'!$10:$10,1,2*(ROW(A84)-1)+COLUMN(AppHeaderCell) + 1)))","v":""},{"$f":"IF(ISBLANK(INDEX('App Questionnaire'!$6:$6,1,2*(ROW(A84)-1)+COLUMN(AppHeaderCell) + 1)), \"\", (INDEX('App Questionnaire'!$6:$6,1,2*(ROW(A84)-1)+COLUMN(AppHeaderCell) + 1)))","v":""},"",{"$f":"IF(ISBLANK(INDEX('Server Questionnaire'!$6:$6,1,6*(ROW(A84)-1)+COLUMN(ServerHeaderCell) + 1)), \"\", (INDEX('Server Questionnaire'!$6:$6,1,6*(ROW(A84)-1)+COLUMN(ServerHeaderCell) + 1)))","v":""}]
[{"$f":"IF(ISBLANK(INDEX('App Questionnaire'!$10:$10,1,2*(ROW(A85)-1)+COLUMN(AppHeaderCell) + 1)), \"\", (INDEX('App Questionnaire'!$10:$10,1,2*(ROW(A85)-1)+COLUMN(AppHeaderCell) + 1)))","v":""},{"$f":"IF(ISBLANK(INDEX('App Questionnaire'!$6:$6,1,2*(ROW(A85)-1)+COLUMN(AppHeaderCell) + 1)), \"\", (INDEX('App Questionnaire'!$6:$6,1,2*(ROW(A85)-1)+COLUMN(AppHeaderCell) + 1)))","v":""},"",{"$f":"IF(ISBLANK(INDEX('Server Questionnaire'!$6:$6,1,6*(ROW(A85)-1)+COLUMN(ServerHeaderCell) + 1)), \"\", (INDEX('Server Questionnaire'!$6:$6,1,6*(ROW(A85)-1)+COLUMN(ServerHeaderCell) + 1)))","v":""}]
[{"$f":"IF(ISBLANK(INDEX('App Questionnaire'!$10:$10,1,2*(ROW(A86)-1)+COLUMN(AppHeaderCell) + 1)), \"\", (INDEX('App Questionnaire'!$10:$10,1,2*(ROW(A86)-1)+COLUMN(AppHeaderCell) + 1)))","v":""},{"$f":"IF(ISBLANK(INDEX('App Questionnaire'!$6:$6,1,2*(ROW(A86)-1)+COLUMN(AppHeaderCell) + 1)), \"\", (INDEX('App Questionnaire'!$6:$6,1,2*(ROW(A86)-1)+COLUMN(AppHeaderCell) + 1)))","v":""},"",{"$f":"IF(ISBLANK(INDEX('Server Questionnaire'!$6:$6,1,6*(ROW(A86)-1)+COLUMN(ServerHeaderCell) + 1)), \"\", (INDEX('Server Questionnaire'!$6:$6,1,6*(ROW(A86)-1)+COLUMN(ServerHeaderCell) + 1)))","v":""}]
[{"$f":"IF(ISBLANK(INDEX('App Questionnaire'!$10:$10,1,2*(ROW(A87)-1)+COLUMN(AppHeaderCell) + 1)), \"\", (INDEX('App Questionnaire'!$10:$10,1,2*(ROW(A87)-1)+COLUMN(AppHeaderCell) + 1)))","v":""},{"$f":"IF(ISBLANK(INDEX('App Questionnaire'!$6:$6,1,2*(ROW(A87)-1)+COLUMN(AppHeaderCell) + 1)), \"\", (INDEX('App Questionnaire'!$6:$6,1,2*(ROW(A87)-1)+COLUMN(AppHeaderCell) + 1)))","v":""},"",{"$f":"IF(ISBLANK(INDEX('Server Questionnaire'!$6:$6,1,6*(ROW(A87)-1)+COLUMN(ServerHeaderCell) + 1)), \"\", (INDEX('Server Questionnaire'!$6:$6,1,6*(ROW(A87)-1)+COLUMN(ServerHeaderCell) + 1)))","v":""}]
[{"$f":"IF(ISBLANK(INDEX('App Questionnaire'!$10:$10,1,2*(ROW(A88)-1)+COLUMN(AppHeaderCell) + 1)), \"\", (INDEX('App Questionnaire'!$10:$10,1,2*(ROW(A88)-1)+COLUMN(AppHeaderCell) + 1)))","v":""},{"$f":"IF(ISBLANK(INDEX('App Questionnaire'!$6:$6,1,2*(ROW(A88)-1)+COLUMN(AppHeaderCell) + 1)), \"\", (INDEX('App Questionnaire'!$6:$6,1,2*(ROW(A88)-1)+COLUMN(AppHeaderCell) + 1)))","v":""},"",{"$f":"IF(ISBLANK(INDEX('Server Questionnaire'!$6:$6,1,6*(ROW(A88)-1)+COLUMN(ServerHeaderCell) + 1)), \"\", (INDEX('Server Questionnaire'!$6:$6,1,6*(ROW(A88)-1)+COLUMN(ServerHeaderCell) + 1)))","v":""}]
[{"$f":"IF(ISBLANK(INDEX('App Questionnaire'!$10:$10,1,2*(ROW(A89)-1)+COLUMN(AppHeaderCell) + 1)), \"\", (INDEX('App Questionnaire'!$10:$10,1,2*(ROW(A89)-1)+COLUMN(AppHeaderCell) + 1)))","v":""},{"$f":"IF(ISBLANK(INDEX('App Questionnaire'!$6:$6,1,2*(ROW(A89)-1)+COLUMN(AppHeaderCell) + 1)), \"\", (INDEX('App Questionnaire'!$6:$6,1,2*(ROW(A89)-1)+COLUMN(AppHeaderCell) + 1)))","v":""},"",{"$f":"IF(ISBLANK(INDEX('Server Questionnaire'!$6:$6,1,6*(ROW(A89)-1)+COLUMN(ServerHeaderCell) + 1)), \"\", (INDEX('Server Questionnaire'!$6:$6,1,6*(ROW(A89)-1)+COLUMN(ServerHeaderCell) + 1)))","v":""}]
[{"$f":"IF(ISBLANK(INDEX('App Questionnaire'!$10:$10,1,2*(ROW(A90)-1)+COLUMN(AppHeaderCell) + 1)), \"\", (INDEX('App Questionnaire'!$10:$10,1,2*(ROW(A90)-1)+COLUMN(AppHeaderCell) + 1)))","v":""},{"$f":"IF(ISBLANK(INDEX('App Questionnaire'!$6:$6,1,2*(ROW(A90)-1)+COLUMN(AppHeaderCell) + 1)), \"\", (INDEX('App Questionnaire'!$6:$6,1,2*(ROW(A90)-1)+COLUMN(AppHeaderCell) + 1)))","v":""},"",{"$f":"IF(ISBLANK(INDEX('Server Questionnaire'!$6:$6,1,6*(ROW(A90)-1)+COLUMN(ServerHeaderCell) + 1)), \"\", (INDEX('Server Questionnaire'!$6:$6,1,6*(ROW(A90)-1)+COLUMN(ServerHeaderCell) + 1)))","v":""}]
[{"$f":"IF(ISBLANK(INDEX('App Questionnaire'!$10:$10,1,2*(ROW(A91)-1)+COLUMN(AppHeaderCell) + 1)), \"\", (INDEX('App Questionnaire'!$10:$10,1,2*(ROW(A91)-1)+COLUMN(AppHeaderCell) + 1)))","v":""},{"$f":"IF(ISBLANK(INDEX('App Questionnaire'!$6:$6,1,2*(ROW(A91)-1)+COLUMN(AppHeaderCell) + 1)), \"\", (INDEX('App Questionnaire'!$6:$6,1,2*(ROW(A91)-1)+COLUMN(AppHeaderCell) + 1)))","v":""},"",{"$f":"IF(ISBLANK(INDEX('Server Questionnaire'!$6:$6,1,6*(ROW(A91)-1)+COLUMN(ServerHeaderCell) + 1)), \"\", (INDEX('Server Questionnaire'!$6:$6,1,6*(ROW(A91)-1)+COLUMN(ServerHeaderCell) + 1)))","v":""}]
[{"$f":"IF(ISBLANK(INDEX('App Questionnaire'!$10:$10,1,2*(ROW(A92)-1)+COLUMN(AppHeaderCell) + 1)), \"\", (INDEX('App Questionnaire'!$10:$10,1,2*(ROW(A92)-1)+COLUMN(AppHeaderCell) + 1)))","v":""},{"$f":"IF(ISBLANK(INDEX('App Questionnaire'!$6:$6,1,2*(ROW(A92)-1)+COLUMN(AppHeaderCell) + 1)), \"\", (INDEX('App Questionnaire'!$6:$6,1,2*(ROW(A92)-1)+COLUMN(AppHeaderCell) + 1)))","v":""},"",{"$f":"IF(ISBLANK(INDEX('Server Questionnaire'!$6:$6,1,6*(ROW(A92)-1)+COLUMN(ServerHeaderCell) + 1)), \"\", (INDEX('Server Questionnaire'!$6:$6,1,6*(ROW(A92)-1)+COLUMN(ServerHeaderCell) + 1)))","v":""}]
[{"$f":"IF(ISBLANK(INDEX('App Questionnaire'!$10:$10,1,2*(ROW(A93)-1)+COLUMN(AppHeaderCell) + 1)), \"\", (INDEX('App Questionnaire'!$10:$10,1,2*(ROW(A93)-1)+COLUMN(AppHeaderCell) + 1)))","v":""},{"$f":"IF(ISBLANK(INDEX('App Questionnaire'!$6:$6,1,2*(ROW(A93)-1)+COLUMN(AppHeaderCell) + 1)), \"\", (INDEX('App Questionnaire'!$6:$6,1,2*(ROW(A93)-1)+COLUMN(AppHeaderCell) + 1)))","v":""},"",{"$f":"IF(ISBLANK(INDEX('Server Questionnaire'!$6:$6,1,6*(ROW(A93)-1)+COLUMN(ServerHeaderCell) + 1)), \"\", (INDEX('Server Questionnaire'!$6:$6,1,6*(ROW(A93)-1)+COLUMN(ServerHeaderCell) + 1)))","v":""}]
[{"$f":"IF(ISBLANK(INDEX('App Questionnaire'!$10:$10,1,2*(ROW(A94)-1)+COLUMN(AppHeaderCell) + 1)), \"\", (INDEX('App Questionnaire'!$10:$10,1,2*(ROW(A94)-1)+COLUMN(AppHeaderCell) + 1)))","v":""},{"$f":"IF(ISBLANK(INDEX('App Questionnaire'!$6:$6,1,2*(ROW(A94)-1)+COLUMN(AppHeaderCell) + 1)), \"\", (INDEX('App Questionnaire'!$6:$6,1,2*(ROW(A94)-1)+COLUMN(AppHeaderCell) + 1)))","v":""},"",{"$f":"IF(ISBLANK(INDEX('Server Questionnaire'!$6:$6,1,6*(ROW(A94)-1)+COLUMN(ServerHeaderCell) + 1)), \"\", (INDEX('Server Questionnaire'!$6:$6,1,6*(ROW(A94)-1)+COLUMN(ServerHeaderCell) + 1)))","v":""}]
[{"$f":"IF(ISBLANK(INDEX('App Questionnaire'!$10:$10,1,2*(ROW(A95)-1)+COLUMN(AppHeaderCell) + 1)), \"\", (INDEX('App Questionnaire'!$10:$10,1,2*(ROW(A95)-1)+COLUMN(AppHeaderCell) + 1)))","v":""},{"$f":"IF(ISBLANK(INDEX('App Questionnaire'!$6:$6,1,2*(ROW(A95)-1)+COLUMN(AppHeaderCell) + 1)), \"\", (INDEX('App Questionnaire'!$6:$6,1,2*(ROW(A95)-1)+COLUMN(AppHeaderCell) + 1)))","v":""},"",{"$f":"IF(ISBLANK(INDEX('Server Questionnaire'!$6:$6,1,6*(ROW(A95)-1)+COLUMN(ServerHeaderCell) + 1)), \"\", (INDEX('Server Questionnaire'!$6:$6,1,6*(ROW(A95)-1)+COLUMN(ServerHeaderCell) + 1)))","v":""}]
[{"$f":"IF(ISBLANK(INDEX('App Questionnaire'!$10:$10,1,2*(ROW(A96)-1)+COLUMN(AppHeaderCell) + 1)), \"\", (INDEX('App Questionnaire'!$10:$10,1,2*(ROW(A96)-1)+COLUMN(AppHeaderCell) + 1)))","v":""},{"$f":"IF(ISBLANK(INDEX('App Questionnaire'!$6:$6,1,2*(ROW(A96)-1)+COLUMN(AppHeaderCell) + 1)), \"\", (INDEX('App Questionnaire'!$6:$6,1,2*(ROW(A96)-1)+COLUMN(AppHeaderCell) + 1)))","v":""},"",{"$f":"IF(ISBLANK(INDEX('Server Questionnaire'!$6:$6,1,6*(ROW(A96)-1)+COLUMN(ServerHeaderCell) + 1)), \"\", (INDEX('Server Questionnaire'!$6:$6,1,6*(ROW(A96)-1)+COLUMN(ServerHeaderCell) + 1)))","v":""}]
[{"$f":"IF(ISBLANK(INDEX('App Questionnaire'!$10:$10,1,2*(ROW(A97)-1)+COLUMN(AppHeaderCell) + 1)), \"\", (INDEX('App Questionnaire'!$10:$10,1,2*(ROW(A97)-1)+COLUMN(AppHeaderCell) + 1)))","v":""},{"$f":"IF(ISBLANK(INDEX('App Questionnaire'!$6:$6,1,2*(ROW(A97)-1)+COLUMN(AppHeaderCell) + 1)), \"\", (INDEX('App Questionnaire'!$6:$6,1,2*(ROW(A97)-1)+COLUMN(AppHeaderCell) + 1)))","v":""},"",{"$f":"IF(ISBLANK(INDEX('Server Questionnaire'!$6:$6,1,6*(ROW(A97)-1)+COLUMN(ServerHeaderCell) + 1)), \"\", (INDEX('Server Questionnaire'!$6:$6,1,6*(ROW(A97)-1)+COLUMN(ServerHeaderCell) + 1)))","v":""}]
[{"$f":"IF(ISBLANK(INDEX('App Questionnaire'!$10:$10,1,2*(ROW(A98)-1)+COLUMN(AppHeaderCell) + 1)), \"\", (INDEX('App Questionnaire'!$10:$10,1,2*(ROW(A98)-1)+COLUMN(AppHeaderCell) + 1)))","v":""},{"$f":"IF(ISBLANK(INDEX('App Questionnaire'!$6:$6,1,2*(ROW(A98)-1)+COLUMN(AppHeaderCell) + 1)), \"\", (INDEX('App Questionnaire'!$6:$6,1,2*(ROW(A98)-1)+COLUMN(AppHeaderCell) + 1)))","v":""},"",{"$f":"IF(ISBLANK(INDEX('Server Questionnaire'!$6:$6,1,6*(ROW(A98)-1)+COLUMN(ServerHeaderCell) + 1)), \"\", (INDEX('Server Questionnaire'!$6:$6,1,6*(ROW(A98)-1)+COLUMN(ServerHeaderCell) + 1)))","v":""}]
[{"$f":"IF(ISBLANK(INDEX('App Questionnaire'!$10:$10,1,2*(ROW(A99)-1)+COLUMN(AppHeaderCell) + 1)), \"\", (INDEX('App Questionnaire'!$10:$10,1,2*(ROW(A99)-1)+COLUMN(AppHeaderCell) + 1)))","v":""},{"$f":"IF(ISBLANK(INDEX('App Questionnaire'!$6:$6,1,2*(ROW(A99)-1)+COLUMN(AppHeaderCell) + 1)), \"\", (INDEX('App Questionnaire'!$6:$6,1,2*(ROW(A99)-1)+COLUMN(AppHeaderCell) + 1)))","v":""},"",{"$f":"IF(ISBLANK(INDEX('Server Questionnaire'!$6:$6,1,6*(ROW(A99)-1)+COLUMN(ServerHeaderCell) + 1)), \"\", (INDEX('Server Questionnaire'!$6:$6,1,6*(ROW(A99)-1)+COLUMN(ServerHeaderCell) + 1)))","v":""}]
[{"$f":"IF(ISBLANK(INDEX('App Questionnaire'!$10:$10,1,2*(ROW(A100)-1)+COLUMN(AppHeaderCell) + 1)), \"\", (INDEX('App Questionnaire'!$10:$10,1,2*(ROW(A100)-1)+COLUMN(AppHeaderCell) + 1)))","v":""},{"$f":"IF(ISBLANK(INDEX('App Questionnaire'!$6:$6,1,2*(ROW(A100)-1)+COLUMN(AppHeaderCell) + 1)), \"\", (INDEX('App Questionnaire'!$6:$6,1,2*(ROW(A100)-1)+COLUMN(AppHeaderCell) + 1)))","v":""},"",{"$f":"IF(ISBLANK(INDEX('Server Questionnaire'!$6:$6,1,6*(ROW(A100)-1)+COLUMN(ServerHeaderCell) + 1)), \"\", (INDEX('Server Questionnaire'!$6:$6,1,6*(ROW(A100)-1)+COLUMN(ServerHeaderCell) + 1)))","v":""}]
[{"$f":"IF(ISBLANK(INDEX('App Questionnaire'!$10:$10,1,2*(ROW(A101)-1)+COLUMN(AppHeaderCell) + 1)), \"\", (INDEX('App Questionnaire'!$10:$10,1,2*(ROW(A101)-1)+COLUMN(AppHeaderCell) + 1)))","v":""},{"$f":"IF(ISBLANK(INDEX('App Questionnaire'!$6:$6,1,2*(ROW(A101)-1)+COLUMN(AppHeaderCell) + 1)), \"\", (INDEX('App Questionnaire'!$6:$6,1,2*(ROW(A101)-1)+COLUMN(AppHeaderCell) + 1)))","v":""},"",{"$f":"IF(ISBLANK(INDEX('Server Questionnaire'!$6:$6,1,6*(ROW(A101)-1)+COLUMN(ServerHeaderCell) + 1)), \"\", (INDEX('Server Questionnaire'!$6:$6,1,6*(ROW(A101)-1)+COLUMN(ServerHeaderCell) + 1)))","v":""}]
[{"$f":"IF(ISBLANK(INDEX('App Questionnaire'!$10:$10,1,2*(ROW(A102)-1)+COLUMN(AppHeaderCell) + 1)), \"\", (INDEX('App Questionnaire'!$10:$10,1,2*(ROW(A102)-1)+COLUMN(AppHeaderCell) + 1)))","v":""},{"$f":"IF(ISBLANK(INDEX('App Questionnaire'!$6:$6,1,2*(ROW(A102)-1)+COLUMN(AppHeaderCell) + 1)), \"\", (INDEX('App Questionnaire'!$6:$6,1,2*(ROW(A102)-1)+COLUMN(AppHeaderCell) + 1)))","v":""},"",{"$f":"IF(ISBLANK(INDEX('Server Questionnaire'!$6:$6,1,6*(ROW(A102)-1)+COLUMN(ServerHeaderCell) + 1)), \"\", (INDEX('Server Questionnaire'!$6:$6,1,6*(ROW(A102)-1)+COLUMN(ServerHeaderCell) + 1)))","v":""}]
[{"$f":"IF(ISBLANK(INDEX('App Questionnaire'!$10:$10,1,2*(ROW(A103)-1)+COLUMN(AppHeaderCell) + 1)), \"\", (INDEX('App Questionnaire'!$10:$10,1,2*(ROW(A103)-1)+COLUMN(AppHeaderCell) + 1)))","v":""},{"$f":"IF(ISBLANK(INDEX('App Questionnaire'!$6:$6,1,2*(ROW(A103)-1)+COLUMN(AppHeaderCell) + 1)), \"\", (INDEX('App Questionnaire'!$6:$6,1,2*(ROW(A103)-1)+COLUMN(AppHeaderCell) + 1)))","v":""},"",{"$f":"IF(ISBLANK(INDEX('Server Questionnaire'!$6:$6,1,6*(ROW(A103)-1)+COLUMN(ServerHeaderCell) + 1)), \"\", (INDEX('Server Questionnaire'!$6:$6,1,6*(ROW(A103)-1)+COLUMN(ServerHeaderCell) + 1)))","v":""}]
[{"$f":"IF(ISBLANK(INDEX('App Questionnaire'!$10:$10,1,2*(ROW(A104)-1)+COLUMN(AppHeaderCell) + 1)), \"\", (INDEX('App Questionnaire'!$10:$10,1,2*(ROW(A104)-1)+COLUMN(AppHeaderCell) + 1)))","v":""},{"$f":"IF(ISBLANK(INDEX('App Questionnaire'!$6:$6,1,2*(ROW(A104)-1)+COLUMN(AppHeaderCell) + 1)), \"\", (INDEX('App Questionnaire'!$6:$6,1,2*(ROW(A104)-1)+COLUMN(AppHeaderCell) + 1)))","v":""},"",{"$f":"IF(ISBLANK(INDEX('Server Questionnaire'!$6:$6,1,6*(ROW(A104)-1)+COLUMN(ServerHeaderCell) + 1)), \"\", (INDEX('Server Questionnaire'!$6:$6,1,6*(ROW(A104)-1)+COLUMN(ServerHeaderCell) + 1)))","v":""}]
[{"$f":"IF(ISBLANK(INDEX('App Questionnaire'!$10:$10,1,2*(ROW(A105)-1)+COLUMN(AppHeaderCell) + 1)), \"\", (INDEX('App Questionnaire'!$10:$10,1,2*(ROW(A105)-1)+COLUMN(AppHeaderCell) + 1)))","v":""},{"$f":"IF(ISBLANK(INDEX('App Questionnaire'!$6:$6,1,2*(ROW(A105)-1)+COLUMN(AppHeaderCell) + 1)), \"\", (INDEX('App Questionnaire'!$6:$6,1,2*(ROW(A105)-1)+COLUMN(AppHeaderCell) + 1)))","v":""},"",{"$f":"IF(ISBLANK(INDEX('Server Questionnaire'!$6:$6,1,6*(ROW(A105)-1)+COLUMN(ServerHeaderCell) + 1)), \"\", (INDEX('Server Questionnaire'!$6:$6,1,6*(ROW(A105)-1)+COLUMN(ServerHeaderCell) + 1)))","v":""}]
[{"$f":"IF(ISBLANK(INDEX('App Questionnaire'!$10:$10,1,2*(ROW(A106)-1)+COLUMN(AppHeaderCell) + 1)), \"\", (INDEX('App Questionnaire'!$10:$10,1,2*(ROW(A106)-1)+COLUMN(AppHeaderCell) + 1)))","v":""},{"$f":"IF(ISBLANK(INDEX('App Questionnaire'!$6:$6,1,2*(ROW(A106)-1)+COLUMN(AppHeaderCell) + 1)), \"\", (INDEX('App Questionnaire'!$6:$6,1,2*(ROW(A106)-1)+COLUMN(AppHeaderCell) + 1)))","v":""},"",{"$f":"IF(ISBLANK(INDEX('Server Questionnaire'!$6:$6,1,6*(ROW(A106)-1)+COLUMN(ServerHeaderCell) + 1)), \"\", (INDEX('Server Questionnaire'!$6:$6,1,6*(ROW(A106)-1)+COLUMN(ServerHeaderCell) + 1)))","v":""}]
[{"$f":"IF(ISBLANK(INDEX('App Questionnaire'!$10:$10,1,2*(ROW(A107)-1)+COLUMN(AppHeaderCell) + 1)), \"\", (INDEX('App Questionnaire'!$10:$10,1,2*(ROW(A107)-1)+COLUMN(AppHeaderCell) + 1)))","v":""},{"$f":"IF(ISBLANK(INDEX('App Questionnaire'!$6:$6,1,2*(ROW(A107)-1)+COLUMN(AppHeaderCell) + 1)), \"\", (INDEX('App Questionnaire'!$6:$6,1,2*(ROW(A107)-1)+COLUMN(AppHeaderCell) + 1)))","v":""},"",{"$f":"IF(ISBLANK(INDEX('Server Questionnaire'!$6:$6,1,6*(ROW(A107)-1)+COLUMN(ServerHeaderCell) + 1)), \"\", (INDEX('Server Questionnaire'!$6:$6,1,6*(ROW(A107)-1)+COLUMN(ServerHeaderCell) + 1)))","v":""}]
[{"$f":"IF(ISBLANK(INDEX('App Questionnaire'!$10:$10,1,2*(ROW(A108)-1)+COLUMN(AppHeaderCell) + 1)), \"\", (INDEX('App Questionnaire'!$10:$10,1,2*(ROW(A108)-1)+COLUMN(AppHeaderCell) + 1)))","v":""},{"$f":"IF(ISBLANK(INDEX('App Questionnaire'!$6:$6,1,2*(ROW(A108)-1)+COLUMN(AppHeaderCell) + 1)), \"\", (INDEX('App Questionnaire'!$6:$6,1,2*(ROW(A108)-1)+COLUMN(AppHeaderCell) + 1)))","v":""},"",{"$f":"IF(ISBLANK(INDEX('Server Questionnaire'!$6:$6,1,6*(ROW(A108)-1)+COLUMN(ServerHeaderCell) + 1)), \"\", (INDEX('Server Questionnaire'!$6:$6,1,6*(ROW(A108)-1)+COLUMN(ServerHeaderCell) + 1)))","v":""}]
[{"$f":"IF(ISBLANK(INDEX('App Questionnaire'!$10:$10,1,2*(ROW(A109)-1)+COLUMN(AppHeaderCell) + 1)), \"\", (INDEX('App Questionnaire'!$10:$10,1,2*(ROW(A109)-1)+COLUMN(AppHeaderCell) + 1)))","v":""},{"$f":"IF(ISBLANK(INDEX('App Questionnaire'!$6:$6,1,2*(ROW(A109)-1)+COLUMN(AppHeaderCell) + 1)), \"\", (INDEX('App Questionnaire'!$6:$6,1,2*(ROW(A109)-1)+COLUMN(AppHeaderCell) + 1)))","v":""},"",{"$f":"IF(ISBLANK(INDEX('Server Questionnaire'!$6:$6,1,6*(ROW(A109)-1)+COLUMN(ServerHeaderCell) + 1)), \"\", (INDEX('Server Questionnaire'!$6:$6,1,6*(ROW(A109)-1)+COLUMN(ServerHeaderCell) + 1)))","v":""}]
[{"$f":"IF(ISBLANK(INDEX('App Questionnaire'!$10:$10,1,2*(ROW(A110)-1)+COLUMN(AppHeaderCell) + 1)), \"\", (INDEX('App Questionnaire'!$10:$10,1,2*(ROW(A110)-1)+COLUMN(AppHeaderCell) + 1)))","v":""},{"$f":"IF(ISBLANK(INDEX('App Questionnaire'!$6:$6,1,2*(ROW(A110)-1)+COLUMN(AppHeaderCell) + 1)), \"\", (INDEX('App Questionnaire'!$6:$6,1,2*(ROW(A110)-1)+COLUMN(AppHeaderCell) + 1)))","v":""},"",{"$f":"IF(ISBLANK(INDEX('Server Questionnaire'!$6:$6,1,6*(ROW(A110)-1)+COLUMN(ServerHeaderCell) + 1)), \"\", (INDEX('Server Questionnaire'!$6:$6,1,6*(ROW(A110)-1)+COLUMN(ServerHeaderCell) + 1)))","v":""}]
[{"$f":"IF(ISBLANK(INDEX('App Questionnaire'!$10:$10,1,2*(ROW(A111)-1)+COLUMN(AppHeaderCell) + 1)), \"\", (INDEX('App Questionnaire'!$10:$10,1,2*(ROW(A111)-1)+COLUMN(AppHeaderCell) + 1)))","v":""},{"$f":"IF(ISBLANK(INDEX('App Questionnaire'!$6:$6,1,2*(ROW(A111)-1)+COLUMN(AppHeaderCell) + 1)), \"\", (INDEX('App Questionnaire'!$6:$6,1,2*(ROW(A111)-1)+COLUMN(AppHeaderCell) + 1)))","v":""},"",{"$f":"IF(ISBLANK(INDEX('Server Questionnaire'!$6:$6,1,6*(ROW(A111)-1)+COLUMN(ServerHeaderCell) + 1)), \"\", (INDEX('Server Questionnaire'!$6:$6,1,6*(ROW(A111)-1)+COLUMN(ServerHeaderCell) + 1)))","v":""}]
[{"$f":"IF(ISBLANK(INDEX('App Questionnaire'!$10:$10,1,2*(ROW(A112)-1)+COLUMN(AppHeaderCell) + 1)), \"\", (INDEX('App Questionnaire'!$10:$10,1,2*(ROW(A112)-1)+COLUMN(AppHeaderCell) + 1)))","v":""},{"$f":"IF(ISBLANK(INDEX('App Questionnaire'!$6:$6,1,2*(ROW(A112)-1)+COLUMN(AppHeaderCell) + 1)), \"\", (INDEX('App Questionnaire'!$6:$6,1,2*(ROW(A112)-1)+COLUMN(AppHeaderCell) + 1)))","v":""},"",{"$f":"IF(ISBLANK(INDEX('Server Questionnaire'!$6:$6,1,6*(ROW(A112)-1)+COLUMN(ServerHeaderCell) + 1)), \"\", (INDEX('Server Questionnaire'!$6:$6,1,6*(ROW(A112)-1)+COLUMN(ServerHeaderCell) + 1)))","v":""}]
[{"$f":"IF(ISBLANK(INDEX('App Questionnaire'!$10:$10,1,2*(ROW(A113)-1)+COLUMN(AppHeaderCell) + 1)), \"\", (INDEX('App Questionnaire'!$10:$10,1,2*(ROW(A113)-1)+COLUMN(AppHeaderCell) + 1)))","v":""},{"$f":"IF(ISBLANK(INDEX('App Questionnaire'!$6:$6,1,2*(ROW(A113)-1)+COLUMN(AppHeaderCell) + 1)), \"\", (INDEX('App Questionnaire'!$6:$6,1,2*(ROW(A113)-1)+COLUMN(AppHeaderCell) + 1)))","v":""},"",{"$f":"IF(ISBLANK(INDEX('Server Questionnaire'!$6:$6,1,6*(ROW(A113)-1)+COLUMN(ServerHeaderCell) + 1)), \"\", (INDEX('Server Questionnaire'!$6:$6,1,6*(ROW(A113)-1)+COLUMN(ServerHeaderCell) + 1)))","v":""}]
[{"$f":"IF(ISBLANK(INDEX('App Questionnaire'!$10:$10,1,2*(ROW(A114)-1)+COLUMN(AppHeaderCell) + 1)), \"\", (INDEX('App Questionnaire'!$10:$10,1,2*(ROW(A114)-1)+COLUMN(AppHeaderCell) + 1)))","v":""},{"$f":"IF(ISBLANK(INDEX('App Questionnaire'!$6:$6,1,2*(ROW(A114)-1)+COLUMN(AppHeaderCell) + 1)), \"\", (INDEX('App Questionnaire'!$6:$6,1,2*(ROW(A114)-1)+COLUMN(AppHeaderCell) + 1)))","v":""},"",{"$f":"IF(ISBLANK(INDEX('Server Questionnaire'!$6:$6,1,6*(ROW(A114)-1)+COLUMN(ServerHeaderCell) + 1)), \"\", (INDEX('Server Questionnaire'!$6:$6,1,6*(ROW(A114)-1)+COLUMN(ServerHeaderCell) + 1)))","v":""}]
[{"$f":"IF(ISBLANK(INDEX('App Questionnaire'!$10:$10,1,2*(ROW(A115)-1)+COLUMN(AppHeaderCell) + 1)), \"\", (INDEX('App Questionnaire'!$10:$10,1,2*(ROW(A115)-1)+COLUMN(AppHeaderCell) + 1)))","v":""},{"$f":"IF(ISBLANK(INDEX('App Questionnaire'!$6:$6,1,2*(ROW(A115)-1)+COLUMN(AppHeaderCell) + 1)), \"\", (INDEX('App Questionnaire'!$6:$6,1,2*(ROW(A115)-1)+COLUMN(AppHeaderCell) + 1)))","v":""},"",{"$f":"IF(ISBLANK(INDEX('Server Questionnaire'!$6:$6,1,6*(ROW(A115)-1)+COLUMN(ServerHeaderCell) + 1)), \"\", (INDEX('Server Questionnaire'!$6:$6,1,6*(ROW(A115)-1)+COLUMN(ServerHeaderCell) + 1)))","v":""}]
[{"$f":"IF(ISBLANK(INDEX('App Questionnaire'!$10:$10,1,2*(ROW(A116)-1)+COLUMN(AppHeaderCell) + 1)), \"\", (INDEX('App Questionnaire'!$10:$10,1,2*(ROW(A116)-1)+COLUMN(AppHeaderCell) + 1)))","v":""},{"$f":"IF(ISBLANK(INDEX('App Questionnaire'!$6:$6,1,2*(ROW(A116)-1)+COLUMN(AppHeaderCell) + 1)), \"\", (INDEX('App Questionnaire'!$6:$6,1,2*(ROW(A116)-1)+COLUMN(AppHeaderCell) + 1)))","v":""},"",{"$f":"IF(ISBLANK(INDEX('Server Questionnaire'!$6:$6,1,6*(ROW(A116)-1)+COLUMN(ServerHeaderCell) + 1)), \"\", (INDEX('Server Questionnaire'!$6:$6,1,6*(ROW(A116)-1)+COLUMN(ServerHeaderCell) + 1)))","v":""}]
[{"$f":"IF(ISBLANK(INDEX('App Questionnaire'!$10:$10,1,2*(ROW(A117)-1)+COLUMN(AppHeaderCell) + 1)), \"\", (INDEX('App Questionnaire'!$10:$10,1,2*(ROW(A117)-1)+COLUMN(AppHeaderCell) + 1)))","v":""},{"$f":"IF(ISBLANK(INDEX('App Questionnaire'!$6:$6,1,2*(ROW(A117)-1)+COLUMN(AppHeaderCell) + 1)), \"\", (INDEX('App Questionnaire'!$6:$6,1,2*(ROW(A117)-1)+COLUMN(AppHeaderCell) + 1)))","v":""},"",{"$f":"IF(ISBLANK(INDEX('Server Questionnaire'!$6:$6,1,6*(ROW(A117)-1)+COLUMN(ServerHeaderCell) + 1)), \"\", (INDEX('Server Questionnaire'!$6:$6,1,6*(ROW(A117)-1)+COLUMN(ServerHeaderCell) + 1)))","v":""}]
[{"$f":"IF(ISBLANK(INDEX('App Questionnaire'!$10:$10,1,2*(ROW(A118)-1)+COLUMN(AppHeaderCell) + 1)), \"\", (INDEX('App Questionnaire'!$10:$10,1,2*(ROW(A118)-1)+COLUMN(AppHeaderCell) + 1)))","v":""},{"$f":"IF(ISBLANK(INDEX('App Questionnaire'!$6:$6,1,2*(ROW(A118)-1)+COLUMN(AppHeaderCell) + 1)), \"\", (INDEX('App Questionnaire'!$6:$6,1,2*(ROW(A118)-1)+COLUMN(AppHeaderCell) + 1)))","v":""},"",{"$f":"IF(ISBLANK(INDEX('Server Questionnaire'!$6:$6,1,6*(ROW(A118)-1)+COLUMN(ServerHeaderCell) + 1)), \"\", (INDEX('Server Questionnaire'!$6:$6,1,6*(ROW(A118)-1)+COLUMN(ServerHeaderCell) + 1)))","v":""}]
[{"$f":"IF(ISBLANK(INDEX('App Questionnaire'!$10:$10,1,2*(ROW(A119)-1)+COLUMN(AppHeaderCell) + 1)), \"\", (INDEX('App Questionnaire'!$10:$10,1,2*(ROW(A119)-1)+COLUMN(AppHeaderCell) + 1)))","v":""},{"$f":"IF(ISBLANK(INDEX('App Questionnaire'!$6:$6,1,2*(ROW(A119)-1)+COLUMN(AppHeaderCell) + 1)), \"\", (INDEX('App Questionnaire'!$6:$6,1,2*(ROW(A119)-1)+COLUMN(AppHeaderCell) + 1)))","v":""},"",{"$f":"IF(ISBLANK(INDEX('Server Questionnaire'!$6:$6,1,6*(ROW(A119)-1)+COLUMN(ServerHeaderCell) + 1)), \"\", (INDEX('Server Questionnaire'!$6:$6,1,6*(ROW(A119)-1)+COLUMN(ServerHeaderCell) + 1)))","v":""}]
[{"$f":"IF(ISBLANK(INDEX('App Questionnaire'!$10:$10,1,2*(ROW(A120)-1)+COLUMN(AppHeaderCell) + 1)), \"\", (INDEX('App Questionnaire'!$10:$10,1,2*(ROW(A120)-1)+COLUMN(AppHeaderCell) + 1)))","v":""},{"$f":"IF(ISBLANK(INDEX('App Questionnaire'!$6:$6,1,2*(ROW(A120)-1)+COLUMN(AppHeaderCell) + 1)), \"\", (INDEX('App Questionnaire'!$6:$6,1,2*(ROW(A120)-1)+COLUMN(AppHeaderCell) + 1)))","v":""},"",{"$f":"IF(ISBLANK(INDEX('Server Questionnaire'!$6:$6,1,6*(ROW(A120)-1)+COLUMN(ServerHeaderCell) + 1)), \"\", (INDEX('Server Questionnaire'!$6:$6,1,6*(ROW(A120)-1)+COLUMN(ServerHeaderCell) + 1)))","v":""}]
[{"$f":"IF(ISBLANK(INDEX('App Questionnaire'!$10:$10,1,2*(ROW(A121)-1)+COLUMN(AppHeaderCell) + 1)), \"\", (INDEX('App Questionnaire'!$10:$10,1,2*(ROW(A121)-1)+COLUMN(AppHeaderCell) + 1)))","v":""},{"$f":"IF(ISBLANK(INDEX('App Questionnaire'!$6:$6,1,2*(ROW(A121)-1)+COLUMN(AppHeaderCell) + 1)), \"\", (INDEX('App Questionnaire'!$6:$6,1,2*(ROW(A121)-1)+COLUMN(AppHeaderCell) + 1)))","v":""},"",{"$f":"IF(ISBLANK(INDEX('Server Questionnaire'!$6:$6,1,6*(ROW(A121)-1)+COLUMN(ServerHeaderCell) + 1)), \"\", (INDEX('Server Questionnaire'!$6:$6,1,6*(ROW(A121)-1)+COLUMN(ServerHeaderCell) + 1)))","v":""}]
[{"$f":"IF(ISBLANK(INDEX('App Questionnaire'!$10:$10,1,2*(ROW(A122)-1)+COLUMN(AppHeaderCell) + 1)), \"\", (INDEX('App Questionnaire'!$10:$10,1,2*(ROW(A122)-1)+COLUMN(AppHeaderCell) + 1)))","v":""},{"$f":"IF(ISBLANK(INDEX('App Questionnaire'!$6:$6,1,2*(ROW(A122)-1)+COLUMN(AppHeaderCell) + 1)), \"\", (INDEX('App Questionnaire'!$6:$6,1,2*(ROW(A122)-1)+COLUMN(AppHeaderCell) + 1)))","v":""},"",{"$f":"IF(ISBLANK(INDEX('Server Questionnaire'!$6:$6,1,6*(ROW(A122)-1)+COLUMN(ServerHeaderCell) + 1)), \"\", (INDEX('Server Questionnaire'!$6:$6,1,6*(ROW(A122)-1)+COLUMN(ServerHeaderCell) + 1)))","v":""}]
[{"$f":"IF(ISBLANK(INDEX('App Questionnaire'!$10:$10,1,2*(ROW(A123)-1)+COLUMN(AppHeaderCell) + 1)), \"\", (INDEX('App Questionnaire'!$10:$10,1,2*(ROW(A123)-1)+COLUMN(AppHeaderCell) + 1)))","v":""},{"$f":"IF(ISBLANK(INDEX('App Questionnaire'!$6:$6,1,2*(ROW(A123)-1)+COLUMN(AppHeaderCell) + 1)), \"\", (INDEX('App Questionnaire'!$6:$6,1,2*(ROW(A123)-1)+COLUMN(AppHeaderCell) + 1)))","v":""},"",{"$f":"IF(ISBLANK(INDEX('Server Questionnaire'!$6:$6,1,6*(ROW(A123)-1)+COLUMN(ServerHeaderCell) + 1)), \"\", (INDEX('Server Questionnaire'!$6:$6,1,6*(ROW(A123)-1)+COLUMN(ServerHeaderCell) + 1)))","v":""}]
[{"$f":"IF(ISBLANK(INDEX('App Questionnaire'!$10:$10,1,2*(ROW(A124)-1)+COLUMN(AppHeaderCell) + 1)), \"\", (INDEX('App Questionnaire'!$10:$10,1,2*(ROW(A124)-1)+COLUMN(AppHeaderCell) + 1)))","v":""},{"$f":"IF(ISBLANK(INDEX('App Questionnaire'!$6:$6,1,2*(ROW(A124)-1)+COLUMN(AppHeaderCell) + 1)), \"\", (INDEX('App Questionnaire'!$6:$6,1,2*(ROW(A124)-1)+COLUMN(AppHeaderCell) + 1)))","v":""},"",{"$f":"IF(ISBLANK(INDEX('Server Questionnaire'!$6:$6,1,6*(ROW(A124)-1)+COLUMN(ServerHeaderCell) + 1)), \"\", (INDEX('Server Questionnaire'!$6:$6,1,6*(ROW(A124)-1)+COLUMN(ServerHeaderCell) + 1)))","v":""}]
[{"$f":"IF(ISBLANK(INDEX('App Questionnaire'!$10:$10,1,2*(ROW(A125)-1)+COLUMN(AppHeaderCell) + 1)), \"\", (INDEX('App Questionnaire'!$10:$10,1,2*(ROW(A125)-1)+COLUMN(AppHeaderCell) + 1)))","v":""},{"$f":"IF(ISBLANK(INDEX('App Questionnaire'!$6:$6,1,2*(ROW(A125)-1)+COLUMN(AppHeaderCell) + 1)), \"\", (INDEX('App Questionnaire'!$6:$6,1,2*(ROW(A125)-1)+COLUMN(AppHeaderCell) + 1)))","v":""},"",{"$f":"IF(ISBLANK(INDEX('Server Questionnaire'!$6:$6,1,6*(ROW(A125)-1)+COLUMN(ServerHeaderCell) + 1)), \"\", (INDEX('Server Questionnaire'!$6:$6,1,6*(ROW(A125)-1)+COLUMN(ServerHeaderCell) + 1)))","v":""}]
[{"$f":"IF(ISBLANK(INDEX('App Questionnaire'!$10:$10,1,2*(ROW(A126)-1)+COLUMN(AppHeaderCell) + 1)), \"\", (INDEX('App Questionnaire'!$10:$10,1,2*(ROW(A126)-1)+COLUMN(AppHeaderCell) + 1)))","v":""},{"$f":"IF(ISBLANK(INDEX('App Questionnaire'!$6:$6,1,2*(ROW(A126)-1)+COLUMN(AppHeaderCell) + 1)), \"\", (INDEX('App Questionnaire'!$6:$6,1,2*(ROW(A126)-1)+COLUMN(AppHeaderCell) + 1)))","v":""},"",{"$f":"IF(ISBLANK(INDEX('Server Questionnaire'!$6:$6,1,6*(ROW(A126)-1)+COLUMN(ServerHeaderCell) + 1)), \"\", (INDEX('Server Questionnaire'!$6:$6,1,6*(ROW(A126)-1)+COLUMN(ServerHeaderCell) + 1)))","v":""}]
[{"$f":"IF(ISBLANK(INDEX('App Questionnaire'!$10:$10,1,2*(ROW(A127)-1)+COLUMN(AppHeaderCell) + 1)), \"\", (INDEX('App Questionnaire'!$10:$10,1,2*(ROW(A127)-1)+COLUMN(AppHeaderCell) + 1)))","v":""},{"$f":"IF(ISBLANK(INDEX('App Questionnaire'!$6:$6,1,2*(ROW(A127)-1)+COLUMN(AppHeaderCell) + 1)), \"\", (INDEX('App Questionnaire'!$6:$6,1,2*(ROW(A127)-1)+COLUMN(AppHeaderCell) + 1)))","v":""},"",{"$f":"IF(ISBLANK(INDEX('Server Questionnaire'!$6:$6,1,6*(ROW(A127)-1)+COLUMN(ServerHeaderCell) + 1)), \"\", (INDEX('Server Questionnaire'!$6:$6,1,6*(ROW(A127)-1)+COLUMN(ServerHeaderCell) + 1)))","v":""}]
[{"$f":"IF(ISBLANK(INDEX('App Questionnaire'!$10:$10,1,2*(ROW(A128)-1)+COLUMN(AppHeaderCell) + 1)), \"\", (INDEX('App Questionnaire'!$10:$10,1,2*(ROW(A128)-1)+COLUMN(AppHeaderCell) + 1)))","v":""},{"$f":"IF(ISBLANK(INDEX('App Questionnaire'!$6:$6,1,2*(ROW(A128)-1)+COLUMN(AppHeaderCell) + 1)), \"\", (INDEX('App Questionnaire'!$6:$6,1,2*(ROW(A128)-1)+COLUMN(AppHeaderCell) + 1)))","v":""},"",{"$f":"IF(ISBLANK(INDEX('Server Questionnaire'!$6:$6,1,6*(ROW(A128)-1)+COLUMN(ServerHeaderCell) + 1)), \"\", (INDEX('Server Questionnaire'!$6:$6,1,6*(ROW(A128)-1)+COLUMN(ServerHeaderCell) + 1)))","v":""}]
[{"$f":"IF(ISBLANK(INDEX('App Questionnaire'!$10:$10,1,2*(ROW(A129)-1)+COLUMN(AppHeaderCell) + 1)), \"\", (INDEX('App Questionnaire'!$10:$10,1,2*(ROW(A129)-1)+COLUMN(AppHeaderCell) + 1)))","v":""},{"$f":"IF(ISBLANK(INDEX('App Questionnaire'!$6:$6,1,2*(ROW(A129)-1)+COLUMN(AppHeaderCell) + 1)), \"\", (INDEX('App Questionnaire'!$6:$6,1,2*(ROW(A129)-1)+COLUMN(AppHeaderCell) + 1)))","v":""},"",{"$f":"IF(ISBLANK(INDEX('Server Questionnaire'!$6:$6,1,6*(ROW(A129)-1)+COLUMN(ServerHeaderCell) + 1)), \"\", (INDEX('Server Questionnaire'!$6:$6,1,6*(ROW(A129)-1)+COLUMN(ServerHeaderCell) + 1)))","v":""}]
[{"$f":"IF(ISBLANK(INDEX('App Questionnaire'!$10:$10,1,2*(ROW(A130)-1)+COLUMN(AppHeaderCell) + 1)), \"\", (INDEX('App Questionnaire'!$10:$10,1,2*(ROW(A130)-1)+COLUMN(AppHeaderCell) + 1)))","v":""},{"$f":"IF(ISBLANK(INDEX('App Questionnaire'!$6:$6,1,2*(ROW(A130)-1)+COLUMN(AppHeaderCell) + 1)), \"\", (INDEX('App Questionnaire'!$6:$6,1,2*(ROW(A130)-1)+COLUMN(AppHeaderCell) + 1)))","v":""},"",{"$f":"IF(ISBLANK(INDEX('Server Questionnaire'!$6:$6,1,6*(ROW(A130)-1)+COLUMN(ServerHeaderCell) + 1)), \"\", (INDEX('Server Questionnaire'!$6:$6,1,6*(ROW(A130)-1)+COLUMN(ServerHeaderCell) + 1)))","v":""}]
[{"$f":"IF(ISBLANK(INDEX('App Questionnaire'!$10:$10,1,2*(ROW(A131)-1)+COLUMN(AppHeaderCell) + 1)), \"\", (INDEX('App Questionnaire'!$10:$10,1,2*(ROW(A131)-1)+COLUMN(AppHeaderCell) + 1)))","v":""},{"$f":"IF(ISBLANK(INDEX('App Questionnaire'!$6:$6,1,2*(ROW(A131)-1)+COLUMN(AppHeaderCell) + 1)), \"\", (INDEX('App Questionnaire'!$6:$6,1,2*(ROW(A131)-1)+COLUMN(AppHeaderCell) + 1)))","v":""},"",{"$f":"IF(ISBLANK(INDEX('Server Questionnaire'!$6:$6,1,6*(ROW(A131)-1)+COLUMN(ServerHeaderCell) + 1)), \"\", (INDEX('Server Questionnaire'!$6:$6,1,6*(ROW(A131)-1)+COLUMN(ServerHeaderCell) + 1)))","v":""}]
[{"$f":"IF(ISBLANK(INDEX('App Questionnaire'!$10:$10,1,2*(ROW(A132)-1)+COLUMN(AppHeaderCell) + 1)), \"\", (INDEX('App Questionnaire'!$10:$10,1,2*(ROW(A132)-1)+COLUMN(AppHeaderCell) + 1)))","v":""},{"$f":"IF(ISBLANK(INDEX('App Questionnaire'!$6:$6,1,2*(ROW(A132)-1)+COLUMN(AppHeaderCell) + 1)), \"\", (INDEX('App Questionnaire'!$6:$6,1,2*(ROW(A132)-1)+COLUMN(AppHeaderCell) + 1)))","v":""},"",{"$f":"IF(ISBLANK(INDEX('Server Questionnaire'!$6:$6,1,6*(ROW(A132)-1)+COLUMN(ServerHeaderCell) + 1)), \"\", (INDEX('Server Questionnaire'!$6:$6,1,6*(ROW(A132)-1)+COLUMN(ServerHeaderCell) + 1)))","v":""}]
[{"$f":"IF(ISBLANK(INDEX('App Questionnaire'!$10:$10,1,2*(ROW(A133)-1)+COLUMN(AppHeaderCell) + 1)), \"\", (INDEX('App Questionnaire'!$10:$10,1,2*(ROW(A133)-1)+COLUMN(AppHeaderCell) + 1)))","v":""},{"$f":"IF(ISBLANK(INDEX('App Questionnaire'!$6:$6,1,2*(ROW(A133)-1)+COLUMN(AppHeaderCell) + 1)), \"\", (INDEX('App Questionnaire'!$6:$6,1,2*(ROW(A133)-1)+COLUMN(AppHeaderCell) + 1)))","v":""},"",{"$f":"IF(ISBLANK(INDEX('Server Questionnaire'!$6:$6,1,6*(ROW(A133)-1)+COLUMN(ServerHeaderCell) + 1)), \"\", (INDEX('Server Questionnaire'!$6:$6,1,6*(ROW(A133)-1)+COLUMN(ServerHeaderCell) + 1)))","v":""}]
[{"$f":"IF(ISBLANK(INDEX('App Questionnaire'!$10:$10,1,2*(ROW(A134)-1)+COLUMN(AppHeaderCell) + 1)), \"\", (INDEX('App Questionnaire'!$10:$10,1,2*(ROW(A134)-1)+COLUMN(AppHeaderCell) + 1)))","v":""},{"$f":"IF(ISBLANK(INDEX('App Questionnaire'!$6:$6,1,2*(ROW(A134)-1)+COLUMN(AppHeaderCell) + 1)), \"\", (INDEX('App Questionnaire'!$6:$6,1,2*(ROW(A134)-1)+COLUMN(AppHeaderCell) + 1)))","v":""},"",{"$f":"IF(ISBLANK(INDEX('Server Questionnaire'!$6:$6,1,6*(ROW(A134)-1)+COLUMN(ServerHeaderCell) + 1)), \"\", (INDEX('Server Questionnaire'!$6:$6,1,6*(ROW(A134)-1)+COLUMN(ServerHeaderCell) + 1)))","v":""}]
[{"$f":"IF(ISBLANK(INDEX('App Questionnaire'!$10:$10,1,2*(ROW(A135)-1)+COLUMN(AppHeaderCell) + 1)), \"\", (INDEX('App Questionnaire'!$10:$10,1,2*(ROW(A135)-1)+COLUMN(AppHeaderCell) + 1)))","v":""},{"$f":"IF(ISBLANK(INDEX('App Questionnaire'!$6:$6,1,2*(ROW(A135)-1)+COLUMN(AppHeaderCell) + 1)), \"\", (INDEX('App Questionnaire'!$6:$6,1,2*(ROW(A135)-1)+COLUMN(AppHeaderCell) + 1)))","v":""},"",{"$f":"IF(ISBLANK(INDEX('Server Questionnaire'!$6:$6,1,6*(ROW(A135)-1)+COLUMN(ServerHeaderCell) + 1)), \"\", (INDEX('Server Questionnaire'!$6:$6,1,6*(ROW(A135)-1)+COLUMN(ServerHeaderCell) + 1)))","v":""}]
[{"$f":"IF(ISBLANK(INDEX('App Questionnaire'!$10:$10,1,2*(ROW(A136)-1)+COLUMN(AppHeaderCell) + 1)), \"\", (INDEX('App Questionnaire'!$10:$10,1,2*(ROW(A136)-1)+COLUMN(AppHeaderCell) + 1)))","v":""},{"$f":"IF(ISBLANK(INDEX('App Questionnaire'!$6:$6,1,2*(ROW(A136)-1)+COLUMN(AppHeaderCell) + 1)), \"\", (INDEX('App Questionnaire'!$6:$6,1,2*(ROW(A136)-1)+COLUMN(AppHeaderCell) + 1)))","v":""},"",{"$f":"IF(ISBLANK(INDEX('Server Questionnaire'!$6:$6,1,6*(ROW(A136)-1)+COLUMN(ServerHeaderCell) + 1)), \"\", (INDEX('Server Questionnaire'!$6:$6,1,6*(ROW(A136)-1)+COLUMN(ServerHeaderCell) + 1)))","v":""}]
[{"$f":"IF(ISBLANK(INDEX('App Questionnaire'!$10:$10,1,2*(ROW(A137)-1)+COLUMN(AppHeaderCell) + 1)), \"\", (INDEX('App Questionnaire'!$10:$10,1,2*(ROW(A137)-1)+COLUMN(AppHeaderCell) + 1)))","v":""},{"$f":"IF(ISBLANK(INDEX('App Questionnaire'!$6:$6,1,2*(ROW(A137)-1)+COLUMN(AppHeaderCell) + 1)), \"\", (INDEX('App Questionnaire'!$6:$6,1,2*(ROW(A137)-1)+COLUMN(AppHeaderCell) + 1)))","v":""},"",{"$f":"IF(ISBLANK(INDEX('Server Questionnaire'!$6:$6,1,6*(ROW(A137)-1)+COLUMN(ServerHeaderCell) + 1)), \"\", (INDEX('Server Questionnaire'!$6:$6,1,6*(ROW(A137)-1)+COLUMN(ServerHeaderCell) + 1)))","v":""}]
[{"$f":"IF(ISBLANK(INDEX('App Questionnaire'!$10:$10,1,2*(ROW(A138)-1)+COLUMN(AppHeaderCell) + 1)), \"\", (INDEX('App Questionnaire'!$10:$10,1,2*(ROW(A138)-1)+COLUMN(AppHeaderCell) + 1)))","v":""},{"$f":"IF(ISBLANK(INDEX('App Questionnaire'!$6:$6,1,2*(ROW(A138)-1)+COLUMN(AppHeaderCell) + 1)), \"\", (INDEX('App Questionnaire'!$6:$6,1,2*(ROW(A138)-1)+COLUMN(AppHeaderCell) + 1)))","v":""},{"$f":" IF(B132 = \"\", \"\", B132 & \" - \" & A132)","v":""},{"$f":"IF(ISBLANK(INDEX('Server Questionnaire'!$6:$6,1,6*(ROW(A138)-1)+COLUMN(ServerHeaderCell) + 1)), \"\", (INDEX('Server Questionnaire'!$6:$6,1,6*(ROW(A138)-1)+COLUMN(ServerHeaderCell) + 1)))","v":""}]
[{"$f":"IF(ISBLANK(INDEX('App Questionnaire'!$10:$10,1,2*(ROW(A139)-1)+COLUMN(AppHeaderCell) + 1)), \"\", (INDEX('App Questionnaire'!$10:$10,1,2*(ROW(A139)-1)+COLUMN(AppHeaderCell) + 1)))","v":""},{"$f":"IF(ISBLANK(INDEX('App Questionnaire'!$6:$6,1,2*(ROW(A139)-1)+COLUMN(AppHeaderCell) + 1)), \"\", (INDEX('App Questionnaire'!$6:$6,1,2*(ROW(A139)-1)+COLUMN(AppHeaderCell) + 1)))","v":""},"",{"$f":"IF(ISBLANK(INDEX('Server Questionnaire'!$6:$6,1,6*(ROW(A139)-1)+COLUMN(ServerHeaderCell) + 1)), \"\", (INDEX('Server Questionnaire'!$6:$6,1,6*(ROW(A139)-1)+COLUMN(ServerHeaderCell) + 1)))","v":""}]
[{"$f":"IF(ISBLANK(INDEX('App Questionnaire'!$10:$10,1,2*(ROW(A140)-1)+COLUMN(AppHeaderCell) + 1)), \"\", (INDEX('App Questionnaire'!$10:$10,1,2*(ROW(A140)-1)+COLUMN(AppHeaderCell) + 1)))","v":""},{"$f":"IF(ISBLANK(INDEX('App Questionnaire'!$6:$6,1,2*(ROW(A140)-1)+COLUMN(AppHeaderCell) + 1)), \"\", (INDEX('App Questionnaire'!$6:$6,1,2*(ROW(A140)-1)+COLUMN(AppHeaderCell) + 1)))","v":""},"",{"$f":"IF(ISBLANK(INDEX('Server Questionnaire'!$6:$6,1,6*(ROW(A140)-1)+COLUMN(ServerHeaderCell) + 1)), \"\", (INDEX('Server Questionnaire'!$6:$6,1,6*(ROW(A140)-1)+COLUMN(ServerHeaderCell) + 1)))","v":""}]
[{"$f":"IF(ISBLANK(INDEX('App Questionnaire'!$10:$10,1,2*(ROW(A141)-1)+COLUMN(AppHeaderCell) + 1)), \"\", (INDEX('App Questionnaire'!$10:$10,1,2*(ROW(A141)-1)+COLUMN(AppHeaderCell) + 1)))","v":""},{"$f":"IF(ISBLANK(INDEX('App Questionnaire'!$6:$6,1,2*(ROW(A141)-1)+COLUMN(AppHeaderCell) + 1)), \"\", (INDEX('App Questionnaire'!$6:$6,1,2*(ROW(A141)-1)+COLUMN(AppHeaderCell) + 1)))","v":""},"",{"$f":"IF(ISBLANK(INDEX('Server Questionnaire'!$6:$6,1,6*(ROW(A141)-1)+COLUMN(ServerHeaderCell) + 1)), \"\", (INDEX('Server Questionnaire'!$6:$6,1,6*(ROW(A141)-1)+COLUMN(ServerHeaderCell) + 1)))","v":""}]
[{"$f":"IF(ISBLANK(INDEX('App Questionnaire'!$10:$10,1,2*(ROW(A142)-1)+COLUMN(AppHeaderCell) + 1)), \"\", (INDEX('App Questionnaire'!$10:$10,1,2*(ROW(A142)-1)+COLUMN(AppHeaderCell) + 1)))","v":""},{"$f":"IF(ISBLANK(INDEX('App Questionnaire'!$6:$6,1,2*(ROW(A142)-1)+COLUMN(AppHeaderCell) + 1)), \"\", (INDEX('App Questionnaire'!$6:$6,1,2*(ROW(A142)-1)+COLUMN(AppHeaderCell) + 1)))","v":""},"",{"$f":"IF(ISBLANK(INDEX('Server Questionnaire'!$6:$6,1,6*(ROW(A142)-1)+COLUMN(ServerHeaderCell) + 1)), \"\", (INDEX('Server Questionnaire'!$6:$6,1,6*(ROW(A142)-1)+COLUMN(ServerHeaderCell) + 1)))","v":""}]
[{"$f":"IF(ISBLANK(INDEX('App Questionnaire'!$10:$10,1,2*(ROW(A143)-1)+COLUMN(AppHeaderCell) + 1)), \"\", (INDEX('App Questionnaire'!$10:$10,1,2*(ROW(A143)-1)+COLUMN(AppHeaderCell) + 1)))","v":""},{"$f":"IF(ISBLANK(INDEX('App Questionnaire'!$6:$6,1,2*(ROW(A143)-1)+COLUMN(AppHeaderCell) + 1)), \"\", (INDEX('App Questionnaire'!$6:$6,1,2*(ROW(A143)-1)+COLUMN(AppHeaderCell) + 1)))","v":""},"",{"$f":"IF(ISBLANK(INDEX('Server Questionnaire'!$6:$6,1,6*(ROW(A143)-1)+COLUMN(ServerHeaderCell) + 1)), \"\", (INDEX('Server Questionnaire'!$6:$6,1,6*(ROW(A143)-1)+COLUMN(ServerHeaderCell) + 1)))","v":""}]
[{"$f":"IF(ISBLANK(INDEX('App Questionnaire'!$10:$10,1,2*(ROW(A144)-1)+COLUMN(AppHeaderCell) + 1)), \"\", (INDEX('App Questionnaire'!$10:$10,1,2*(ROW(A144)-1)+COLUMN(AppHeaderCell) + 1)))","v":""},{"$f":"IF(ISBLANK(INDEX('App Questionnaire'!$6:$6,1,2*(ROW(A144)-1)+COLUMN(AppHeaderCell) + 1)), \"\", (INDEX('App Questionnaire'!$6:$6,1,2*(ROW(A144)-1)+COLUMN(AppHeaderCell) + 1)))","v":""},"",{"$f":"IF(ISBLANK(INDEX('Server Questionnaire'!$6:$6,1,6*(ROW(A144)-1)+COLUMN(ServerHeaderCell) + 1)), \"\", (INDEX('Server Questionnaire'!$6:$6,1,6*(ROW(A144)-1)+COLUMN(ServerHeaderCell) + 1)))","v":""}]
[{"$f":"IF(ISBLANK(INDEX('App Questionnaire'!$10:$10,1,2*(ROW(A145)-1)+COLUMN(AppHeaderCell) + 1)), \"\", (INDEX('App Questionnaire'!$10:$10,1,2*(ROW(A145)-1)+COLUMN(AppHeaderCell) + 1)))","v":""},{"$f":"IF(ISBLANK(INDEX('App Questionnaire'!$6:$6,1,2*(ROW(A145)-1)+COLUMN(AppHeaderCell) + 1)), \"\", (INDEX('App Questionnaire'!$6:$6,1,2*(ROW(A145)-1)+COLUMN(AppHeaderCell) + 1)))","v":""},"",{"$f":"IF(ISBLANK(INDEX('Server Questionnaire'!$6:$6,1,6*(ROW(A145)-1)+COLUMN(ServerHeaderCell) + 1)), \"\", (INDEX('Server Questionnaire'!$6:$6,1,6*(ROW(A145)-1)+COLUMN(ServerHeaderCell) + 1)))","v":""}]
[{"$f":"IF(ISBLANK(INDEX('App Questionnaire'!$10:$10,1,2*(ROW(A146)-1)+COLUMN(AppHeaderCell) + 1)), \"\", (INDEX('App Questionnaire'!$10:$10,1,2*(ROW(A146)-1)+COLUMN(AppHeaderCell) + 1)))","v":""},{"$f":"IF(ISBLANK(INDEX('App Questionnaire'!$6:$6,1,2*(ROW(A146)-1)+COLUMN(AppHeaderCell) + 1)), \"\", (INDEX('App Questionnaire'!$6:$6,1,2*(ROW(A146)-1)+COLUMN(AppHeaderCell) + 1)))","v":""},"",{"$f":"IF(ISBLANK(INDEX('Server Questionnaire'!$6:$6,1,6*(ROW(A146)-1)+COLUMN(ServerHeaderCell) + 1)), \"\", (INDEX('Server Questionnaire'!$6:$6,1,6*(ROW(A146)-1)+COLUMN(ServerHeaderCell) + 1)))","v":""}]
[{"$f":"IF(ISBLANK(INDEX('App Questionnaire'!$10:$10,1,2*(ROW(A147)-1)+COLUMN(AppHeaderCell) + 1)), \"\", (INDEX('App Questionnaire'!$10:$10,1,2*(ROW(A147)-1)+COLUMN(AppHeaderCell) + 1)))","v":""},{"$f":"IF(ISBLANK(INDEX('App Questionnaire'!$6:$6,1,2*(ROW(A147)-1)+COLUMN(AppHeaderCell) + 1)), \"\", (INDEX('App Questionnaire'!$6:$6,1,2*(ROW(A147)-1)+COLUMN(AppHeaderCell) + 1)))","v":""},"",{"$f":"IF(ISBLANK(INDEX('Server Questionnaire'!$6:$6,1,6*(ROW(A147)-1)+COLUMN(ServerHeaderCell) + 1)), \"\", (INDEX('Server Questionnaire'!$6:$6,1,6*(ROW(A147)-1)+COLUMN(ServerHeaderCell) + 1)))","v":""}]
[{"$f":"IF(ISBLANK(INDEX('App Questionnaire'!$10:$10,1,2*(ROW(A148)-1)+COLUMN(AppHeaderCell) + 1)), \"\", (INDEX('App Questionnaire'!$10:$10,1,2*(ROW(A148)-1)+COLUMN(AppHeaderCell) + 1)))","v":""},{"$f":"IF(ISBLANK(INDEX('App Questionnaire'!$6:$6,1,2*(ROW(A148)-1)+COLUMN(AppHeaderCell) + 1)), \"\", (INDEX('App Questionnaire'!$6:$6,1,2*(ROW(A148)-1)+COLUMN(AppHeaderCell) + 1)))","v":""},"",{"$f":"IF(ISBLANK(INDEX('Server Questionnaire'!$6:$6,1,6*(ROW(A148)-1)+COLUMN(ServerHeaderCell) + 1)), \"\", (INDEX('Server Questionnaire'!$6:$6,1,6*(ROW(A148)-1)+COLUMN(ServerHeaderCell) + 1)))","v":""}]
[{"$f":"IF(ISBLANK(INDEX('App Questionnaire'!$10:$10,1,2*(ROW(A149)-1)+COLUMN(AppHeaderCell) + 1)), \"\", (INDEX('App Questionnaire'!$10:$10,1,2*(ROW(A149)-1)+COLUMN(AppHeaderCell) + 1)))","v":""},{"$f":"IF(ISBLANK(INDEX('App Questionnaire'!$6:$6,1,2*(ROW(A149)-1)+COLUMN(AppHeaderCell) + 1)), \"\", (INDEX('App Questionnaire'!$6:$6,1,2*(ROW(A149)-1)+COLUMN(AppHeaderCell) + 1)))","v":""},"",{"$f":"IF(ISBLANK(INDEX('Server Questionnaire'!$6:$6,1,6*(ROW(A149)-1)+COLUMN(ServerHeaderCell) + 1)), \"\", (INDEX('Server Questionnaire'!$6:$6,1,6*(ROW(A149)-1)+COLUMN(ServerHeaderCell) + 1)))","v":""}]
[{"$f":"IF(ISBLANK(INDEX('App Questionnaire'!$10:$10,1,2*(ROW(A150)-1)+COLUMN(AppHeaderCell) + 1)), \"\", (INDEX('App Questionnaire'!$10:$10,1,2*(ROW(A150)-1)+COLUMN(AppHeaderCell) + 1)))","v":""},{"$f":"IF(ISBLANK(INDEX('App Questionnaire'!$6:$6,1,2*(ROW(A150)-1)+COLUMN(AppHeaderCell) + 1)), \"\", (INDEX('App Questionnaire'!$6:$6,1,2*(ROW(A150)-1)+COLUMN(AppHeaderCell) + 1)))","v":""},"",{"$f":"IF(ISBLANK(INDEX('Server Questionnaire'!$6:$6,1,6*(ROW(A150)-1)+COLUMN(ServerHeaderCell) + 1)), \"\", (INDEX('Server Questionnaire'!$6:$6,1,6*(ROW(A150)-1)+COLUMN(ServerHeaderCell) + 1)))","v":""}]
[{"$f":"IF(ISBLANK(INDEX('App Questionnaire'!$10:$10,1,2*(ROW(A151)-1)+COLUMN(AppHeaderCell) + 1)), \"\", (INDEX('App Questionnaire'!$10:$10,1,2*(ROW(A151)-1)+COLUMN(AppHeaderCell) + 1)))","v":""},{"$f":"IF(ISBLANK(INDEX('App Questionnaire'!$6:$6,1,2*(ROW(A151)-1)+COLUMN(AppHeaderCell) + 1)), \"\", (INDEX('App Questionnaire'!$6:$6,1,2*(ROW(A151)-1)+COLUMN(AppHeaderCell) + 1)))","v":""},"",{"$f":"IF(ISBLANK(INDEX('Server Questionnaire'!$6:$6,1,6*(ROW(A151)-1)+COLUMN(ServerHeaderCell) + 1)), \"\", (INDEX('Server Questionnaire'!$6:$6,1,6*(ROW(A151)-1)+COLUMN(ServerHeaderCell) + 1)))","v":""}]
[{"$f":"IF(ISBLANK(INDEX('App Questionnaire'!$10:$10,1,2*(ROW(A152)-1)+COLUMN(AppHeaderCell) + 1)), \"\", (INDEX('App Questionnaire'!$10:$10,1,2*(ROW(A152)-1)+COLUMN(AppHeaderCell) + 1)))","v":""},{"$f":"IF(ISBLANK(INDEX('App Questionnaire'!$6:$6,1,2*(ROW(A152)-1)+COLUMN(AppHeaderCell) + 1)), \"\", (INDEX('App Questionnaire'!$6:$6,1,2*(ROW(A152)-1)+COLUMN(AppHeaderCell) + 1)))","v":""},"",{"$f":"IF(ISBLANK(INDEX('Server Questionnaire'!$6:$6,1,6*(ROW(A152)-1)+COLUMN(ServerHeaderCell) + 1)), \"\", (INDEX('Server Questionnaire'!$6:$6,1,6*(ROW(A152)-1)+COLUMN(ServerHeaderCell) + 1)))","v":""}]
[{"$f":"IF(ISBLANK(INDEX('App Questionnaire'!$10:$10,1,2*(ROW(A153)-1)+COLUMN(AppHeaderCell) + 1)), \"\", (INDEX('App Questionnaire'!$10:$10,1,2*(ROW(A153)-1)+COLUMN(AppHeaderCell) + 1)))","v":""},{"$f":"IF(ISBLANK(INDEX('App Questionnaire'!$6:$6,1,2*(ROW(A153)-1)+COLUMN(AppHeaderCell) + 1)), \"\", (INDEX('App Questionnaire'!$6:$6,1,2*(ROW(A153)-1)+COLUMN(AppHeaderCell) + 1)))","v":""},"",{"$f":"IF(ISBLANK(INDEX('Server Questionnaire'!$6:$6,1,6*(ROW(A153)-1)+COLUMN(ServerHeaderCell) + 1)), \"\", (INDEX('Server Questionnaire'!$6:$6,1,6*(ROW(A153)-1)+COLUMN(ServerHeaderCell) + 1)))","v":""}]
[{"$f":"IF(ISBLANK(INDEX('App Questionnaire'!$10:$10,1,2*(ROW(A154)-1)+COLUMN(AppHeaderCell) + 1)), \"\", (INDEX('App Questionnaire'!$10:$10,1,2*(ROW(A154)-1)+COLUMN(AppHeaderCell) + 1)))","v":""},{"$f":"IF(ISBLANK(INDEX('App Questionnaire'!$6:$6,1,2*(ROW(A154)-1)+COLUMN(AppHeaderCell) + 1)), \"\", (INDEX('App Questionnaire'!$6:$6,1,2*(ROW(A154)-1)+COLUMN(AppHeaderCell) + 1)))","v":""},"",{"$f":"IF(ISBLANK(INDEX('Server Questionnaire'!$6:$6,1,6*(ROW(A154)-1)+COLUMN(ServerHeaderCell) + 1)), \"\", (INDEX('Server Questionnaire'!$6:$6,1,6*(ROW(A154)-1)+COLUMN(ServerHeaderCell) + 1)))","v":""}]
[{"$f":"IF(ISBLANK(INDEX('App Questionnaire'!$10:$10,1,2*(ROW(A155)-1)+COLUMN(AppHeaderCell) + 1)), \"\", (INDEX('App Questionnaire'!$10:$10,1,2*(ROW(A155)-1)+COLUMN(AppHeaderCell) + 1)))","v":""},{"$f":"IF(ISBLANK(INDEX('App Questionnaire'!$6:$6,1,2*(ROW(A155)-1)+COLUMN(AppHeaderCell) + 1)), \"\", (INDEX('App Questionnaire'!$6:$6,1,2*(ROW(A155)-1)+COLUMN(AppHeaderCell) + 1)))","v":""},"",{"$f":"IF(ISBLANK(INDEX('Server Questionnaire'!$6:$6,1,6*(ROW(A155)-1)+COLUMN(ServerHeaderCell) + 1)), \"\", (INDEX('Server Questionnaire'!$6:$6,1,6*(ROW(A155)-1)+COLUMN(ServerHeaderCell) + 1)))","v":""}]
[{"$f":"IF(ISBLANK(INDEX('App Questionnaire'!$10:$10,1,2*(ROW(A156)-1)+COLUMN(AppHeaderCell) + 1)), \"\", (INDEX('App Questionnaire'!$10:$10,1,2*(ROW(A156)-1)+COLUMN(AppHeaderCell) + 1)))","v":""},{"$f":"IF(ISBLANK(INDEX('App Questionnaire'!$6:$6,1,2*(ROW(A156)-1)+COLUMN(AppHeaderCell) + 1)), \"\", (INDEX('App Questionnaire'!$6:$6,1,2*(ROW(A156)-1)+COLUMN(AppHeaderCell) + 1)))","v":""},"",{"$f":"IF(ISBLANK(INDEX('Server Questionnaire'!$6:$6,1,6*(ROW(A156)-1)+COLUMN(ServerHeaderCell) + 1)), \"\", (INDEX('Server Questionnaire'!$6:$6,1,6*(ROW(A156)-1)+COLUMN(ServerHeaderCell) + 1)))","v":""}]
[{"$f":"IF(ISBLANK(INDEX('App Questionnaire'!$10:$10,1,2*(ROW(A157)-1)+COLUMN(AppHeaderCell) + 1)), \"\", (INDEX('App Questionnaire'!$10:$10,1,2*(ROW(A157)-1)+COLUMN(AppHeaderCell) + 1)))","v":""},{"$f":"IF(ISBLANK(INDEX('App Questionnaire'!$6:$6,1,2*(ROW(A157)-1)+COLUMN(AppHeaderCell) + 1)), \"\", (INDEX('App Questionnaire'!$6:$6,1,2*(ROW(A157)-1)+COLUMN(AppHeaderCell) + 1)))","v":""},"",{"$f":"IF(ISBLANK(INDEX('Server Questionnaire'!$6:$6,1,6*(ROW(A157)-1)+COLUMN(ServerHeaderCell) + 1)), \"\", (INDEX('Server Questionnaire'!$6:$6,1,6*(ROW(A157)-1)+COLUMN(ServerHeaderCell) + 1)))","v":""}]
[{"$f":"IF(ISBLANK(INDEX('App Questionnaire'!$10:$10,1,2*(ROW(A158)-1)+COLUMN(AppHeaderCell) + 1)), \"\", (INDEX('App Questionnaire'!$10:$10,1,2*(ROW(A158)-1)+COLUMN(AppHeaderCell) + 1)))","v":""},{"$f":"IF(ISBLANK(INDEX('App Questionnaire'!$6:$6,1,2*(ROW(A158)-1)+COLUMN(AppHeaderCell) + 1)), \"\", (INDEX('App Questionnaire'!$6:$6,1,2*(ROW(A158)-1)+COLUMN(AppHeaderCell) + 1)))","v":""},"",{"$f":"IF(ISBLANK(INDEX('Server Questionnaire'!$6:$6,1,6*(ROW(A158)-1)+COLUMN(ServerHeaderCell) + 1)), \"\", (INDEX('Server Questionnaire'!$6:$6,1,6*(ROW(A158)-1)+COLUMN(ServerHeaderCell) + 1)))","v":""}]
[{"$f":"IF(ISBLANK(INDEX('App Questionnaire'!$10:$10,1,2*(ROW(A159)-1)+COLUMN(AppHeaderCell) + 1)), \"\", (INDEX('App Questionnaire'!$10:$10,1,2*(ROW(A159)-1)+COLUMN(AppHeaderCell) + 1)))","v":""},{"$f":"IF(ISBLANK(INDEX('App Questionnaire'!$6:$6,1,2*(ROW(A159)-1)+COLUMN(AppHeaderCell) + 1)), \"\", (INDEX('App Questionnaire'!$6:$6,1,2*(ROW(A159)-1)+COLUMN(AppHeaderCell) + 1)))","v":""},"",{"$f":"IF(ISBLANK(INDEX('Server Questionnaire'!$6:$6,1,6*(ROW(A159)-1)+COLUMN(ServerHeaderCell) + 1)), \"\", (INDEX('Server Questionnaire'!$6:$6,1,6*(ROW(A159)-1)+COLUMN(ServerHeaderCell) + 1)))","v":""}]
[{"$f":"IF(ISBLANK(INDEX('App Questionnaire'!$10:$10,1,2*(ROW(A160)-1)+COLUMN(AppHeaderCell) + 1)), \"\", (INDEX('App Questionnaire'!$10:$10,1,2*(ROW(A160)-1)+COLUMN(AppHeaderCell) + 1)))","v":""},{"$f":"IF(ISBLANK(INDEX('App Questionnaire'!$6:$6,1,2*(ROW(A160)-1)+COLUMN(AppHeaderCell) + 1)), \"\", (INDEX('App Questionnaire'!$6:$6,1,2*(ROW(A160)-1)+COLUMN(AppHeaderCell) + 1)))","v":""},"",{"$f":"IF(ISBLANK(INDEX('Server Questionnaire'!$6:$6,1,6*(ROW(A160)-1)+COLUMN(ServerHeaderCell) + 1)), \"\", (INDEX('Server Questionnaire'!$6:$6,1,6*(ROW(A160)-1)+COLUMN(ServerHeaderCell) + 1)))","v":""}]
[{"$f":"IF(ISBLANK(INDEX('App Questionnaire'!$10:$10,1,2*(ROW(A161)-1)+COLUMN(AppHeaderCell) + 1)), \"\", (INDEX('App Questionnaire'!$10:$10,1,2*(ROW(A161)-1)+COLUMN(AppHeaderCell) + 1)))","v":""},{"$f":"IF(ISBLANK(INDEX('App Questionnaire'!$6:$6,1,2*(ROW(A161)-1)+COLUMN(AppHeaderCell) + 1)), \"\", (INDEX('App Questionnaire'!$6:$6,1,2*(ROW(A161)-1)+COLUMN(AppHeaderCell) + 1)))","v":""},"",{"$f":"IF(ISBLANK(INDEX('Server Questionnaire'!$6:$6,1,6*(ROW(A161)-1)+COLUMN(ServerHeaderCell) + 1)), \"\", (INDEX('Server Questionnaire'!$6:$6,1,6*(ROW(A161)-1)+COLUMN(ServerHeaderCell) + 1)))","v":""}]
[{"$f":"IF(ISBLANK(INDEX('App Questionnaire'!$10:$10,1,2*(ROW(A162)-1)+COLUMN(AppHeaderCell) + 1)), \"\", (INDEX('App Questionnaire'!$10:$10,1,2*(ROW(A162)-1)+COLUMN(AppHeaderCell) + 1)))","v":""},{"$f":"IF(ISBLANK(INDEX('App Questionnaire'!$6:$6,1,2*(ROW(A162)-1)+COLUMN(AppHeaderCell) + 1)), \"\", (INDEX('App Questionnaire'!$6:$6,1,2*(ROW(A162)-1)+COLUMN(AppHeaderCell) + 1)))","v":""},"",{"$f":"IF(ISBLANK(INDEX('Server Questionnaire'!$6:$6,1,6*(ROW(A162)-1)+COLUMN(ServerHeaderCell) + 1)), \"\", (INDEX('Server Questionnaire'!$6:$6,1,6*(ROW(A162)-1)+COLUMN(ServerHeaderCell) + 1)))","v":""}]
[{"$f":"IF(ISBLANK(INDEX('App Questionnaire'!$10:$10,1,2*(ROW(A163)-1)+COLUMN(AppHeaderCell) + 1)), \"\", (INDEX('App Questionnaire'!$10:$10,1,2*(ROW(A163)-1)+COLUMN(AppHeaderCell) + 1)))","v":""},{"$f":"IF(ISBLANK(INDEX('App Questionnaire'!$6:$6,1,2*(ROW(A163)-1)+COLUMN(AppHeaderCell) + 1)), \"\", (INDEX('App Questionnaire'!$6:$6,1,2*(ROW(A163)-1)+COLUMN(AppHeaderCell) + 1)))","v":""},"",{"$f":"IF(ISBLANK(INDEX('Server Questionnaire'!$6:$6,1,6*(ROW(A163)-1)+COLUMN(ServerHeaderCell) + 1)), \"\", (INDEX('Server Questionnaire'!$6:$6,1,6*(ROW(A163)-1)+COLUMN(ServerHeaderCell) + 1)))","v":""}]
[{"$f":"IF(ISBLANK(INDEX('App Questionnaire'!$10:$10,1,2*(ROW(A164)-1)+COLUMN(AppHeaderCell) + 1)), \"\", (INDEX('App Questionnaire'!$10:$10,1,2*(ROW(A164)-1)+COLUMN(AppHeaderCell) + 1)))","v":""},{"$f":"IF(ISBLANK(INDEX('App Questionnaire'!$6:$6,1,2*(ROW(A164)-1)+COLUMN(AppHeaderCell) + 1)), \"\", (INDEX('App Questionnaire'!$6:$6,1,2*(ROW(A164)-1)+COLUMN(AppHeaderCell) + 1)))","v":""},"",{"$f":"IF(ISBLANK(INDEX('Server Questionnaire'!$6:$6,1,6*(ROW(A164)-1)+COLUMN(ServerHeaderCell) + 1)), \"\", (INDEX('Server Questionnaire'!$6:$6,1,6*(ROW(A164)-1)+COLUMN(ServerHeaderCell) + 1)))","v":""}]
[{"$f":"IF(ISBLANK(INDEX('App Questionnaire'!$10:$10,1,2*(ROW(A165)-1)+COLUMN(AppHeaderCell) + 1)), \"\", (INDEX('App Questionnaire'!$10:$10,1,2*(ROW(A165)-1)+COLUMN(AppHeaderCell) + 1)))","v":""},{"$f":"IF(ISBLANK(INDEX('App Questionnaire'!$6:$6,1,2*(ROW(A165)-1)+COLUMN(AppHeaderCell) + 1)), \"\", (INDEX('App Questionnaire'!$6:$6,1,2*(ROW(A165)-1)+COLUMN(AppHeaderCell) + 1)))","v":""},"",{"$f":"IF(ISBLANK(INDEX('Server Questionnaire'!$6:$6,1,6*(ROW(A165)-1)+COLUMN(ServerHeaderCell) + 1)), \"\", (INDEX('Server Questionnaire'!$6:$6,1,6*(ROW(A165)-1)+COLUMN(ServerHeaderCell) + 1)))","v":""}]
[{"$f":"IF(ISBLANK(INDEX('App Questionnaire'!$10:$10,1,2*(ROW(A166)-1)+COLUMN(AppHeaderCell) + 1)), \"\", (INDEX('App Questionnaire'!$10:$10,1,2*(ROW(A166)-1)+COLUMN(AppHeaderCell) + 1)))","v":""},{"$f":"IF(ISBLANK(INDEX('App Questionnaire'!$6:$6,1,2*(ROW(A166)-1)+COLUMN(AppHeaderCell) + 1)), \"\", (INDEX('App Questionnaire'!$6:$6,1,2*(ROW(A166)-1)+COLUMN(AppHeaderCell) + 1)))","v":""},"",{"$f":"IF(ISBLANK(INDEX('Server Questionnaire'!$6:$6,1,6*(ROW(A166)-1)+COLUMN(ServerHeaderCell) + 1)), \"\", (INDEX('Server Questionnaire'!$6:$6,1,6*(ROW(A166)-1)+COLUMN(ServerHeaderCell) + 1)))","v":""}]
[{"$f":"IF(ISBLANK(INDEX('App Questionnaire'!$10:$10,1,2*(ROW(A167)-1)+COLUMN(AppHeaderCell) + 1)), \"\", (INDEX('App Questionnaire'!$10:$10,1,2*(ROW(A167)-1)+COLUMN(AppHeaderCell) + 1)))","v":""},{"$f":"IF(ISBLANK(INDEX('App Questionnaire'!$6:$6,1,2*(ROW(A167)-1)+COLUMN(AppHeaderCell) + 1)), \"\", (INDEX('App Questionnaire'!$6:$6,1,2*(ROW(A167)-1)+COLUMN(AppHeaderCell) + 1)))","v":""},"",{"$f":"IF(ISBLANK(INDEX('Server Questionnaire'!$6:$6,1,6*(ROW(A167)-1)+COLUMN(ServerHeaderCell) + 1)), \"\", (INDEX('Server Questionnaire'!$6:$6,1,6*(ROW(A167)-1)+COLUMN(ServerHeaderCell) + 1)))","v":""}]
[{"$f":"IF(ISBLANK(INDEX('App Questionnaire'!$10:$10,1,2*(ROW(A168)-1)+COLUMN(AppHeaderCell) + 1)), \"\", (INDEX('App Questionnaire'!$10:$10,1,2*(ROW(A168)-1)+COLUMN(AppHeaderCell) + 1)))","v":""},{"$f":"IF(ISBLANK(INDEX('App Questionnaire'!$6:$6,1,2*(ROW(A168)-1)+COLUMN(AppHeaderCell) + 1)), \"\", (INDEX('App Questionnaire'!$6:$6,1,2*(ROW(A168)-1)+COLUMN(AppHeaderCell) + 1)))","v":""},"",{"$f":"IF(ISBLANK(INDEX('Server Questionnaire'!$6:$6,1,6*(ROW(A168)-1)+COLUMN(ServerHeaderCell) + 1)), \"\", (INDEX('Server Questionnaire'!$6:$6,1,6*(ROW(A168)-1)+COLUMN(ServerHeaderCell) + 1)))","v":""}]
[{"$f":"IF(ISBLANK(INDEX('App Questionnaire'!$10:$10,1,2*(ROW(A169)-1)+COLUMN(AppHeaderCell) + 1)), \"\", (INDEX('App Questionnaire'!$10:$10,1,2*(ROW(A169)-1)+COLUMN(AppHeaderCell) + 1)))","v":""},{"$f":"IF(ISBLANK(INDEX('App Questionnaire'!$6:$6,1,2*(ROW(A169)-1)+COLUMN(AppHeaderCell) + 1)), \"\", (INDEX('App Questionnaire'!$6:$6,1,2*(ROW(A169)-1)+COLUMN(AppHeaderCell) + 1)))","v":""},"",{"$f":"IF(ISBLANK(INDEX('Server Questionnaire'!$6:$6,1,6*(ROW(A169)-1)+COLUMN(ServerHeaderCell) + 1)), \"\", (INDEX('Server Questionnaire'!$6:$6,1,6*(ROW(A169)-1)+COLUMN(ServerHeaderCell) + 1)))","v":""}]
[{"$f":"IF(ISBLANK(INDEX('App Questionnaire'!$10:$10,1,2*(ROW(A170)-1)+COLUMN(AppHeaderCell) + 1)), \"\", (INDEX('App Questionnaire'!$10:$10,1,2*(ROW(A170)-1)+COLUMN(AppHeaderCell) + 1)))","v":""},{"$f":"IF(ISBLANK(INDEX('App Questionnaire'!$6:$6,1,2*(ROW(A170)-1)+COLUMN(AppHeaderCell) + 1)), \"\", (INDEX('App Questionnaire'!$6:$6,1,2*(ROW(A170)-1)+COLUMN(AppHeaderCell) + 1)))","v":""},"",{"$f":"IF(ISBLANK(INDEX('Server Questionnaire'!$6:$6,1,6*(ROW(A170)-1)+COLUMN(ServerHeaderCell) + 1)), \"\", (INDEX('Server Questionnaire'!$6:$6,1,6*(ROW(A170)-1)+COLUMN(ServerHeaderCell) + 1)))","v":""}]
[{"$f":"IF(ISBLANK(INDEX('App Questionnaire'!$10:$10,1,2*(ROW(A171)-1)+COLUMN(AppHeaderCell) + 1)), \"\", (INDEX('App Questionnaire'!$10:$10,1,2*(ROW(A171)-1)+COLUMN(AppHeaderCell) + 1)))","v":""},{"$f":"IF(ISBLANK(INDEX('App Questionnaire'!$6:$6,1,2*(ROW(A171)-1)+COLUMN(AppHeaderCell) + 1)), \"\", (INDEX('App Questionnaire'!$6:$6,1,2*(ROW(A171)-1)+COLUMN(AppHeaderCell) + 1)))","v":""},"",{"$f":"IF(ISBLANK(INDEX('Server Questionnaire'!$6:$6,1,6*(ROW(A171)-1)+COLUMN(ServerHeaderCell) + 1)), \"\", (INDEX('Server Questionnaire'!$6:$6,1,6*(ROW(A171)-1)+COLUMN(ServerHeaderCell) + 1)))","v":""}]
[{"$f":"IF(ISBLANK(INDEX('App Questionnaire'!$10:$10,1,2*(ROW(A172)-1)+COLUMN(AppHeaderCell) + 1)), \"\", (INDEX('App Questionnaire'!$10:$10,1,2*(ROW(A172)-1)+COLUMN(AppHeaderCell) + 1)))","v":""},{"$f":"IF(ISBLANK(INDEX('App Questionnaire'!$6:$6,1,2*(ROW(A172)-1)+COLUMN(AppHeaderCell) + 1)), \"\", (INDEX('App Questionnaire'!$6:$6,1,2*(ROW(A172)-1)+COLUMN(AppHeaderCell) + 1)))","v":""},"",{"$f":"IF(ISBLANK(INDEX('Server Questionnaire'!$6:$6,1,6*(ROW(A172)-1)+COLUMN(ServerHeaderCell) + 1)), \"\", (INDEX('Server Questionnaire'!$6:$6,1,6*(ROW(A172)-1)+COLUMN(ServerHeaderCell) + 1)))","v":""}]
[{"$f":"IF(ISBLANK(INDEX('App Questionnaire'!$10:$10,1,2*(ROW(A173)-1)+COLUMN(AppHeaderCell) + 1)), \"\", (INDEX('App Questionnaire'!$10:$10,1,2*(ROW(A173)-1)+COLUMN(AppHeaderCell) + 1)))","v":""},{"$f":"IF(ISBLANK(INDEX('App Questionnaire'!$6:$6,1,2*(ROW(A173)-1)+COLUMN(AppHeaderCell) + 1)), \"\", (INDEX('App Questionnaire'!$6:$6,1,2*(ROW(A173)-1)+COLUMN(AppHeaderCell) + 1)))","v":""},"",{"$f":"IF(ISBLANK(INDEX('Server Questionnaire'!$6:$6,1,6*(ROW(A173)-1)+COLUMN(ServerHeaderCell) + 1)), \"\", (INDEX('Server Questionnaire'!$6:$6,1,6*(ROW(A173)-1)+COLUMN(ServerHeaderCell) + 1)))","v":""}]
[{"$f":"IF(ISBLANK(INDEX('App Questionnaire'!$10:$10,1,2*(ROW(A174)-1)+COLUMN(AppHeaderCell) + 1)), \"\", (INDEX('App Questionnaire'!$10:$10,1,2*(ROW(A174)-1)+COLUMN(AppHeaderCell) + 1)))","v":""},{"$f":"IF(ISBLANK(INDEX('App Questionnaire'!$6:$6,1,2*(ROW(A174)-1)+COLUMN(AppHeaderCell) + 1)), \"\", (INDEX('App Questionnaire'!$6:$6,1,2*(ROW(A174)-1)+COLUMN(AppHeaderCell) + 1)))","v":""},"",{"$f":"IF(ISBLANK(INDEX('Server Questionnaire'!$6:$6,1,6*(ROW(A174)-1)+COLUMN(ServerHeaderCell) + 1)), \"\", (INDEX('Server Questionnaire'!$6:$6,1,6*(ROW(A174)-1)+COLUMN(ServerHeaderCell) + 1)))","v":""}]
[{"$f":"IF(ISBLANK(INDEX('App Questionnaire'!$10:$10,1,2*(ROW(A175)-1)+COLUMN(AppHeaderCell) + 1)), \"\", (INDEX('App Questionnaire'!$10:$10,1,2*(ROW(A175)-1)+COLUMN(AppHeaderCell) + 1)))","v":""},{"$f":"IF(ISBLANK(INDEX('App Questionnaire'!$6:$6,1,2*(ROW(A175)-1)+COLUMN(AppHeaderCell) + 1)), \"\", (INDEX('App Questionnaire'!$6:$6,1,2*(ROW(A175)-1)+COLUMN(AppHeaderCell) + 1)))","v":""},"",{"$f":"IF(ISBLANK(INDEX('Server Questionnaire'!$6:$6,1,6*(ROW(A175)-1)+COLUMN(ServerHeaderCell) + 1)), \"\", (INDEX('Server Questionnaire'!$6:$6,1,6*(ROW(A175)-1)+COLUMN(ServerHeaderCell) + 1)))","v":""}]
[{"$f":"IF(ISBLANK(INDEX('App Questionnaire'!$10:$10,1,2*(ROW(A176)-1)+COLUMN(AppHeaderCell) + 1)), \"\", (INDEX('App Questionnaire'!$10:$10,1,2*(ROW(A176)-1)+COLUMN(AppHeaderCell) + 1)))","v":""},{"$f":"IF(ISBLANK(INDEX('App Questionnaire'!$6:$6,1,2*(ROW(A176)-1)+COLUMN(AppHeaderCell) + 1)), \"\", (INDEX('App Questionnaire'!$6:$6,1,2*(ROW(A176)-1)+COLUMN(AppHeaderCell) + 1)))","v":""},"",{"$f":"IF(ISBLANK(INDEX('Server Questionnaire'!$6:$6,1,6*(ROW(A176)-1)+COLUMN(ServerHeaderCell) + 1)), \"\", (INDEX('Server Questionnaire'!$6:$6,1,6*(ROW(A176)-1)+COLUMN(ServerHeaderCell) + 1)))","v":""}]
[{"$f":"IF(ISBLANK(INDEX('App Questionnaire'!$10:$10,1,2*(ROW(A177)-1)+COLUMN(AppHeaderCell) + 1)), \"\", (INDEX('App Questionnaire'!$10:$10,1,2*(ROW(A177)-1)+COLUMN(AppHeaderCell) + 1)))","v":""},{"$f":"IF(ISBLANK(INDEX('App Questionnaire'!$6:$6,1,2*(ROW(A177)-1)+COLUMN(AppHeaderCell) + 1)), \"\", (INDEX('App Questionnaire'!$6:$6,1,2*(ROW(A177)-1)+COLUMN(AppHeaderCell) + 1)))","v":""},"",{"$f":"IF(ISBLANK(INDEX('Server Questionnaire'!$6:$6,1,6*(ROW(A177)-1)+COLUMN(ServerHeaderCell) + 1)), \"\", (INDEX('Server Questionnaire'!$6:$6,1,6*(ROW(A177)-1)+COLUMN(ServerHeaderCell) + 1)))","v":""}]
[{"$f":"IF(ISBLANK(INDEX('App Questionnaire'!$10:$10,1,2*(ROW(A178)-1)+COLUMN(AppHeaderCell) + 1)), \"\", (INDEX('App Questionnaire'!$10:$10,1,2*(ROW(A178)-1)+COLUMN(AppHeaderCell) + 1)))","v":""},{"$f":"IF(ISBLANK(INDEX('App Questionnaire'!$6:$6,1,2*(ROW(A178)-1)+COLUMN(AppHeaderCell) + 1)), \"\", (INDEX('App Questionnaire'!$6:$6,1,2*(ROW(A178)-1)+COLUMN(AppHeaderCell) + 1)))","v":""},"",{"$f":"IF(ISBLANK(INDEX('Server Questionnaire'!$6:$6,1,6*(ROW(A178)-1)+COLUMN(ServerHeaderCell) + 1)), \"\", (INDEX('Server Questionnaire'!$6:$6,1,6*(ROW(A178)-1)+COLUMN(ServerHeaderCell) + 1)))","v":""}]
[{"$f":"IF(ISBLANK(INDEX('App Questionnaire'!$10:$10,1,2*(ROW(A179)-1)+COLUMN(AppHeaderCell) + 1)), \"\", (INDEX('App Questionnaire'!$10:$10,1,2*(ROW(A179)-1)+COLUMN(AppHeaderCell) + 1)))","v":""},{"$f":"IF(ISBLANK(INDEX('App Questionnaire'!$6:$6,1,2*(ROW(A179)-1)+COLUMN(AppHeaderCell) + 1)), \"\", (INDEX('App Questionnaire'!$6:$6,1,2*(ROW(A179)-1)+COLUMN(AppHeaderCell) + 1)))","v":""},"",{"$f":"IF(ISBLANK(INDEX('Server Questionnaire'!$6:$6,1,6*(ROW(A179)-1)+COLUMN(ServerHeaderCell) + 1)), \"\", (INDEX('Server Questionnaire'!$6:$6,1,6*(ROW(A179)-1)+COLUMN(ServerHeaderCell) + 1)))","v":""}]
[{"$f":"IF(ISBLANK(INDEX('App Questionnaire'!$10:$10,1,2*(ROW(A180)-1)+COLUMN(AppHeaderCell) + 1)), \"\", (INDEX('App Questionnaire'!$10:$10,1,2*(ROW(A180)-1)+COLUMN(AppHeaderCell) + 1)))","v":""},{"$f":"IF(ISBLANK(INDEX('App Questionnaire'!$6:$6,1,2*(ROW(A180)-1)+COLUMN(AppHeaderCell) + 1)), \"\", (INDEX('App Questionnaire'!$6:$6,1,2*(ROW(A180)-1)+COLUMN(AppHeaderCell) + 1)))","v":""},"",{"$f":"IF(ISBLANK(INDEX('Server Questionnaire'!$6:$6,1,6*(ROW(A180)-1)+COLUMN(ServerHeaderCell) + 1)), \"\", (INDEX('Server Questionnaire'!$6:$6,1,6*(ROW(A180)-1)+COLUMN(ServerHeaderCell) + 1)))","v":""}]
[{"$f":"IF(ISBLANK(INDEX('App Questionnaire'!$10:$10,1,2*(ROW(A181)-1)+COLUMN(AppHeaderCell) + 1)), \"\", (INDEX('App Questionnaire'!$10:$10,1,2*(ROW(A181)-1)+COLUMN(AppHeaderCell) + 1)))","v":""},{"$f":"IF(ISBLANK(INDEX('App Questionnaire'!$6:$6,1,2*(ROW(A181)-1)+COLUMN(AppHeaderCell) + 1)), \"\", (INDEX('App Questionnaire'!$6:$6,1,2*(ROW(A181)-1)+COLUMN(AppHeaderCell) + 1)))","v":""},"",{"$f":"IF(ISBLANK(INDEX('Server Questionnaire'!$6:$6,1,6*(ROW(A181)-1)+COLUMN(ServerHeaderCell) + 1)), \"\", (INDEX('Server Questionnaire'!$6:$6,1,6*(ROW(A181)-1)+COLUMN(ServerHeaderCell) + 1)))","v":""}]
[{"$f":"IF(ISBLANK(INDEX('App Questionnaire'!$10:$10,1,2*(ROW(A182)-1)+COLUMN(AppHeaderCell) + 1)), \"\", (INDEX('App Questionnaire'!$10:$10,1,2*(ROW(A182)-1)+COLUMN(AppHeaderCell) + 1)))","v":""},{"$f":"IF(ISBLANK(INDEX('App Questionnaire'!$6:$6,1,2*(ROW(A182)-1)+COLUMN(AppHeaderCell) + 1)), \"\", (INDEX('App Questionnaire'!$6:$6,1,2*(ROW(A182)-1)+COLUMN(AppHeaderCell) + 1)))","v":""},"",{"$f":"IF(ISBLANK(INDEX('Server Questionnaire'!$6:$6,1,6*(ROW(A182)-1)+COLUMN(ServerHeaderCell) + 1)), \"\", (INDEX('Server Questionnaire'!$6:$6,1,6*(ROW(A182)-1)+COLUMN(ServerHeaderCell) + 1)))","v":""}]
[{"$f":"IF(ISBLANK(INDEX('App Questionnaire'!$10:$10,1,2*(ROW(A183)-1)+COLUMN(AppHeaderCell) + 1)), \"\", (INDEX('App Questionnaire'!$10:$10,1,2*(ROW(A183)-1)+COLUMN(AppHeaderCell) + 1)))","v":""},{"$f":"IF(ISBLANK(INDEX('App Questionnaire'!$6:$6,1,2*(ROW(A183)-1)+COLUMN(AppHeaderCell) + 1)), \"\", (INDEX('App Questionnaire'!$6:$6,1,2*(ROW(A183)-1)+COLUMN(AppHeaderCell) + 1)))","v":""},"",{"$f":"IF(ISBLANK(INDEX('Server Questionnaire'!$6:$6,1,6*(ROW(A183)-1)+COLUMN(ServerHeaderCell) + 1)), \"\", (INDEX('Server Questionnaire'!$6:$6,1,6*(ROW(A183)-1)+COLUMN(ServerHeaderCell) + 1)))","v":""}]
[{"$f":"IF(ISBLANK(INDEX('App Questionnaire'!$10:$10,1,2*(ROW(A184)-1)+COLUMN(AppHeaderCell) + 1)), \"\", (INDEX('App Questionnaire'!$10:$10,1,2*(ROW(A184)-1)+COLUMN(AppHeaderCell) + 1)))","v":""},{"$f":"IF(ISBLANK(INDEX('App Questionnaire'!$6:$6,1,2*(ROW(A184)-1)+COLUMN(AppHeaderCell) + 1)), \"\", (INDEX('App Questionnaire'!$6:$6,1,2*(ROW(A184)-1)+COLUMN(AppHeaderCell) + 1)))","v":""},"",{"$f":"IF(ISBLANK(INDEX('Server Questionnaire'!$6:$6,1,6*(ROW(A184)-1)+COLUMN(ServerHeaderCell) + 1)), \"\", (INDEX('Server Questionnaire'!$6:$6,1,6*(ROW(A184)-1)+COLUMN(ServerHeaderCell) + 1)))","v":""}]
[{"$f":"IF(ISBLANK(INDEX('App Questionnaire'!$10:$10,1,2*(ROW(A185)-1)+COLUMN(AppHeaderCell) + 1)), \"\", (INDEX('App Questionnaire'!$10:$10,1,2*(ROW(A185)-1)+COLUMN(AppHeaderCell) + 1)))","v":""},{"$f":"IF(ISBLANK(INDEX('App Questionnaire'!$6:$6,1,2*(ROW(A185)-1)+COLUMN(AppHeaderCell) + 1)), \"\", (INDEX('App Questionnaire'!$6:$6,1,2*(ROW(A185)-1)+COLUMN(AppHeaderCell) + 1)))","v":""},"",{"$f":"IF(ISBLANK(INDEX('Server Questionnaire'!$6:$6,1,6*(ROW(A185)-1)+COLUMN(ServerHeaderCell) + 1)), \"\", (INDEX('Server Questionnaire'!$6:$6,1,6*(ROW(A185)-1)+COLUMN(ServerHeaderCell) + 1)))","v":""}]
[{"$f":"IF(ISBLANK(INDEX('App Questionnaire'!$10:$10,1,2*(ROW(A186)-1)+COLUMN(AppHeaderCell) + 1)), \"\", (INDEX('App Questionnaire'!$10:$10,1,2*(ROW(A186)-1)+COLUMN(AppHeaderCell) + 1)))","v":""},{"$f":"IF(ISBLANK(INDEX('App Questionnaire'!$6:$6,1,2*(ROW(A186)-1)+COLUMN(AppHeaderCell) + 1)), \"\", (INDEX('App Questionnaire'!$6:$6,1,2*(ROW(A186)-1)+COLUMN(AppHeaderCell) + 1)))","v":""},"",{"$f":"IF(ISBLANK(INDEX('Server Questionnaire'!$6:$6,1,6*(ROW(A186)-1)+COLUMN(ServerHeaderCell) + 1)), \"\", (INDEX('Server Questionnaire'!$6:$6,1,6*(ROW(A186)-1)+COLUMN(ServerHeaderCell) + 1)))","v":""}]
[{"$f":"IF(ISBLANK(INDEX('App Questionnaire'!$10:$10,1,2*(ROW(A187)-1)+COLUMN(AppHeaderCell) + 1)), \"\", (INDEX('App Questionnaire'!$10:$10,1,2*(ROW(A187)-1)+COLUMN(AppHeaderCell) + 1)))","v":""},{"$f":"IF(ISBLANK(INDEX('App Questionnaire'!$6:$6,1,2*(ROW(A187)-1)+COLUMN(AppHeaderCell) + 1)), \"\", (INDEX('App Questionnaire'!$6:$6,1,2*(ROW(A187)-1)+COLUMN(AppHeaderCell) + 1)))","v":""},"",{"$f":"IF(ISBLANK(INDEX('Server Questionnaire'!$6:$6,1,6*(ROW(A187)-1)+COLUMN(ServerHeaderCell) + 1)), \"\", (INDEX('Server Questionnaire'!$6:$6,1,6*(ROW(A187)-1)+COLUMN(ServerHeaderCell) + 1)))","v":""}]
[{"$f":"IF(ISBLANK(INDEX('App Questionnaire'!$10:$10,1,2*(ROW(A188)-1)+COLUMN(AppHeaderCell) + 1)), \"\", (INDEX('App Questionnaire'!$10:$10,1,2*(ROW(A188)-1)+COLUMN(AppHeaderCell) + 1)))","v":""},{"$f":"IF(ISBLANK(INDEX('App Questionnaire'!$6:$6,1,2*(ROW(A188)-1)+COLUMN(AppHeaderCell) + 1)), \"\", (INDEX('App Questionnaire'!$6:$6,1,2*(ROW(A188)-1)+COLUMN(AppHeaderCell) + 1)))","v":""},"",{"$f":"IF(ISBLANK(INDEX('Server Questionnaire'!$6:$6,1,6*(ROW(A188)-1)+COLUMN(ServerHeaderCell) + 1)), \"\", (INDEX('Server Questionnaire'!$6:$6,1,6*(ROW(A188)-1)+COLUMN(ServerHeaderCell) + 1)))","v":""}]
[{"$f":"IF(ISBLANK(INDEX('App Questionnaire'!$10:$10,1,2*(ROW(A189)-1)+COLUMN(AppHeaderCell) + 1)), \"\", (INDEX('App Questionnaire'!$10:$10,1,2*(ROW(A189)-1)+COLUMN(AppHeaderCell) + 1)))","v":""},{"$f":"IF(ISBLANK(INDEX('App Questionnaire'!$6:$6,1,2*(ROW(A189)-1)+COLUMN(AppHeaderCell) + 1)), \"\", (INDEX('App Questionnaire'!$6:$6,1,2*(ROW(A189)-1)+COLUMN(AppHeaderCell) + 1)))","v":""},"",{"$f":"IF(ISBLANK(INDEX('Server Questionnaire'!$6:$6,1,6*(ROW(A189)-1)+COLUMN(ServerHeaderCell) + 1)), \"\", (INDEX('Server Questionnaire'!$6:$6,1,6*(ROW(A189)-1)+COLUMN(ServerHeaderCell) + 1)))","v":""}]
[{"$f":"IF(ISBLANK(INDEX('App Questionnaire'!$10:$10,1,2*(ROW(A190)-1)+COLUMN(AppHeaderCell) + 1)), \"\", (INDEX('App Questionnaire'!$10:$10,1,2*(ROW(A190)-1)+COLUMN(AppHeaderCell) + 1)))","v":""},{"$f":"IF(ISBLANK(INDEX('App Questionnaire'!$6:$6,1,2*(ROW(A190)-1)+COLUMN(AppHeaderCell) + 1)), \"\", (INDEX('App Questionnaire'!$6:$6,1,2*(ROW(A190)-1)+COLUMN(AppHeaderCell) + 1)))","v":""},"",{"$f":"IF(ISBLANK(INDEX('Server Questionnaire'!$6:$6,1,6*(ROW(A190)-1)+COLUMN(ServerHeaderCell) + 1)), \"\", (INDEX('Server Questionnaire'!$6:$6,1,6*(ROW(A190)-1)+COLUMN(ServerHeaderCell) + 1)))","v":""}]
[{"$f":"IF(ISBLANK(INDEX('App Questionnaire'!$10:$10,1,2*(ROW(A191)-1)+COLUMN(AppHeaderCell) + 1)), \"\", (INDEX('App Questionnaire'!$10:$10,1,2*(ROW(A191)-1)+COLUMN(AppHeaderCell) + 1)))","v":""},{"$f":"IF(ISBLANK(INDEX('App Questionnaire'!$6:$6,1,2*(ROW(A191)-1)+COLUMN(AppHeaderCell) + 1)), \"\", (INDEX('App Questionnaire'!$6:$6,1,2*(ROW(A191)-1)+COLUMN(AppHeaderCell) + 1)))","v":""},"",{"$f":"IF(ISBLANK(INDEX('Server Questionnaire'!$6:$6,1,6*(ROW(A191)-1)+COLUMN(ServerHeaderCell) + 1)), \"\", (INDEX('Server Questionnaire'!$6:$6,1,6*(ROW(A191)-1)+COLUMN(ServerHeaderCell) + 1)))","v":""}]
[{"$f":"IF(ISBLANK(INDEX('App Questionnaire'!$10:$10,1,2*(ROW(A192)-1)+COLUMN(AppHeaderCell) + 1)), \"\", (INDEX('App Questionnaire'!$10:$10,1,2*(ROW(A192)-1)+COLUMN(AppHeaderCell) + 1)))","v":""},{"$f":"IF(ISBLANK(INDEX('App Questionnaire'!$6:$6,1,2*(ROW(A192)-1)+COLUMN(AppHeaderCell) + 1)), \"\", (INDEX('App Questionnaire'!$6:$6,1,2*(ROW(A192)-1)+COLUMN(AppHeaderCell) + 1)))","v":""},"",{"$f":"IF(ISBLANK(INDEX('Server Questionnaire'!$6:$6,1,6*(ROW(A192)-1)+COLUMN(ServerHeaderCell) + 1)), \"\", (INDEX('Server Questionnaire'!$6:$6,1,6*(ROW(A192)-1)+COLUMN(ServerHeaderCell) + 1)))","v":""}]
[{"$f":"IF(ISBLANK(INDEX('App Questionnaire'!$10:$10,1,2*(ROW(A193)-1)+COLUMN(AppHeaderCell) + 1)), \"\", (INDEX('App Questionnaire'!$10:$10,1,2*(ROW(A193)-1)+COLUMN(AppHeaderCell) + 1)))","v":""},{"$f":"IF(ISBLANK(INDEX('App Questionnaire'!$6:$6,1,2*(ROW(A193)-1)+COLUMN(AppHeaderCell) + 1)), \"\", (INDEX('App Questionnaire'!$6:$6,1,2*(ROW(A193)-1)+COLUMN(AppHeaderCell) + 1)))","v":""},"",{"$f":"IF(ISBLANK(INDEX('Server Questionnaire'!$6:$6,1,6*(ROW(A193)-1)+COLUMN(ServerHeaderCell) + 1)), \"\", (INDEX('Server Questionnaire'!$6:$6,1,6*(ROW(A193)-1)+COLUMN(ServerHeaderCell) + 1)))","v":""}]
[{"$f":"IF(ISBLANK(INDEX('App Questionnaire'!$10:$10,1,2*(ROW(A194)-1)+COLUMN(AppHeaderCell) + 1)), \"\", (INDEX('App Questionnaire'!$10:$10,1,2*(ROW(A194)-1)+COLUMN(AppHeaderCell) + 1)))","v":""},{"$f":"IF(ISBLANK(INDEX('App Questionnaire'!$6:$6,1,2*(ROW(A194)-1)+COLUMN(AppHeaderCell) + 1)), \"\", (INDEX('App Questionnaire'!$6:$6,1,2*(ROW(A194)-1)+COLUMN(AppHeaderCell) + 1)))","v":""},"",{"$f":"IF(ISBLANK(INDEX('Server Questionnaire'!$6:$6,1,6*(ROW(A194)-1)+COLUMN(ServerHeaderCell) + 1)), \"\", (INDEX('Server Questionnaire'!$6:$6,1,6*(ROW(A194)-1)+COLUMN(ServerHeaderCell) + 1)))","v":""}]
[{"$f":"IF(ISBLANK(INDEX('App Questionnaire'!$10:$10,1,2*(ROW(A195)-1)+COLUMN(AppHeaderCell) + 1)), \"\", (INDEX('App Questionnaire'!$10:$10,1,2*(ROW(A195)-1)+COLUMN(AppHeaderCell) + 1)))","v":""},{"$f":"IF(ISBLANK(INDEX('App Questionnaire'!$6:$6,1,2*(ROW(A195)-1)+COLUMN(AppHeaderCell) + 1)), \"\", (INDEX('App Questionnaire'!$6:$6,1,2*(ROW(A195)-1)+COLUMN(AppHeaderCell) + 1)))","v":""},"",{"$f":"IF(ISBLANK(INDEX('Server Questionnaire'!$6:$6,1,6*(ROW(A195)-1)+COLUMN(ServerHeaderCell) + 1)), \"\", (INDEX('Server Questionnaire'!$6:$6,1,6*(ROW(A195)-1)+COLUMN(ServerHeaderCell) + 1)))","v":""}]
[{"$f":"IF(ISBLANK(INDEX('App Questionnaire'!$10:$10,1,2*(ROW(A196)-1)+COLUMN(AppHeaderCell) + 1)), \"\", (INDEX('App Questionnaire'!$10:$10,1,2*(ROW(A196)-1)+COLUMN(AppHeaderCell) + 1)))","v":""},{"$f":"IF(ISBLANK(INDEX('App Questionnaire'!$6:$6,1,2*(ROW(A196)-1)+COLUMN(AppHeaderCell) + 1)), \"\", (INDEX('App Questionnaire'!$6:$6,1,2*(ROW(A196)-1)+COLUMN(AppHeaderCell) + 1)))","v":""},"",{"$f":"IF(ISBLANK(INDEX('Server Questionnaire'!$6:$6,1,6*(ROW(A196)-1)+COLUMN(ServerHeaderCell) + 1)), \"\", (INDEX('Server Questionnaire'!$6:$6,1,6*(ROW(A196)-1)+COLUMN(ServerHeaderCell) + 1)))","v":""}]
[{"$f":"IF(ISBLANK(INDEX('App Questionnaire'!$10:$10,1,2*(ROW(A197)-1)+COLUMN(AppHeaderCell) + 1)), \"\", (INDEX('App Questionnaire'!$10:$10,1,2*(ROW(A197)-1)+COLUMN(AppHeaderCell) + 1)))","v":""},{"$f":"IF(ISBLANK(INDEX('App Questionnaire'!$6:$6,1,2*(ROW(A197)-1)+COLUMN(AppHeaderCell) + 1)), \"\", (INDEX('App Questionnaire'!$6:$6,1,2*(ROW(A197)-1)+COLUMN(AppHeaderCell) + 1)))","v":""},"",{"$f":"IF(ISBLANK(INDEX('Server Questionnaire'!$6:$6,1,6*(ROW(A197)-1)+COLUMN(ServerHeaderCell) + 1)), \"\", (INDEX('Server Questionnaire'!$6:$6,1,6*(ROW(A197)-1)+COLUMN(ServerHeaderCell) + 1)))","v":""}]
[{"$f":"IF(ISBLANK(INDEX('App Questionnaire'!$10:$10,1,2*(ROW(A198)-1)+COLUMN(AppHeaderCell) + 1)), \"\", (INDEX('App Questionnaire'!$10:$10,1,2*(ROW(A198)-1)+COLUMN(AppHeaderCell) + 1)))","v":""},{"$f":"IF(ISBLANK(INDEX('App Questionnaire'!$6:$6,1,2*(ROW(A198)-1)+COLUMN(AppHeaderCell) + 1)), \"\", (INDEX('App Questionnaire'!$6:$6,1,2*(ROW(A198)-1)+COLUMN(AppHeaderCell) + 1)))","v":""},"",{"$f":"IF(ISBLANK(INDEX('Server Questionnaire'!$6:$6,1,6*(ROW(A198)-1)+COLUMN(ServerHeaderCell) + 1)), \"\", (INDEX('Server Questionnaire'!$6:$6,1,6*(ROW(A198)-1)+COLUMN(ServerHeaderCell) + 1)))","v":""}]
[{"$f":"IF(ISBLANK(INDEX('App Questionnaire'!$10:$10,1,2*(ROW(A199)-1)+COLUMN(AppHeaderCell) + 1)), \"\", (INDEX('App Questionnaire'!$10:$10,1,2*(ROW(A199)-1)+COLUMN(AppHeaderCell) + 1)))","v":""},{"$f":"IF(ISBLANK(INDEX('App Questionnaire'!$6:$6,1,2*(ROW(A199)-1)+COLUMN(AppHeaderCell) + 1)), \"\", (INDEX('App Questionnaire'!$6:$6,1,2*(ROW(A199)-1)+COLUMN(AppHeaderCell) + 1)))","v":""},"",{"$f":"IF(ISBLANK(INDEX('Server Questionnaire'!$6:$6,1,6*(ROW(A199)-1)+COLUMN(ServerHeaderCell) + 1)), \"\", (INDEX('Server Questionnaire'!$6:$6,1,6*(ROW(A199)-1)+COLUMN(ServerHeaderCell) + 1)))","v":""}]
[{"$f":"IF(ISBLANK(INDEX('App Questionnaire'!$10:$10,1,2*(ROW(A200)-1)+COLUMN(AppHeaderCell) + 1)), \"\", (INDEX('App Questionnaire'!$10:$10,1,2*(ROW(A200)-1)+COLUMN(AppHeaderCell) + 1)))","v":""},{"$f":"IF(ISBLANK(INDEX('App Questionnaire'!$6:$6,1,2*(ROW(A200)-1)+COLUMN(AppHeaderCell) + 1)), \"\", (INDEX('App Questionnaire'!$6:$6,1,2*(ROW(A200)-1)+COLUMN(AppHeaderCell) + 1)))","v":""},"",{"$f":"IF(ISBLANK(INDEX('Server Questionnaire'!$6:$6,1,6*(ROW(A200)-1)+COLUMN(ServerHeaderCell) + 1)), \"\", (INDEX('Server Questionnaire'!$6:$6,1,6*(ROW(A200)-1)+COLUMN(ServerHeaderCell) + 1)))","v":""}]
[{"$f":"IF(ISBLANK(INDEX('App Questionnaire'!$10:$10,1,2*(ROW(A201)-1)+COLUMN(AppHeaderCell) + 1)), \"\", (INDEX('App Questionnaire'!$10:$10,1,2*(ROW(A201)-1)+COLUMN(AppHeaderCell) + 1)))","v":""},{"$f":"IF(ISBLANK(INDEX('App Questionnaire'!$6:$6,1,2*(ROW(A201)-1)+COLUMN(AppHeaderCell) + 1)), \"\", (INDEX('App Questionnaire'!$6:$6,1,2*(ROW(A201)-1)+COLUMN(AppHeaderCell) + 1)))","v":""},"",{"$f":"IF(ISBLANK(INDEX('Server Questionnaire'!$6:$6,1,6*(ROW(A201)-1)+COLUMN(ServerHeaderCell) + 1)), \"\", (INDEX('Server Questionnaire'!$6:$6,1,6*(ROW(A201)-1)+COLUMN(ServerHeaderCell) + 1)))","v":""}]
[{"$f":"IF(ISBLANK(INDEX('App Questionnaire'!$10:$10,1,2*(ROW(A202)-1)+COLUMN(AppHeaderCell) + 1)), \"\", (INDEX('App Questionnaire'!$10:$10,1,2*(ROW(A202)-1)+COLUMN(AppHeaderCell) + 1)))","v":""},{"$f":"IF(ISBLANK(INDEX('App Questionnaire'!$6:$6,1,2*(ROW(A202)-1)+COLUMN(AppHeaderCell) + 1)), \"\", (INDEX('App Questionnaire'!$6:$6,1,2*(ROW(A202)-1)+COLUMN(AppHeaderCell) + 1)))","v":""},{"$f":" IF(B196 = \"\", \"\", B196 & \" - \" & A196)","v":""},{"$f":"IF(ISBLANK(INDEX('Server Questionnaire'!$6:$6,1,6*(ROW(A202)-1)+COLUMN(ServerHeaderCell) + 1)), \"\", (INDEX('Server Questionnaire'!$6:$6,1,6*(ROW(A202)-1)+COLUMN(ServerHeaderCell) + 1)))","v":""}]
[{"$f":"IF(ISBLANK(INDEX('App Questionnaire'!$10:$10,1,2*(ROW(A203)-1)+COLUMN(AppHeaderCell) + 1)), \"\", (INDEX('App Questionnaire'!$10:$10,1,2*(ROW(A203)-1)+COLUMN(AppHeaderCell) + 1)))","v":""},{"$f":"IF(ISBLANK(INDEX('App Questionnaire'!$6:$6,1,2*(ROW(A203)-1)+COLUMN(AppHeaderCell) + 1)), \"\", (INDEX('App Questionnaire'!$6:$6,1,2*(ROW(A203)-1)+COLUMN(AppHeaderCell) + 1)))","v":""},"",{"$f":"IF(ISBLANK(INDEX('Server Questionnaire'!$6:$6,1,6*(ROW(A203)-1)+COLUMN(ServerHeaderCell) + 1)), \"\", (INDEX('Server Questionnaire'!$6:$6,1,6*(ROW(A203)-1)+COLUMN(ServerHeaderCell) + 1)))","v":""}]
[{"$f":"IF(ISBLANK(INDEX('App Questionnaire'!$10:$10,1,2*(ROW(A204)-1)+COLUMN(AppHeaderCell) + 1)), \"\", (INDEX('App Questionnaire'!$10:$10,1,2*(ROW(A204)-1)+COLUMN(AppHeaderCell) + 1)))","v":""},{"$f":"IF(ISBLANK(INDEX('App Questionnaire'!$6:$6,1,2*(ROW(A204)-1)+COLUMN(AppHeaderCell) + 1)), \"\", (INDEX('App Questionnaire'!$6:$6,1,2*(ROW(A204)-1)+COLUMN(AppHeaderCell) + 1)))","v":""},"",{"$f":"IF(ISBLANK(INDEX('Server Questionnaire'!$6:$6,1,6*(ROW(A204)-1)+COLUMN(ServerHeaderCell) + 1)), \"\", (INDEX('Server Questionnaire'!$6:$6,1,6*(ROW(A204)-1)+COLUMN(ServerHeaderCell) + 1)))","v":""}]
[{"$f":"IF(ISBLANK(INDEX('App Questionnaire'!$10:$10,1,2*(ROW(A205)-1)+COLUMN(AppHeaderCell) + 1)), \"\", (INDEX('App Questionnaire'!$10:$10,1,2*(ROW(A205)-1)+COLUMN(AppHeaderCell) + 1)))","v":""},{"$f":"IF(ISBLANK(INDEX('App Questionnaire'!$6:$6,1,2*(ROW(A205)-1)+COLUMN(AppHeaderCell) + 1)), \"\", (INDEX('App Questionnaire'!$6:$6,1,2*(ROW(A205)-1)+COLUMN(AppHeaderCell) + 1)))","v":""},"",{"$f":"IF(ISBLANK(INDEX('Server Questionnaire'!$6:$6,1,6*(ROW(A205)-1)+COLUMN(ServerHeaderCell) + 1)), \"\", (INDEX('Server Questionnaire'!$6:$6,1,6*(ROW(A205)-1)+COLUMN(ServerHeaderCell) + 1)))","v":""}]
[{"$f":"IF(ISBLANK(INDEX('App Questionnaire'!$10:$10,1,2*(ROW(A206)-1)+COLUMN(AppHeaderCell) + 1)), \"\", (INDEX('App Questionnaire'!$10:$10,1,2*(ROW(A206)-1)+COLUMN(AppHeaderCell) + 1)))","v":""},{"$f":"IF(ISBLANK(INDEX('App Questionnaire'!$6:$6,1,2*(ROW(A206)-1)+COLUMN(AppHeaderCell) + 1)), \"\", (INDEX('App Questionnaire'!$6:$6,1,2*(ROW(A206)-1)+COLUMN(AppHeaderCell) + 1)))","v":""},"",{"$f":"IF(ISBLANK(INDEX('Server Questionnaire'!$6:$6,1,6*(ROW(A206)-1)+COLUMN(ServerHeaderCell) + 1)), \"\", (INDEX('Server Questionnaire'!$6:$6,1,6*(ROW(A206)-1)+COLUMN(ServerHeaderCell) + 1)))","v":""}]
[{"$f":"IF(ISBLANK(INDEX('App Questionnaire'!$10:$10,1,2*(ROW(A207)-1)+COLUMN(AppHeaderCell) + 1)), \"\", (INDEX('App Questionnaire'!$10:$10,1,2*(ROW(A207)-1)+COLUMN(AppHeaderCell) + 1)))","v":""},{"$f":"IF(ISBLANK(INDEX('App Questionnaire'!$6:$6,1,2*(ROW(A207)-1)+COLUMN(AppHeaderCell) + 1)), \"\", (INDEX('App Questionnaire'!$6:$6,1,2*(ROW(A207)-1)+COLUMN(AppHeaderCell) + 1)))","v":""},"",{"$f":"IF(ISBLANK(INDEX('Server Questionnaire'!$6:$6,1,6*(ROW(A207)-1)+COLUMN(ServerHeaderCell) + 1)), \"\", (INDEX('Server Questionnaire'!$6:$6,1,6*(ROW(A207)-1)+COLUMN(ServerHeaderCell) + 1)))","v":""}]
[{"$f":"IF(ISBLANK(INDEX('App Questionnaire'!$10:$10,1,2*(ROW(A208)-1)+COLUMN(AppHeaderCell) + 1)), \"\", (INDEX('App Questionnaire'!$10:$10,1,2*(ROW(A208)-1)+COLUMN(AppHeaderCell) + 1)))","v":""},{"$f":"IF(ISBLANK(INDEX('App Questionnaire'!$6:$6,1,2*(ROW(A208)-1)+COLUMN(AppHeaderCell) + 1)), \"\", (INDEX('App Questionnaire'!$6:$6,1,2*(ROW(A208)-1)+COLUMN(AppHeaderCell) + 1)))","v":""},"",{"$f":"IF(ISBLANK(INDEX('Server Questionnaire'!$6:$6,1,6*(ROW(A208)-1)+COLUMN(ServerHeaderCell) + 1)), \"\", (INDEX('Server Questionnaire'!$6:$6,1,6*(ROW(A208)-1)+COLUMN(ServerHeaderCell) + 1)))","v":""}]
[{"$f":"IF(ISBLANK(INDEX('App Questionnaire'!$10:$10,1,2*(ROW(A209)-1)+COLUMN(AppHeaderCell) + 1)), \"\", (INDEX('App Questionnaire'!$10:$10,1,2*(ROW(A209)-1)+COLUMN(AppHeaderCell) + 1)))","v":""},{"$f":"IF(ISBLANK(INDEX('App Questionnaire'!$6:$6,1,2*(ROW(A209)-1)+COLUMN(AppHeaderCell) + 1)), \"\", (INDEX('App Questionnaire'!$6:$6,1,2*(ROW(A209)-1)+COLUMN(AppHeaderCell) + 1)))","v":""},"",{"$f":"IF(ISBLANK(INDEX('Server Questionnaire'!$6:$6,1,6*(ROW(A209)-1)+COLUMN(ServerHeaderCell) + 1)), \"\", (INDEX('Server Questionnaire'!$6:$6,1,6*(ROW(A209)-1)+COLUMN(ServerHeaderCell) + 1)))","v":""}]
[{"$f":"IF(ISBLANK(INDEX('App Questionnaire'!$10:$10,1,2*(ROW(A210)-1)+COLUMN(AppHeaderCell) + 1)), \"\", (INDEX('App Questionnaire'!$10:$10,1,2*(ROW(A210)-1)+COLUMN(AppHeaderCell) + 1)))","v":""},{"$f":"IF(ISBLANK(INDEX('App Questionnaire'!$6:$6,1,2*(ROW(A210)-1)+COLUMN(AppHeaderCell) + 1)), \"\", (INDEX('App Questionnaire'!$6:$6,1,2*(ROW(A210)-1)+COLUMN(AppHeaderCell) + 1)))","v":""},"",{"$f":"IF(ISBLANK(INDEX('Server Questionnaire'!$6:$6,1,6*(ROW(A210)-1)+COLUMN(ServerHeaderCell) + 1)), \"\", (INDEX('Server Questionnaire'!$6:$6,1,6*(ROW(A210)-1)+COLUMN(ServerHeaderCell) + 1)))","v":""}]
[{"$f":"IF(ISBLANK(INDEX('App Questionnaire'!$10:$10,1,2*(ROW(A211)-1)+COLUMN(AppHeaderCell) + 1)), \"\", (INDEX('App Questionnaire'!$10:$10,1,2*(ROW(A211)-1)+COLUMN(AppHeaderCell) + 1)))","v":""},{"$f":"IF(ISBLANK(INDEX('App Questionnaire'!$6:$6,1,2*(ROW(A211)-1)+COLUMN(AppHeaderCell) + 1)), \"\", (INDEX('App Questionnaire'!$6:$6,1,2*(ROW(A211)-1)+COLUMN(AppHeaderCell) + 1)))","v":""},"",{"$f":"IF(ISBLANK(INDEX('Server Questionnaire'!$6:$6,1,6*(ROW(A211)-1)+COLUMN(ServerHeaderCell) + 1)), \"\", (INDEX('Server Questionnaire'!$6:$6,1,6*(ROW(A211)-1)+COLUMN(ServerHeaderCell) + 1)))","v":""}]
[{"$f":"IF(ISBLANK(INDEX('App Questionnaire'!$10:$10,1,2*(ROW(A212)-1)+COLUMN(AppHeaderCell) + 1)), \"\", (INDEX('App Questionnaire'!$10:$10,1,2*(ROW(A212)-1)+COLUMN(AppHeaderCell) + 1)))","v":""},{"$f":"IF(ISBLANK(INDEX('App Questionnaire'!$6:$6,1,2*(ROW(A212)-1)+COLUMN(AppHeaderCell) + 1)), \"\", (INDEX('App Questionnaire'!$6:$6,1,2*(ROW(A212)-1)+COLUMN(AppHeaderCell) + 1)))","v":""},"",{"$f":"IF(ISBLANK(INDEX('Server Questionnaire'!$6:$6,1,6*(ROW(A212)-1)+COLUMN(ServerHeaderCell) + 1)), \"\", (INDEX('Server Questionnaire'!$6:$6,1,6*(ROW(A212)-1)+COLUMN(ServerHeaderCell) + 1)))","v":""}]
[{"$f":"IF(ISBLANK(INDEX('App Questionnaire'!$10:$10,1,2*(ROW(A213)-1)+COLUMN(AppHeaderCell) + 1)), \"\", (INDEX('App Questionnaire'!$10:$10,1,2*(ROW(A213)-1)+COLUMN(AppHeaderCell) + 1)))","v":""},{"$f":"IF(ISBLANK(INDEX('App Questionnaire'!$6:$6,1,2*(ROW(A213)-1)+COLUMN(AppHeaderCell) + 1)), \"\", (INDEX('App Questionnaire'!$6:$6,1,2*(ROW(A213)-1)+COLUMN(AppHeaderCell) + 1)))","v":""},"",{"$f":"IF(ISBLANK(INDEX('Server Questionnaire'!$6:$6,1,6*(ROW(A213)-1)+COLUMN(ServerHeaderCell) + 1)), \"\", (INDEX('Server Questionnaire'!$6:$6,1,6*(ROW(A213)-1)+COLUMN(ServerHeaderCell) + 1)))","v":""}]
[{"$f":"IF(ISBLANK(INDEX('App Questionnaire'!$10:$10,1,2*(ROW(A214)-1)+COLUMN(AppHeaderCell) + 1)), \"\", (INDEX('App Questionnaire'!$10:$10,1,2*(ROW(A214)-1)+COLUMN(AppHeaderCell) + 1)))","v":""},{"$f":"IF(ISBLANK(INDEX('App Questionnaire'!$6:$6,1,2*(ROW(A214)-1)+COLUMN(AppHeaderCell) + 1)), \"\", (INDEX('App Questionnaire'!$6:$6,1,2*(ROW(A214)-1)+COLUMN(AppHeaderCell) + 1)))","v":""},"",{"$f":"IF(ISBLANK(INDEX('Server Questionnaire'!$6:$6,1,6*(ROW(A214)-1)+COLUMN(ServerHeaderCell) + 1)), \"\", (INDEX('Server Questionnaire'!$6:$6,1,6*(ROW(A214)-1)+COLUMN(ServerHeaderCell) + 1)))","v":""}]
[{"$f":"IF(ISBLANK(INDEX('App Questionnaire'!$10:$10,1,2*(ROW(A215)-1)+COLUMN(AppHeaderCell) + 1)), \"\", (INDEX('App Questionnaire'!$10:$10,1,2*(ROW(A215)-1)+COLUMN(AppHeaderCell) + 1)))","v":""},{"$f":"IF(ISBLANK(INDEX('App Questionnaire'!$6:$6,1,2*(ROW(A215)-1)+COLUMN(AppHeaderCell) + 1)), \"\", (INDEX('App Questionnaire'!$6:$6,1,2*(ROW(A215)-1)+COLUMN(AppHeaderCell) + 1)))","v":""},"",{"$f":"IF(ISBLANK(INDEX('Server Questionnaire'!$6:$6,1,6*(ROW(A215)-1)+COLUMN(ServerHeaderCell) + 1)), \"\", (INDEX('Server Questionnaire'!$6:$6,1,6*(ROW(A215)-1)+COLUMN(ServerHeaderCell) + 1)))","v":""}]
[{"$f":"IF(ISBLANK(INDEX('App Questionnaire'!$10:$10,1,2*(ROW(A216)-1)+COLUMN(AppHeaderCell) + 1)), \"\", (INDEX('App Questionnaire'!$10:$10,1,2*(ROW(A216)-1)+COLUMN(AppHeaderCell) + 1)))","v":""},{"$f":"IF(ISBLANK(INDEX('App Questionnaire'!$6:$6,1,2*(ROW(A216)-1)+COLUMN(AppHeaderCell) + 1)), \"\", (INDEX('App Questionnaire'!$6:$6,1,2*(ROW(A216)-1)+COLUMN(AppHeaderCell) + 1)))","v":""},"",{"$f":"IF(ISBLANK(INDEX('Server Questionnaire'!$6:$6,1,6*(ROW(A216)-1)+COLUMN(ServerHeaderCell) + 1)), \"\", (INDEX('Server Questionnaire'!$6:$6,1,6*(ROW(A216)-1)+COLUMN(ServerHeaderCell) + 1)))","v":""}]
[{"$f":"IF(ISBLANK(INDEX('App Questionnaire'!$10:$10,1,2*(ROW(A217)-1)+COLUMN(AppHeaderCell) + 1)), \"\", (INDEX('App Questionnaire'!$10:$10,1,2*(ROW(A217)-1)+COLUMN(AppHeaderCell) + 1)))","v":""},{"$f":"IF(ISBLANK(INDEX('App Questionnaire'!$6:$6,1,2*(ROW(A217)-1)+COLUMN(AppHeaderCell) + 1)), \"\", (INDEX('App Questionnaire'!$6:$6,1,2*(ROW(A217)-1)+COLUMN(AppHeaderCell) + 1)))","v":""},"",{"$f":"IF(ISBLANK(INDEX('Server Questionnaire'!$6:$6,1,6*(ROW(A217)-1)+COLUMN(ServerHeaderCell) + 1)), \"\", (INDEX('Server Questionnaire'!$6:$6,1,6*(ROW(A217)-1)+COLUMN(ServerHeaderCell) + 1)))","v":""}]
[{"$f":"IF(ISBLANK(INDEX('App Questionnaire'!$10:$10,1,2*(ROW(A218)-1)+COLUMN(AppHeaderCell) + 1)), \"\", (INDEX('App Questionnaire'!$10:$10,1,2*(ROW(A218)-1)+COLUMN(AppHeaderCell) + 1)))","v":""},{"$f":"IF(ISBLANK(INDEX('App Questionnaire'!$6:$6,1,2*(ROW(A218)-1)+COLUMN(AppHeaderCell) + 1)), \"\", (INDEX('App Questionnaire'!$6:$6,1,2*(ROW(A218)-1)+COLUMN(AppHeaderCell) + 1)))","v":""},"",{"$f":"IF(ISBLANK(INDEX('Server Questionnaire'!$6:$6,1,6*(ROW(A218)-1)+COLUMN(ServerHeaderCell) + 1)), \"\", (INDEX('Server Questionnaire'!$6:$6,1,6*(ROW(A218)-1)+COLUMN(ServerHeaderCell) + 1)))","v":""}]
[{"$f":"IF(ISBLANK(INDEX('App Questionnaire'!$10:$10,1,2*(ROW(A219)-1)+COLUMN(AppHeaderCell) + 1)), \"\", (INDEX('App Questionnaire'!$10:$10,1,2*(ROW(A219)-1)+COLUMN(AppHeaderCell) + 1)))","v":""},{"$f":"IF(ISBLANK(INDEX('App Questionnaire'!$6:$6,1,2*(ROW(A219)-1)+COLUMN(AppHeaderCell) + 1)), \"\", (INDEX('App Questionnaire'!$6:$6,1,2*(ROW(A219)-1)+COLUMN(AppHeaderCell) + 1)))","v":""},"",{"$f":"IF(ISBLANK(INDEX('Server Questionnaire'!$6:$6,1,6*(ROW(A219)-1)+COLUMN(ServerHeaderCell) + 1)), \"\", (INDEX('Server Questionnaire'!$6:$6,1,6*(ROW(A219)-1)+COLUMN(ServerHeaderCell) + 1)))","v":""}]
[{"$f":"IF(ISBLANK(INDEX('App Questionnaire'!$10:$10,1,2*(ROW(A220)-1)+COLUMN(AppHeaderCell) + 1)), \"\", (INDEX('App Questionnaire'!$10:$10,1,2*(ROW(A220)-1)+COLUMN(AppHeaderCell) + 1)))","v":""},{"$f":"IF(ISBLANK(INDEX('App Questionnaire'!$6:$6,1,2*(ROW(A220)-1)+COLUMN(AppHeaderCell) + 1)), \"\", (INDEX('App Questionnaire'!$6:$6,1,2*(ROW(A220)-1)+COLUMN(AppHeaderCell) + 1)))","v":""},"",{"$f":"IF(ISBLANK(INDEX('Server Questionnaire'!$6:$6,1,6*(ROW(A220)-1)+COLUMN(ServerHeaderCell) + 1)), \"\", (INDEX('Server Questionnaire'!$6:$6,1,6*(ROW(A220)-1)+COLUMN(ServerHeaderCell) + 1)))","v":""}]
[{"$f":"IF(ISBLANK(INDEX('App Questionnaire'!$10:$10,1,2*(ROW(A221)-1)+COLUMN(AppHeaderCell) + 1)), \"\", (INDEX('App Questionnaire'!$10:$10,1,2*(ROW(A221)-1)+COLUMN(AppHeaderCell) + 1)))","v":""},{"$f":"IF(ISBLANK(INDEX('App Questionnaire'!$6:$6,1,2*(ROW(A221)-1)+COLUMN(AppHeaderCell) + 1)), \"\", (INDEX('App Questionnaire'!$6:$6,1,2*(ROW(A221)-1)+COLUMN(AppHeaderCell) + 1)))","v":""},"",{"$f":"IF(ISBLANK(INDEX('Server Questionnaire'!$6:$6,1,6*(ROW(A221)-1)+COLUMN(ServerHeaderCell) + 1)), \"\", (INDEX('Server Questionnaire'!$6:$6,1,6*(ROW(A221)-1)+COLUMN(ServerHeaderCell) + 1)))","v":""}]
[{"$f":"IF(ISBLANK(INDEX('App Questionnaire'!$10:$10,1,2*(ROW(A222)-1)+COLUMN(AppHeaderCell) + 1)), \"\", (INDEX('App Questionnaire'!$10:$10,1,2*(ROW(A222)-1)+COLUMN(AppHeaderCell) + 1)))","v":""},{"$f":"IF(ISBLANK(INDEX('App Questionnaire'!$6:$6,1,2*(ROW(A222)-1)+COLUMN(AppHeaderCell) + 1)), \"\", (INDEX('App Questionnaire'!$6:$6,1,2*(ROW(A222)-1)+COLUMN(AppHeaderCell) + 1)))","v":""},"",{"$f":"IF(ISBLANK(INDEX('Server Questionnaire'!$6:$6,1,6*(ROW(A222)-1)+COLUMN(ServerHeaderCell) + 1)), \"\", (INDEX('Server Questionnaire'!$6:$6,1,6*(ROW(A222)-1)+COLUMN(ServerHeaderCell) + 1)))","v":""}]
[{"$f":"IF(ISBLANK(INDEX('App Questionnaire'!$10:$10,1,2*(ROW(A223)-1)+COLUMN(AppHeaderCell) + 1)), \"\", (INDEX('App Questionnaire'!$10:$10,1,2*(ROW(A223)-1)+COLUMN(AppHeaderCell) + 1)))","v":""},{"$f":"IF(ISBLANK(INDEX('App Questionnaire'!$6:$6,1,2*(ROW(A223)-1)+COLUMN(AppHeaderCell) + 1)), \"\", (INDEX('App Questionnaire'!$6:$6,1,2*(ROW(A223)-1)+COLUMN(AppHeaderCell) + 1)))","v":""},"",{"$f":"IF(ISBLANK(INDEX('Server Questionnaire'!$6:$6,1,6*(ROW(A223)-1)+COLUMN(ServerHeaderCell) + 1)), \"\", (INDEX('Server Questionnaire'!$6:$6,1,6*(ROW(A223)-1)+COLUMN(ServerHeaderCell) + 1)))","v":""}]
[{"$f":"IF(ISBLANK(INDEX('App Questionnaire'!$10:$10,1,2*(ROW(A224)-1)+COLUMN(AppHeaderCell) + 1)), \"\", (INDEX('App Questionnaire'!$10:$10,1,2*(ROW(A224)-1)+COLUMN(AppHeaderCell) + 1)))","v":""},{"$f":"IF(ISBLANK(INDEX('App Questionnaire'!$6:$6,1,2*(ROW(A224)-1)+COLUMN(AppHeaderCell) + 1)), \"\", (INDEX('App Questionnaire'!$6:$6,1,2*(ROW(A224)-1)+COLUMN(AppHeaderCell) + 1)))","v":""},"",{"$f":"IF(ISBLANK(INDEX('Server Questionnaire'!$6:$6,1,6*(ROW(A224)-1)+COLUMN(ServerHeaderCell) + 1)), \"\", (INDEX('Server Questionnaire'!$6:$6,1,6*(ROW(A224)-1)+COLUMN(ServerHeaderCell) + 1)))","v":""}]
[{"$f":"IF(ISBLANK(INDEX('App Questionnaire'!$10:$10,1,2*(ROW(A225)-1)+COLUMN(AppHeaderCell) + 1)), \"\", (INDEX('App Questionnaire'!$10:$10,1,2*(ROW(A225)-1)+COLUMN(AppHeaderCell) + 1)))","v":""},{"$f":"IF(ISBLANK(INDEX('App Questionnaire'!$6:$6,1,2*(ROW(A225)-1)+COLUMN(AppHeaderCell) + 1)), \"\", (INDEX('App Questionnaire'!$6:$6,1,2*(ROW(A225)-1)+COLUMN(AppHeaderCell) + 1)))","v":""},"",{"$f":"IF(ISBLANK(INDEX('Server Questionnaire'!$6:$6,1,6*(ROW(A225)-1)+COLUMN(ServerHeaderCell) + 1)), \"\", (INDEX('Server Questionnaire'!$6:$6,1,6*(ROW(A225)-1)+COLUMN(ServerHeaderCell) + 1)))","v":""}]
[{"$f":"IF(ISBLANK(INDEX('App Questionnaire'!$10:$10,1,2*(ROW(A226)-1)+COLUMN(AppHeaderCell) + 1)), \"\", (INDEX('App Questionnaire'!$10:$10,1,2*(ROW(A226)-1)+COLUMN(AppHeaderCell) + 1)))","v":""},{"$f":"IF(ISBLANK(INDEX('App Questionnaire'!$6:$6,1,2*(ROW(A226)-1)+COLUMN(AppHeaderCell) + 1)), \"\", (INDEX('App Questionnaire'!$6:$6,1,2*(ROW(A226)-1)+COLUMN(AppHeaderCell) + 1)))","v":""},"",{"$f":"IF(ISBLANK(INDEX('Server Questionnaire'!$6:$6,1,6*(ROW(A226)-1)+COLUMN(ServerHeaderCell) + 1)), \"\", (INDEX('Server Questionnaire'!$6:$6,1,6*(ROW(A226)-1)+COLUMN(ServerHeaderCell) + 1)))","v":""}]
[{"$f":"IF(ISBLANK(INDEX('App Questionnaire'!$10:$10,1,2*(ROW(A227)-1)+COLUMN(AppHeaderCell) + 1)), \"\", (INDEX('App Questionnaire'!$10:$10,1,2*(ROW(A227)-1)+COLUMN(AppHeaderCell) + 1)))","v":""},{"$f":"IF(ISBLANK(INDEX('App Questionnaire'!$6:$6,1,2*(ROW(A227)-1)+COLUMN(AppHeaderCell) + 1)), \"\", (INDEX('App Questionnaire'!$6:$6,1,2*(ROW(A227)-1)+COLUMN(AppHeaderCell) + 1)))","v":""},"",{"$f":"IF(ISBLANK(INDEX('Server Questionnaire'!$6:$6,1,6*(ROW(A227)-1)+COLUMN(ServerHeaderCell) + 1)), \"\", (INDEX('Server Questionnaire'!$6:$6,1,6*(ROW(A227)-1)+COLUMN(ServerHeaderCell) + 1)))","v":""}]
[{"$f":"IF(ISBLANK(INDEX('App Questionnaire'!$10:$10,1,2*(ROW(A228)-1)+COLUMN(AppHeaderCell) + 1)), \"\", (INDEX('App Questionnaire'!$10:$10,1,2*(ROW(A228)-1)+COLUMN(AppHeaderCell) + 1)))","v":""},{"$f":"IF(ISBLANK(INDEX('App Questionnaire'!$6:$6,1,2*(ROW(A228)-1)+COLUMN(AppHeaderCell) + 1)), \"\", (INDEX('App Questionnaire'!$6:$6,1,2*(ROW(A228)-1)+COLUMN(AppHeaderCell) + 1)))","v":""},"",{"$f":"IF(ISBLANK(INDEX('Server Questionnaire'!$6:$6,1,6*(ROW(A228)-1)+COLUMN(ServerHeaderCell) + 1)), \"\", (INDEX('Server Questionnaire'!$6:$6,1,6*(ROW(A228)-1)+COLUMN(ServerHeaderCell) + 1)))","v":""}]
[{"$f":"IF(ISBLANK(INDEX('App Questionnaire'!$10:$10,1,2*(ROW(A229)-1)+COLUMN(AppHeaderCell) + 1)), \"\", (INDEX('App Questionnaire'!$10:$10,1,2*(ROW(A229)-1)+COLUMN(AppHeaderCell) + 1)))","v":""},{"$f":"IF(ISBLANK(INDEX('App Questionnaire'!$6:$6,1,2*(ROW(A229)-1)+COLUMN(AppHeaderCell) + 1)), \"\", (INDEX('App Questionnaire'!$6:$6,1,2*(ROW(A229)-1)+COLUMN(AppHeaderCell) + 1)))","v":""},"",{"$f":"IF(ISBLANK(INDEX('Server Questionnaire'!$6:$6,1,6*(ROW(A229)-1)+COLUMN(ServerHeaderCell) + 1)), \"\", (INDEX('Server Questionnaire'!$6:$6,1,6*(ROW(A229)-1)+COLUMN(ServerHeaderCell) + 1)))","v":""}]
[{"$f":"IF(ISBLANK(INDEX('App Questionnaire'!$10:$10,1,2*(ROW(A230)-1)+COLUMN(AppHeaderCell) + 1)), \"\", (INDEX('App Questionnaire'!$10:$10,1,2*(ROW(A230)-1)+COLUMN(AppHeaderCell) + 1)))","v":""},{"$f":"IF(ISBLANK(INDEX('App Questionnaire'!$6:$6,1,2*(ROW(A230)-1)+COLUMN(AppHeaderCell) + 1)), \"\", (INDEX('App Questionnaire'!$6:$6,1,2*(ROW(A230)-1)+COLUMN(AppHeaderCell) + 1)))","v":""},"",{"$f":"IF(ISBLANK(INDEX('Server Questionnaire'!$6:$6,1,6*(ROW(A230)-1)+COLUMN(ServerHeaderCell) + 1)), \"\", (INDEX('Server Questionnaire'!$6:$6,1,6*(ROW(A230)-1)+COLUMN(ServerHeaderCell) + 1)))","v":""}]
[{"$f":"IF(ISBLANK(INDEX('App Questionnaire'!$10:$10,1,2*(ROW(A231)-1)+COLUMN(AppHeaderCell) + 1)), \"\", (INDEX('App Questionnaire'!$10:$10,1,2*(ROW(A231)-1)+COLUMN(AppHeaderCell) + 1)))","v":""},{"$f":"IF(ISBLANK(INDEX('App Questionnaire'!$6:$6,1,2*(ROW(A231)-1)+COLUMN(AppHeaderCell) + 1)), \"\", (INDEX('App Questionnaire'!$6:$6,1,2*(ROW(A231)-1)+COLUMN(AppHeaderCell) + 1)))","v":""},"",{"$f":"IF(ISBLANK(INDEX('Server Questionnaire'!$6:$6,1,6*(ROW(A231)-1)+COLUMN(ServerHeaderCell) + 1)), \"\", (INDEX('Server Questionnaire'!$6:$6,1,6*(ROW(A231)-1)+COLUMN(ServerHeaderCell) + 1)))","v":""}]
[{"$f":"IF(ISBLANK(INDEX('App Questionnaire'!$10:$10,1,2*(ROW(A232)-1)+COLUMN(AppHeaderCell) + 1)), \"\", (INDEX('App Questionnaire'!$10:$10,1,2*(ROW(A232)-1)+COLUMN(AppHeaderCell) + 1)))","v":""},{"$f":"IF(ISBLANK(INDEX('App Questionnaire'!$6:$6,1,2*(ROW(A232)-1)+COLUMN(AppHeaderCell) + 1)), \"\", (INDEX('App Questionnaire'!$6:$6,1,2*(ROW(A232)-1)+COLUMN(AppHeaderCell) + 1)))","v":""},"",{"$f":"IF(ISBLANK(INDEX('Server Questionnaire'!$6:$6,1,6*(ROW(A232)-1)+COLUMN(ServerHeaderCell) + 1)), \"\", (INDEX('Server Questionnaire'!$6:$6,1,6*(ROW(A232)-1)+COLUMN(ServerHeaderCell) + 1)))","v":""}]
[{"$f":"IF(ISBLANK(INDEX('App Questionnaire'!$10:$10,1,2*(ROW(A233)-1)+COLUMN(AppHeaderCell) + 1)), \"\", (INDEX('App Questionnaire'!$10:$10,1,2*(ROW(A233)-1)+COLUMN(AppHeaderCell) + 1)))","v":""},{"$f":"IF(ISBLANK(INDEX('App Questionnaire'!$6:$6,1,2*(ROW(A233)-1)+COLUMN(AppHeaderCell) + 1)), \"\", (INDEX('App Questionnaire'!$6:$6,1,2*(ROW(A233)-1)+COLUMN(AppHeaderCell) + 1)))","v":""},"",{"$f":"IF(ISBLANK(INDEX('Server Questionnaire'!$6:$6,1,6*(ROW(A233)-1)+COLUMN(ServerHeaderCell) + 1)), \"\", (INDEX('Server Questionnaire'!$6:$6,1,6*(ROW(A233)-1)+COLUMN(ServerHeaderCell) + 1)))","v":""}]
[{"$f":"IF(ISBLANK(INDEX('App Questionnaire'!$10:$10,1,2*(ROW(A234)-1)+COLUMN(AppHeaderCell) + 1)), \"\", (INDEX('App Questionnaire'!$10:$10,1,2*(ROW(A234)-1)+COLUMN(AppHeaderCell) + 1)))","v":""},{"$f":"IF(ISBLANK(INDEX('App Questionnaire'!$6:$6,1,2*(ROW(A234)-1)+COLUMN(AppHeaderCell) + 1)), \"\", (INDEX('App Questionnaire'!$6:$6,1,2*(ROW(A234)-1)+COLUMN(AppHeaderCell) + 1)))","v":""},"",{"$f":"IF(ISBLANK(INDEX('Server Questionnaire'!$6:$6,1,6*(ROW(A234)-1)+COLUMN(ServerHeaderCell) + 1)), \"\", (INDEX('Server Questionnaire'!$6:$6,1,6*(ROW(A234)-1)+COLUMN(ServerHeaderCell) + 1)))","v":""}]
[{"$f":"IF(ISBLANK(INDEX('App Questionnaire'!$10:$10,1,2*(ROW(A235)-1)+COLUMN(AppHeaderCell) + 1)), \"\", (INDEX('App Questionnaire'!$10:$10,1,2*(ROW(A235)-1)+COLUMN(AppHeaderCell) + 1)))","v":""},{"$f":"IF(ISBLANK(INDEX('App Questionnaire'!$6:$6,1,2*(ROW(A235)-1)+COLUMN(AppHeaderCell) + 1)), \"\", (INDEX('App Questionnaire'!$6:$6,1,2*(ROW(A235)-1)+COLUMN(AppHeaderCell) + 1)))","v":""},"",{"$f":"IF(ISBLANK(INDEX('Server Questionnaire'!$6:$6,1,6*(ROW(A235)-1)+COLUMN(ServerHeaderCell) + 1)), \"\", (INDEX('Server Questionnaire'!$6:$6,1,6*(ROW(A235)-1)+COLUMN(ServerHeaderCell) + 1)))","v":""}]
[{"$f":"IF(ISBLANK(INDEX('App Questionnaire'!$10:$10,1,2*(ROW(A236)-1)+COLUMN(AppHeaderCell) + 1)), \"\", (INDEX('App Questionnaire'!$10:$10,1,2*(ROW(A236)-1)+COLUMN(AppHeaderCell) + 1)))","v":""},{"$f":"IF(ISBLANK(INDEX('App Questionnaire'!$6:$6,1,2*(ROW(A236)-1)+COLUMN(AppHeaderCell) + 1)), \"\", (INDEX('App Questionnaire'!$6:$6,1,2*(ROW(A236)-1)+COLUMN(AppHeaderCell) + 1)))","v":""},"",{"$f":"IF(ISBLANK(INDEX('Server Questionnaire'!$6:$6,1,6*(ROW(A236)-1)+COLUMN(ServerHeaderCell) + 1)), \"\", (INDEX('Server Questionnaire'!$6:$6,1,6*(ROW(A236)-1)+COLUMN(ServerHeaderCell) + 1)))","v":""}]
[{"$f":"IF(ISBLANK(INDEX('App Questionnaire'!$10:$10,1,2*(ROW(A237)-1)+COLUMN(AppHeaderCell) + 1)), \"\", (INDEX('App Questionnaire'!$10:$10,1,2*(ROW(A237)-1)+COLUMN(AppHeaderCell) + 1)))","v":""},{"$f":"IF(ISBLANK(INDEX('App Questionnaire'!$6:$6,1,2*(ROW(A237)-1)+COLUMN(AppHeaderCell) + 1)), \"\", (INDEX('App Questionnaire'!$6:$6,1,2*(ROW(A237)-1)+COLUMN(AppHeaderCell) + 1)))","v":""},"",{"$f":"IF(ISBLANK(INDEX('Server Questionnaire'!$6:$6,1,6*(ROW(A237)-1)+COLUMN(ServerHeaderCell) + 1)), \"\", (INDEX('Server Questionnaire'!$6:$6,1,6*(ROW(A237)-1)+COLUMN(ServerHeaderCell) + 1)))","v":""}]
[{"$f":"IF(ISBLANK(INDEX('App Questionnaire'!$10:$10,1,2*(ROW(A238)-1)+COLUMN(AppHeaderCell) + 1)), \"\", (INDEX('App Questionnaire'!$10:$10,1,2*(ROW(A238)-1)+COLUMN(AppHeaderCell) + 1)))","v":""},{"$f":"IF(ISBLANK(INDEX('App Questionnaire'!$6:$6,1,2*(ROW(A238)-1)+COLUMN(AppHeaderCell) + 1)), \"\", (INDEX('App Questionnaire'!$6:$6,1,2*(ROW(A238)-1)+COLUMN(AppHeaderCell) + 1)))","v":""},"",{"$f":"IF(ISBLANK(INDEX('Server Questionnaire'!$6:$6,1,6*(ROW(A238)-1)+COLUMN(ServerHeaderCell) + 1)), \"\", (INDEX('Server Questionnaire'!$6:$6,1,6*(ROW(A238)-1)+COLUMN(ServerHeaderCell) + 1)))","v":""}]
[{"$f":"IF(ISBLANK(INDEX('App Questionnaire'!$10:$10,1,2*(ROW(A239)-1)+COLUMN(AppHeaderCell) + 1)), \"\", (INDEX('App Questionnaire'!$10:$10,1,2*(ROW(A239)-1)+COLUMN(AppHeaderCell) + 1)))","v":""},{"$f":"IF(ISBLANK(INDEX('App Questionnaire'!$6:$6,1,2*(ROW(A239)-1)+COLUMN(AppHeaderCell) + 1)), \"\", (INDEX('App Questionnaire'!$6:$6,1,2*(ROW(A239)-1)+COLUMN(AppHeaderCell) + 1)))","v":""},"",{"$f":"IF(ISBLANK(INDEX('Server Questionnaire'!$6:$6,1,6*(ROW(A239)-1)+COLUMN(ServerHeaderCell) + 1)), \"\", (INDEX('Server Questionnaire'!$6:$6,1,6*(ROW(A239)-1)+COLUMN(ServerHeaderCell) + 1)))","v":""}]
[{"$f":"IF(ISBLANK(INDEX('App Questionnaire'!$10:$10,1,2*(ROW(A240)-1)+COLUMN(AppHeaderCell) + 1)), \"\", (INDEX('App Questionnaire'!$10:$10,1,2*(ROW(A240)-1)+COLUMN(AppHeaderCell) + 1)))","v":""},{"$f":"IF(ISBLANK(INDEX('App Questionnaire'!$6:$6,1,2*(ROW(A240)-1)+COLUMN(AppHeaderCell) + 1)), \"\", (INDEX('App Questionnaire'!$6:$6,1,2*(ROW(A240)-1)+COLUMN(AppHeaderCell) + 1)))","v":""},"",{"$f":"IF(ISBLANK(INDEX('Server Questionnaire'!$6:$6,1,6*(ROW(A240)-1)+COLUMN(ServerHeaderCell) + 1)), \"\", (INDEX('Server Questionnaire'!$6:$6,1,6*(ROW(A240)-1)+COLUMN(ServerHeaderCell) + 1)))","v":""}]
[{"$f":"IF(ISBLANK(INDEX('App Questionnaire'!$10:$10,1,2*(ROW(A241)-1)+COLUMN(AppHeaderCell) + 1)), \"\", (INDEX('App Questionnaire'!$10:$10,1,2*(ROW(A241)-1)+COLUMN(AppHeaderCell) + 1)))","v":""},{"$f":"IF(ISBLANK(INDEX('App Questionnaire'!$6:$6,1,2*(ROW(A241)-1)+COLUMN(AppHeaderCell) + 1)), \"\", (INDEX('App Questionnaire'!$6:$6,1,2*(ROW(A241)-1)+COLUMN(AppHeaderCell) + 1)))","v":""},"",{"$f":"IF(ISBLANK(INDEX('Server Questionnaire'!$6:$6,1,6*(ROW(A241)-1)+COLUMN(ServerHeaderCell) + 1)), \"\", (INDEX('Server Questionnaire'!$6:$6,1,6*(ROW(A241)-1)+COLUMN(ServerHeaderCell) + 1)))","v":""}]
[{"$f":"IF(ISBLANK(INDEX('App Questionnaire'!$10:$10,1,2*(ROW(A242)-1)+COLUMN(AppHeaderCell) + 1)), \"\", (INDEX('App Questionnaire'!$10:$10,1,2*(ROW(A242)-1)+COLUMN(AppHeaderCell) + 1)))","v":""},{"$f":"IF(ISBLANK(INDEX('App Questionnaire'!$6:$6,1,2*(ROW(A242)-1)+COLUMN(AppHeaderCell) + 1)), \"\", (INDEX('App Questionnaire'!$6:$6,1,2*(ROW(A242)-1)+COLUMN(AppHeaderCell) + 1)))","v":""},"",{"$f":"IF(ISBLANK(INDEX('Server Questionnaire'!$6:$6,1,6*(ROW(A242)-1)+COLUMN(ServerHeaderCell) + 1)), \"\", (INDEX('Server Questionnaire'!$6:$6,1,6*(ROW(A242)-1)+COLUMN(ServerHeaderCell) + 1)))","v":""}]
[{"$f":"IF(ISBLANK(INDEX('App Questionnaire'!$10:$10,1,2*(ROW(A243)-1)+COLUMN(AppHeaderCell) + 1)), \"\", (INDEX('App Questionnaire'!$10:$10,1,2*(ROW(A243)-1)+COLUMN(AppHeaderCell) + 1)))","v":""},{"$f":"IF(ISBLANK(INDEX('App Questionnaire'!$6:$6,1,2*(ROW(A243)-1)+COLUMN(AppHeaderCell) + 1)), \"\", (INDEX('App Questionnaire'!$6:$6,1,2*(ROW(A243)-1)+COLUMN(AppHeaderCell) + 1)))","v":""},"",{"$f":"IF(ISBLANK(INDEX('Server Questionnaire'!$6:$6,1,6*(ROW(A243)-1)+COLUMN(ServerHeaderCell) + 1)), \"\", (INDEX('Server Questionnaire'!$6:$6,1,6*(ROW(A243)-1)+COLUMN(ServerHeaderCell) + 1)))","v":""}]
[{"$f":"IF(ISBLANK(INDEX('App Questionnaire'!$10:$10,1,2*(ROW(A244)-1)+COLUMN(AppHeaderCell) + 1)), \"\", (INDEX('App Questionnaire'!$10:$10,1,2*(ROW(A244)-1)+COLUMN(AppHeaderCell) + 1)))","v":""},{"$f":"IF(ISBLANK(INDEX('App Questionnaire'!$6:$6,1,2*(ROW(A244)-1)+COLUMN(AppHeaderCell) + 1)), \"\", (INDEX('App Questionnaire'!$6:$6,1,2*(ROW(A244)-1)+COLUMN(AppHeaderCell) + 1)))","v":""},"",{"$f":"IF(ISBLANK(INDEX('Server Questionnaire'!$6:$6,1,6*(ROW(A244)-1)+COLUMN(ServerHeaderCell) + 1)), \"\", (INDEX('Server Questionnaire'!$6:$6,1,6*(ROW(A244)-1)+COLUMN(ServerHeaderCell) + 1)))","v":""}]
[{"$f":"IF(ISBLANK(INDEX('App Questionnaire'!$10:$10,1,2*(ROW(A245)-1)+COLUMN(AppHeaderCell) + 1)), \"\", (INDEX('App Questionnaire'!$10:$10,1,2*(ROW(A245)-1)+COLUMN(AppHeaderCell) + 1)))","v":""},{"$f":"IF(ISBLANK(INDEX('App Questionnaire'!$6:$6,1,2*(ROW(A245)-1)+COLUMN(AppHeaderCell) + 1)), \"\", (INDEX('App Questionnaire'!$6:$6,1,2*(ROW(A245)-1)+COLUMN(AppHeaderCell) + 1)))","v":""},"",{"$f":"IF(ISBLANK(INDEX('Server Questionnaire'!$6:$6,1,6*(ROW(A245)-1)+COLUMN(ServerHeaderCell) + 1)), \"\", (INDEX('Server Questionnaire'!$6:$6,1,6*(ROW(A245)-1)+COLUMN(ServerHeaderCell) + 1)))","v":""}]
[{"$f":"IF(ISBLANK(INDEX('App Questionnaire'!$10:$10,1,2*(ROW(A246)-1)+COLUMN(AppHeaderCell) + 1)), \"\", (INDEX('App Questionnaire'!$10:$10,1,2*(ROW(A246)-1)+COLUMN(AppHeaderCell) + 1)))","v":""},{"$f":"IF(ISBLANK(INDEX('App Questionnaire'!$6:$6,1,2*(ROW(A246)-1)+COLUMN(AppHeaderCell) + 1)), \"\", (INDEX('App Questionnaire'!$6:$6,1,2*(ROW(A246)-1)+COLUMN(AppHeaderCell) + 1)))","v":""},"",{"$f":"IF(ISBLANK(INDEX('Server Questionnaire'!$6:$6,1,6*(ROW(A246)-1)+COLUMN(ServerHeaderCell) + 1)), \"\", (INDEX('Server Questionnaire'!$6:$6,1,6*(ROW(A246)-1)+COLUMN(ServerHeaderCell) + 1)))","v":""}]
[{"$f":"IF(ISBLANK(INDEX('App Questionnaire'!$10:$10,1,2*(ROW(A247)-1)+COLUMN(AppHeaderCell) + 1)), \"\", (INDEX('App Questionnaire'!$10:$10,1,2*(ROW(A247)-1)+COLUMN(AppHeaderCell) + 1)))","v":""},{"$f":"IF(ISBLANK(INDEX('App Questionnaire'!$6:$6,1,2*(ROW(A247)-1)+COLUMN(AppHeaderCell) + 1)), \"\", (INDEX('App Questionnaire'!$6:$6,1,2*(ROW(A247)-1)+COLUMN(AppHeaderCell) + 1)))","v":""},"",{"$f":"IF(ISBLANK(INDEX('Server Questionnaire'!$6:$6,1,6*(ROW(A247)-1)+COLUMN(ServerHeaderCell) + 1)), \"\", (INDEX('Server Questionnaire'!$6:$6,1,6*(ROW(A247)-1)+COLUMN(ServerHeaderCell) + 1)))","v":""}]
[{"$f":"IF(ISBLANK(INDEX('App Questionnaire'!$10:$10,1,2*(ROW(A248)-1)+COLUMN(AppHeaderCell) + 1)), \"\", (INDEX('App Questionnaire'!$10:$10,1,2*(ROW(A248)-1)+COLUMN(AppHeaderCell) + 1)))","v":""},{"$f":"IF(ISBLANK(INDEX('App Questionnaire'!$6:$6,1,2*(ROW(A248)-1)+COLUMN(AppHeaderCell) + 1)), \"\", (INDEX('App Questionnaire'!$6:$6,1,2*(ROW(A248)-1)+COLUMN(AppHeaderCell) + 1)))","v":""},"",{"$f":"IF(ISBLANK(INDEX('Server Questionnaire'!$6:$6,1,6*(ROW(A248)-1)+COLUMN(ServerHeaderCell) + 1)), \"\", (INDEX('Server Questionnaire'!$6:$6,1,6*(ROW(A248)-1)+COLUMN(ServerHeaderCell) + 1)))","v":""}]
[{"$f":"IF(ISBLANK(INDEX('App Questionnaire'!$10:$10,1,2*(ROW(A249)-1)+COLUMN(AppHeaderCell) + 1)), \"\", (INDEX('App Questionnaire'!$10:$10,1,2*(ROW(A249)-1)+COLUMN(AppHeaderCell) + 1)))","v":""},{"$f":"IF(ISBLANK(INDEX('App Questionnaire'!$6:$6,1,2*(ROW(A249)-1)+COLUMN(AppHeaderCell) + 1)), \"\", (INDEX('App Questionnaire'!$6:$6,1,2*(ROW(A249)-1)+COLUMN(AppHeaderCell) + 1)))","v":""},"",{"$f":"IF(ISBLANK(INDEX('Server Questionnaire'!$6:$6,1,6*(ROW(A249)-1)+COLUMN(ServerHeaderCell) + 1)), \"\", (INDEX('Server Questionnaire'!$6:$6,1,6*(ROW(A249)-1)+COLUMN(ServerHeaderCell) + 1)))","v":""}]
[{"$f":"IF(ISBLANK(INDEX('App Questionnaire'!$10:$10,1,2*(ROW(A250)-1)+COLUMN(AppHeaderCell) + 1)), \"\", (INDEX('App Questionnaire'!$10:$10,1,2*(ROW(A250)-1)+COLUMN(AppHeaderCell) + 1)))","v":""},{"$f":"IF(ISBLANK(INDEX('App Questionnaire'!$6:$6,1,2*(ROW(A250)-1)+COLUMN(AppHeaderCell) + 1)), \"\", (INDEX('App Questionnaire'!$6:$6,1,2*(ROW(A250)-1)+COLUMN(AppHeaderCell) + 1)))","v":""},"",{"$f":"IF(ISBLANK(INDEX('Server Questionnaire'!$6:$6,1,6*(ROW(A250)-1)+COLUMN(ServerHeaderCell) + 1)), \"\", (INDEX('Server Questionnaire'!$6:$6,1,6*(ROW(A250)-1)+COLUMN(ServerHeaderCell) + 1)))","v":""}]
[{"$f":"IF(ISBLANK(INDEX('App Questionnaire'!$10:$10,1,2*(ROW(A251)-1)+COLUMN(AppHeaderCell) + 1)), \"\", (INDEX('App Questionnaire'!$10:$10,1,2*(ROW(A251)-1)+COLUMN(AppHeaderCell) + 1)))","v":""},{"$f":"IF(ISBLANK(INDEX('App Questionnaire'!$6:$6,1,2*(ROW(A251)-1)+COLUMN(AppHeaderCell) + 1)), \"\", (INDEX('App Questionnaire'!$6:$6,1,2*(ROW(A251)-1)+COLUMN(AppHeaderCell) + 1)))","v":""},"",{"$f":"IF(ISBLANK(INDEX('Server Questionnaire'!$6:$6,1,6*(ROW(A251)-1)+COLUMN(ServerHeaderCell) + 1)), \"\", (INDEX('Server Questionnaire'!$6:$6,1,6*(ROW(A251)-1)+COLUMN(ServerHeaderCell) + 1)))","v":""}]
[{"$f":"IF(ISBLANK(INDEX('App Questionnaire'!$10:$10,1,2*(ROW(A252)-1)+COLUMN(AppHeaderCell) + 1)), \"\", (INDEX('App Questionnaire'!$10:$10,1,2*(ROW(A252)-1)+COLUMN(AppHeaderCell) + 1)))","v":""},{"$f":"IF(ISBLANK(INDEX('App Questionnaire'!$6:$6,1,2*(ROW(A252)-1)+COLUMN(AppHeaderCell) + 1)), \"\", (INDEX('App Questionnaire'!$6:$6,1,2*(ROW(A252)-1)+COLUMN(AppHeaderCell) + 1)))","v":""},"",{"$f":"IF(ISBLANK(INDEX('Server Questionnaire'!$6:$6,1,6*(ROW(A252)-1)+COLUMN(ServerHeaderCell) + 1)), \"\", (INDEX('Server Questionnaire'!$6:$6,1,6*(ROW(A252)-1)+COLUMN(ServerHeaderCell) + 1)))","v":""}]
[{"$f":"IF(ISBLANK(INDEX('App Questionnaire'!$10:$10,1,2*(ROW(A253)-1)+COLUMN(AppHeaderCell) + 1)), \"\", (INDEX('App Questionnaire'!$10:$10,1,2*(ROW(A253)-1)+COLUMN(AppHeaderCell) + 1)))","v":""},{"$f":"IF(ISBLANK(INDEX('App Questionnaire'!$6:$6,1,2*(ROW(A253)-1)+COLUMN(AppHeaderCell) + 1)), \"\", (INDEX('App Questionnaire'!$6:$6,1,2*(ROW(A253)-1)+COLUMN(AppHeaderCell) + 1)))","v":""},"",{"$f":"IF(ISBLANK(INDEX('Server Questionnaire'!$6:$6,1,6*(ROW(A253)-1)+COLUMN(ServerHeaderCell) + 1)), \"\", (INDEX('Server Questionnaire'!$6:$6,1,6*(ROW(A253)-1)+COLUMN(ServerHeaderCell) + 1)))","v":""}]
[{"$f":"IF(ISBLANK(INDEX('App Questionnaire'!$10:$10,1,2*(ROW(A254)-1)+COLUMN(AppHeaderCell) + 1)), \"\", (INDEX('App Questionnaire'!$10:$10,1,2*(ROW(A254)-1)+COLUMN(AppHeaderCell) + 1)))","v":""},{"$f":"IF(ISBLANK(INDEX('App Questionnaire'!$6:$6,1,2*(ROW(A254)-1)+COLUMN(AppHeaderCell) + 1)), \"\", (INDEX('App Questionnaire'!$6:$6,1,2*(ROW(A254)-1)+COLUMN(AppHeaderCell) + 1)))","v":""},"",{"$f":"IF(ISBLANK(INDEX('Server Questionnaire'!$6:$6,1,6*(ROW(A254)-1)+COLUMN(ServerHeaderCell) + 1)), \"\", (INDEX('Server Questionnaire'!$6:$6,1,6*(ROW(A254)-1)+COLUMN(ServerHeaderCell) + 1)))","v":""}]
[{"$f":"IF(ISBLANK(INDEX('App Questionnaire'!$10:$10,1,2*(ROW(A255)-1)+COLUMN(AppHeaderCell) + 1)), \"\", (INDEX('App Questionnaire'!$10:$10,1,2*(ROW(A255)-1)+COLUMN(AppHeaderCell) + 1)))","v":""},{"$f":"IF(ISBLANK(INDEX('App Questionnaire'!$6:$6,1,2*(ROW(A255)-1)+COLUMN(AppHeaderCell) + 1)), \"\", (INDEX('App Questionnaire'!$6:$6,1,2*(ROW(A255)-1)+COLUMN(AppHeaderCell) + 1)))","v":""},"",{"$f":"IF(ISBLANK(INDEX('Server Questionnaire'!$6:$6,1,6*(ROW(A255)-1)+COLUMN(ServerHeaderCell) + 1)), \"\", (INDEX('Server Questionnaire'!$6:$6,1,6*(ROW(A255)-1)+COLUMN(ServerHeaderCell) + 1)))","v":""}]
[{"$f":"IF(ISBLANK(INDEX('App Questionnaire'!$10:$10,1,2*(ROW(A256)-1)+COLUMN(AppHeaderCell) + 1)), \"\", (INDEX('App Questionnaire'!$10:$10,1,2*(ROW(A256)-1)+COLUMN(AppHeaderCell) + 1)))","v":""},{"$f":"IF(ISBLANK(INDEX('App Questionnaire'!$6:$6,1,2*(ROW(A256)-1)+COLUMN(AppHeaderCell) + 1)), \"\", (INDEX('App Questionnaire'!$6:$6,1,2*(ROW(A256)-1)+COLUMN(AppHeaderCell) + 1)))","v":""},"",{"$f":"IF(ISBLANK(INDEX('Server Questionnaire'!$6:$6,1,6*(ROW(A256)-1)+COLUMN(ServerHeaderCell) + 1)), \"\", (INDEX('Server Questionnaire'!$6:$6,1,6*(ROW(A256)-1)+COLUMN(ServerHeaderCell) + 1)))","v":""}]
[{"$f":"IF(ISBLANK(INDEX('App Questionnaire'!$10:$10,1,2*(ROW(A257)-1)+COLUMN(AppHeaderCell) + 1)), \"\", (INDEX('App Questionnaire'!$10:$10,1,2*(ROW(A257)-1)+COLUMN(AppHeaderCell) + 1)))","v":""},{"$f":"IF(ISBLANK(INDEX('App Questionnaire'!$6:$6,1,2*(ROW(A257)-1)+COLUMN(AppHeaderCell) + 1)), \"\", (INDEX('App Questionnaire'!$6:$6,1,2*(ROW(A257)-1)+COLUMN(AppHeaderCell) + 1)))","v":""},"",{"$f":"IF(ISBLANK(INDEX('Server Questionnaire'!$6:$6,1,6*(ROW(A257)-1)+COLUMN(ServerHeaderCell) + 1)), \"\", (INDEX('Server Questionnaire'!$6:$6,1,6*(ROW(A257)-1)+COLUMN(ServerHeaderCell) + 1)))","v":""}]
[{"$f":"IF(ISBLANK(INDEX('App Questionnaire'!$10:$10,1,2*(ROW(A258)-1)+COLUMN(AppHeaderCell) + 1)), \"\", (INDEX('App Questionnaire'!$10:$10,1,2*(ROW(A258)-1)+COLUMN(AppHeaderCell) + 1)))","v":""},{"$f":"IF(ISBLANK(INDEX('App Questionnaire'!$6:$6,1,2*(ROW(A258)-1)+COLUMN(AppHeaderCell) + 1)), \"\", (INDEX('App Questionnaire'!$6:$6,1,2*(ROW(A258)-1)+COLUMN(AppHeaderCell) + 1)))","v":""},"",{"$f":"IF(ISBLANK(INDEX('Server Questionnaire'!$6:$6,1,6*(ROW(A258)-1)+COLUMN(ServerHeaderCell) + 1)), \"\", (INDEX('Server Questionnaire'!$6:$6,1,6*(ROW(A258)-1)+COLUMN(ServerHeaderCell) + 1)))","v":""}]
[{"$f":"IF(ISBLANK(INDEX('App Questionnaire'!$10:$10,1,2*(ROW(A259)-1)+COLUMN(AppHeaderCell) + 1)), \"\", (INDEX('App Questionnaire'!$10:$10,1,2*(ROW(A259)-1)+COLUMN(AppHeaderCell) + 1)))","v":""},{"$f":"IF(ISBLANK(INDEX('App Questionnaire'!$6:$6,1,2*(ROW(A259)-1)+COLUMN(AppHeaderCell) + 1)), \"\", (INDEX('App Questionnaire'!$6:$6,1,2*(ROW(A259)-1)+COLUMN(AppHeaderCell) + 1)))","v":""},"",{"$f":"IF(ISBLANK(INDEX('Server Questionnaire'!$6:$6,1,6*(ROW(A259)-1)+COLUMN(ServerHeaderCell) + 1)), \"\", (INDEX('Server Questionnaire'!$6:$6,1,6*(ROW(A259)-1)+COLUMN(ServerHeaderCell) + 1)))","v":""}]
[{"$f":"IF(ISBLANK(INDEX('App Questionnaire'!$10:$10,1,2*(ROW(A260)-1)+COLUMN(AppHeaderCell) + 1)), \"\", (INDEX('App Questionnaire'!$10:$10,1,2*(ROW(A260)-1)+COLUMN(AppHeaderCell) + 1)))","v":""},{"$f":"IF(ISBLANK(INDEX('App Questionnaire'!$6:$6,1,2*(ROW(A260)-1)+COLUMN(AppHeaderCell) + 1)), \"\", (INDEX('App Questionnaire'!$6:$6,1,2*(ROW(A260)-1)+COLUMN(AppHeaderCell) + 1)))","v":""},"",{"$f":"IF(ISBLANK(INDEX('Server Questionnaire'!$6:$6,1,6*(ROW(A260)-1)+COLUMN(ServerHeaderCell) + 1)), \"\", (INDEX('Server Questionnaire'!$6:$6,1,6*(ROW(A260)-1)+COLUMN(ServerHeaderCell) + 1)))","v":""}]
[{"$f":"IF(ISBLANK(INDEX('App Questionnaire'!$10:$10,1,2*(ROW(A261)-1)+COLUMN(AppHeaderCell) + 1)), \"\", (INDEX('App Questionnaire'!$10:$10,1,2*(ROW(A261)-1)+COLUMN(AppHeaderCell) + 1)))","v":""},{"$f":"IF(ISBLANK(INDEX('App Questionnaire'!$6:$6,1,2*(ROW(A261)-1)+COLUMN(AppHeaderCell) + 1)), \"\", (INDEX('App Questionnaire'!$6:$6,1,2*(ROW(A261)-1)+COLUMN(AppHeaderCell) + 1)))","v":""},"",{"$f":"IF(ISBLANK(INDEX('Server Questionnaire'!$6:$6,1,6*(ROW(A261)-1)+COLUMN(ServerHeaderCell) + 1)), \"\", (INDEX('Server Questionnaire'!$6:$6,1,6*(ROW(A261)-1)+COLUMN(ServerHeaderCell) + 1)))","v":""}]
[{"$f":"IF(ISBLANK(INDEX('App Questionnaire'!$10:$10,1,2*(ROW(A262)-1)+COLUMN(AppHeaderCell) + 1)), \"\", (INDEX('App Questionnaire'!$10:$10,1,2*(ROW(A262)-1)+COLUMN(AppHeaderCell) + 1)))","v":""},{"$f":"IF(ISBLANK(INDEX('App Questionnaire'!$6:$6,1,2*(ROW(A262)-1)+COLUMN(AppHeaderCell) + 1)), \"\", (INDEX('App Questionnaire'!$6:$6,1,2*(ROW(A262)-1)+COLUMN(AppHeaderCell) + 1)))","v":""},"",{"$f":"IF(ISBLANK(INDEX('Server Questionnaire'!$6:$6,1,6*(ROW(A262)-1)+COLUMN(ServerHeaderCell) + 1)), \"\", (INDEX('Server Questionnaire'!$6:$6,1,6*(ROW(A262)-1)+COLUMN(ServerHeaderCell) + 1)))","v":""}]
[{"$f":"IF(ISBLANK(INDEX('App Questionnaire'!$10:$10,1,2*(ROW(A263)-1)+COLUMN(AppHeaderCell) + 1)), \"\", (INDEX('App Questionnaire'!$10:$10,1,2*(ROW(A263)-1)+COLUMN(AppHeaderCell) + 1)))","v":""},{"$f":"IF(ISBLANK(INDEX('App Questionnaire'!$6:$6,1,2*(ROW(A263)-1)+COLUMN(AppHeaderCell) + 1)), \"\", (INDEX('App Questionnaire'!$6:$6,1,2*(ROW(A263)-1)+COLUMN(AppHeaderCell) + 1)))","v":""},"",{"$f":"IF(ISBLANK(INDEX('Server Questionnaire'!$6:$6,1,6*(ROW(A263)-1)+COLUMN(ServerHeaderCell) + 1)), \"\", (INDEX('Server Questionnaire'!$6:$6,1,6*(ROW(A263)-1)+COLUMN(ServerHeaderCell) + 1)))","v":""}]
[{"$f":"IF(ISBLANK(INDEX('App Questionnaire'!$10:$10,1,2*(ROW(A264)-1)+COLUMN(AppHeaderCell) + 1)), \"\", (INDEX('App Questionnaire'!$10:$10,1,2*(ROW(A264)-1)+COLUMN(AppHeaderCell) + 1)))","v":""},{"$f":"IF(ISBLANK(INDEX('App Questionnaire'!$6:$6,1,2*(ROW(A264)-1)+COLUMN(AppHeaderCell) + 1)), \"\", (INDEX('App Questionnaire'!$6:$6,1,2*(ROW(A264)-1)+COLUMN(AppHeaderCell) + 1)))","v":""},"",{"$f":"IF(ISBLANK(INDEX('Server Questionnaire'!$6:$6,1,6*(ROW(A264)-1)+COLUMN(ServerHeaderCell) + 1)), \"\", (INDEX('Server Questionnaire'!$6:$6,1,6*(ROW(A264)-1)+COLUMN(ServerHeaderCell) + 1)))","v":""}]
[{"$f":"IF(ISBLANK(INDEX('App Questionnaire'!$10:$10,1,2*(ROW(A265)-1)+COLUMN(AppHeaderCell) + 1)), \"\", (INDEX('App Questionnaire'!$10:$10,1,2*(ROW(A265)-1)+COLUMN(AppHeaderCell) + 1)))","v":""},{"$f":"IF(ISBLANK(INDEX('App Questionnaire'!$6:$6,1,2*(ROW(A265)-1)+COLUMN(AppHeaderCell) + 1)), \"\", (INDEX('App Questionnaire'!$6:$6,1,2*(ROW(A265)-1)+COLUMN(AppHeaderCell) + 1)))","v":""},"",{"$f":"IF(ISBLANK(INDEX('Server Questionnaire'!$6:$6,1,6*(ROW(A265)-1)+COLUMN(ServerHeaderCell) + 1)), \"\", (INDEX('Server Questionnaire'!$6:$6,1,6*(ROW(A265)-1)+COLUMN(ServerHeaderCell) + 1)))","v":""}]
[{"$f":"IF(ISBLANK(INDEX('App Questionnaire'!$10:$10,1,2*(ROW(A266)-1)+COLUMN(AppHeaderCell) + 1)), \"\", (INDEX('App Questionnaire'!$10:$10,1,2*(ROW(A266)-1)+COLUMN(AppHeaderCell) + 1)))","v":""},{"$f":"IF(ISBLANK(INDEX('App Questionnaire'!$6:$6,1,2*(ROW(A266)-1)+COLUMN(AppHeaderCell) + 1)), \"\", (INDEX('App Questionnaire'!$6:$6,1,2*(ROW(A266)-1)+COLUMN(AppHeaderCell) + 1)))","v":""},{"$f":" IF(B260 = \"\", \"\", B260 & \" - \" & A260)","v":""},{"$f":"IF(ISBLANK(INDEX('Server Questionnaire'!$6:$6,1,6*(ROW(A266)-1)+COLUMN(ServerHeaderCell) + 1)), \"\", (INDEX('Server Questionnaire'!$6:$6,1,6*(ROW(A266)-1)+COLUMN(ServerHeaderCell) + 1)))","v":""}]
[{"$f":"IF(ISBLANK(INDEX('App Questionnaire'!$10:$10,1,2*(ROW(A267)-1)+COLUMN(AppHeaderCell) + 1)), \"\", (INDEX('App Questionnaire'!$10:$10,1,2*(ROW(A267)-1)+COLUMN(AppHeaderCell) + 1)))","v":""},{"$f":"IF(ISBLANK(INDEX('App Questionnaire'!$6:$6,1,2*(ROW(A267)-1)+COLUMN(AppHeaderCell) + 1)), \"\", (INDEX('App Questionnaire'!$6:$6,1,2*(ROW(A267)-1)+COLUMN(AppHeaderCell) + 1)))","v":""},"",{"$f":"IF(ISBLANK(INDEX('Server Questionnaire'!$6:$6,1,6*(ROW(A267)-1)+COLUMN(ServerHeaderCell) + 1)), \"\", (INDEX('Server Questionnaire'!$6:$6,1,6*(ROW(A267)-1)+COLUMN(ServerHeaderCell) + 1)))","v":""}]
[{"$f":"IF(ISBLANK(INDEX('App Questionnaire'!$10:$10,1,2*(ROW(A268)-1)+COLUMN(AppHeaderCell) + 1)), \"\", (INDEX('App Questionnaire'!$10:$10,1,2*(ROW(A268)-1)+COLUMN(AppHeaderCell) + 1)))","v":""},{"$f":"IF(ISBLANK(INDEX('App Questionnaire'!$6:$6,1,2*(ROW(A268)-1)+COLUMN(AppHeaderCell) + 1)), \"\", (INDEX('App Questionnaire'!$6:$6,1,2*(ROW(A268)-1)+COLUMN(AppHeaderCell) + 1)))","v":""},"",{"$f":"IF(ISBLANK(INDEX('Server Questionnaire'!$6:$6,1,6*(ROW(A268)-1)+COLUMN(ServerHeaderCell) + 1)), \"\", (INDEX('Server Questionnaire'!$6:$6,1,6*(ROW(A268)-1)+COLUMN(ServerHeaderCell) + 1)))","v":""}]
[{"$f":"IF(ISBLANK(INDEX('App Questionnaire'!$10:$10,1,2*(ROW(A269)-1)+COLUMN(AppHeaderCell) + 1)), \"\", (INDEX('App Questionnaire'!$10:$10,1,2*(ROW(A269)-1)+COLUMN(AppHeaderCell) + 1)))","v":""},{"$f":"IF(ISBLANK(INDEX('App Questionnaire'!$6:$6,1,2*(ROW(A269)-1)+COLUMN(AppHeaderCell) + 1)), \"\", (INDEX('App Questionnaire'!$6:$6,1,2*(ROW(A269)-1)+COLUMN(AppHeaderCell) + 1)))","v":""},"",{"$f":"IF(ISBLANK(INDEX('Server Questionnaire'!$6:$6,1,6*(ROW(A269)-1)+COLUMN(ServerHeaderCell) + 1)), \"\", (INDEX('Server Questionnaire'!$6:$6,1,6*(ROW(A269)-1)+COLUMN(ServerHeaderCell) + 1)))","v":""}]
[{"$f":"IF(ISBLANK(INDEX('App Questionnaire'!$10:$10,1,2*(ROW(A270)-1)+COLUMN(AppHeaderCell) + 1)), \"\", (INDEX('App Questionnaire'!$10:$10,1,2*(ROW(A270)-1)+COLUMN(AppHeaderCell) + 1)))","v":""},{"$f":"IF(ISBLANK(INDEX('App Questionnaire'!$6:$6,1,2*(ROW(A270)-1)+COLUMN(AppHeaderCell) + 1)), \"\", (INDEX('App Questionnaire'!$6:$6,1,2*(ROW(A270)-1)+COLUMN(AppHeaderCell) + 1)))","v":""},"",{"$f":"IF(ISBLANK(INDEX('Server Questionnaire'!$6:$6,1,6*(ROW(A270)-1)+COLUMN(ServerHeaderCell) + 1)), \"\", (INDEX('Server Questionnaire'!$6:$6,1,6*(ROW(A270)-1)+COLUMN(ServerHeaderCell) + 1)))","v":""}]
[{"$f":"IF(ISBLANK(INDEX('App Questionnaire'!$10:$10,1,2*(ROW(A271)-1)+COLUMN(AppHeaderCell) + 1)), \"\", (INDEX('App Questionnaire'!$10:$10,1,2*(ROW(A271)-1)+COLUMN(AppHeaderCell) + 1)))","v":""},{"$f":"IF(ISBLANK(INDEX('App Questionnaire'!$6:$6,1,2*(ROW(A271)-1)+COLUMN(AppHeaderCell) + 1)), \"\", (INDEX('App Questionnaire'!$6:$6,1,2*(ROW(A271)-1)+COLUMN(AppHeaderCell) + 1)))","v":""},"",{"$f":"IF(ISBLANK(INDEX('Server Questionnaire'!$6:$6,1,6*(ROW(A271)-1)+COLUMN(ServerHeaderCell) + 1)), \"\", (INDEX('Server Questionnaire'!$6:$6,1,6*(ROW(A271)-1)+COLUMN(ServerHeaderCell) + 1)))","v":""}]
[{"$f":"IF(ISBLANK(INDEX('App Questionnaire'!$10:$10,1,2*(ROW(A272)-1)+COLUMN(AppHeaderCell) + 1)), \"\", (INDEX('App Questionnaire'!$10:$10,1,2*(ROW(A272)-1)+COLUMN(AppHeaderCell) + 1)))","v":""},{"$f":"IF(ISBLANK(INDEX('App Questionnaire'!$6:$6,1,2*(ROW(A272)-1)+COLUMN(AppHeaderCell) + 1)), \"\", (INDEX('App Questionnaire'!$6:$6,1,2*(ROW(A272)-1)+COLUMN(AppHeaderCell) + 1)))","v":""},"",{"$f":"IF(ISBLANK(INDEX('Server Questionnaire'!$6:$6,1,6*(ROW(A272)-1)+COLUMN(ServerHeaderCell) + 1)), \"\", (INDEX('Server Questionnaire'!$6:$6,1,6*(ROW(A272)-1)+COLUMN(ServerHeaderCell) + 1)))","v":""}]
[{"$f":"IF(ISBLANK(INDEX('App Questionnaire'!$10:$10,1,2*(ROW(A273)-1)+COLUMN(AppHeaderCell) + 1)), \"\", (INDEX('App Questionnaire'!$10:$10,1,2*(ROW(A273)-1)+COLUMN(AppHeaderCell) + 1)))","v":""},{"$f":"IF(ISBLANK(INDEX('App Questionnaire'!$6:$6,1,2*(ROW(A273)-1)+COLUMN(AppHeaderCell) + 1)), \"\", (INDEX('App Questionnaire'!$6:$6,1,2*(ROW(A273)-1)+COLUMN(AppHeaderCell) + 1)))","v":""},{"$f":" IF(B273 = \"\", \"\", B273 & \" - \" & A273)","v":""},{"$f":"IF(ISBLANK(INDEX('Server Questionnaire'!$6:$6,1,6*(ROW(A273)-1)+COLUMN(ServerHeaderCell) + 1)), \"\", (INDEX('Server Questionnaire'!$6:$6,1,6*(ROW(A273)-1)+COLUMN(ServerHeaderCell) + 1)))","v":""}]
[{"$f":"IF(ISBLANK(INDEX('App Questionnaire'!$10:$10,1,2*(ROW(A274)-1)+COLUMN(AppHeaderCell) + 1)), \"\", (INDEX('App Questionnaire'!$10:$10,1,2*(ROW(A274)-1)+COLUMN(AppHeaderCell) + 1)))","v":""},{"$f":"IF(ISBLANK(INDEX('App Questionnaire'!$6:$6,1,2*(ROW(A274)-1)+COLUMN(AppHeaderCell) + 1)), \"\", (INDEX('App Questionnaire'!$6:$6,1,2*(ROW(A274)-1)+COLUMN(AppHeaderCell) + 1)))","v":""},"",{"$f":"IF(ISBLANK(INDEX('Server Questionnaire'!$6:$6,1,6*(ROW(A274)-1)+COLUMN(ServerHeaderCell) + 1)), \"\", (INDEX('Server Questionnaire'!$6:$6,1,6*(ROW(A274)-1)+COLUMN(ServerHeaderCell) + 1)))","v":""}]
[{"$f":"IF(ISBLANK(INDEX('App Questionnaire'!$10:$10,1,2*(ROW(A275)-1)+COLUMN(AppHeaderCell) + 1)), \"\", (INDEX('App Questionnaire'!$10:$10,1,2*(ROW(A275)-1)+COLUMN(AppHeaderCell) + 1)))","v":""},{"$f":"IF(ISBLANK(INDEX('App Questionnaire'!$6:$6,1,2*(ROW(A275)-1)+COLUMN(AppHeaderCell) + 1)), \"\", (INDEX('App Questionnaire'!$6:$6,1,2*(ROW(A275)-1)+COLUMN(AppHeaderCell) + 1)))","v":""},"",{"$f":"IF(ISBLANK(INDEX('Server Questionnaire'!$6:$6,1,6*(ROW(A275)-1)+COLUMN(ServerHeaderCell) + 1)), \"\", (INDEX('Server Questionnaire'!$6:$6,1,6*(ROW(A275)-1)+COLUMN(ServerHeaderCell) + 1)))","v":""}]
[{"$f":"IF(ISBLANK(INDEX('App Questionnaire'!$10:$10,1,2*(ROW(A276)-1)+COLUMN(AppHeaderCell) + 1)), \"\", (INDEX('App Questionnaire'!$10:$10,1,2*(ROW(A276)-1)+COLUMN(AppHeaderCell) + 1)))","v":""},{"$f":"IF(ISBLANK(INDEX('App Questionnaire'!$6:$6,1,2*(ROW(A276)-1)+COLUMN(AppHeaderCell) + 1)), \"\", (INDEX('App Questionnaire'!$6:$6,1,2*(ROW(A276)-1)+COLUMN(AppHeaderCell) + 1)))","v":""},"",{"$f":"IF(ISBLANK(INDEX('Server Questionnaire'!$6:$6,1,6*(ROW(A276)-1)+COLUMN(ServerHeaderCell) + 1)), \"\", (INDEX('Server Questionnaire'!$6:$6,1,6*(ROW(A276)-1)+COLUMN(ServerHeaderCell) + 1)))","v":""}]
[{"$f":"IF(ISBLANK(INDEX('App Questionnaire'!$10:$10,1,2*(ROW(A277)-1)+COLUMN(AppHeaderCell) + 1)), \"\", (INDEX('App Questionnaire'!$10:$10,1,2*(ROW(A277)-1)+COLUMN(AppHeaderCell) + 1)))","v":""},{"$f":"IF(ISBLANK(INDEX('App Questionnaire'!$6:$6,1,2*(ROW(A277)-1)+COLUMN(AppHeaderCell) + 1)), \"\", (INDEX('App Questionnaire'!$6:$6,1,2*(ROW(A277)-1)+COLUMN(AppHeaderCell) + 1)))","v":""},"",{"$f":"IF(ISBLANK(INDEX('Server Questionnaire'!$6:$6,1,6*(ROW(A277)-1)+COLUMN(ServerHeaderCell) + 1)), \"\", (INDEX('Server Questionnaire'!$6:$6,1,6*(ROW(A277)-1)+COLUMN(ServerHeaderCell) + 1)))","v":""}]
[{"$f":"IF(ISBLANK(INDEX('App Questionnaire'!$10:$10,1,2*(ROW(A278)-1)+COLUMN(AppHeaderCell) + 1)), \"\", (INDEX('App Questionnaire'!$10:$10,1,2*(ROW(A278)-1)+COLUMN(AppHeaderCell) + 1)))","v":""},{"$f":"IF(ISBLANK(INDEX('App Questionnaire'!$6:$6,1,2*(ROW(A278)-1)+COLUMN(AppHeaderCell) + 1)), \"\", (INDEX('App Questionnaire'!$6:$6,1,2*(ROW(A278)-1)+COLUMN(AppHeaderCell) + 1)))","v":""},"",{"$f":"IF(ISBLANK(INDEX('Server Questionnaire'!$6:$6,1,6*(ROW(A278)-1)+COLUMN(ServerHeaderCell) + 1)), \"\", (INDEX('Server Questionnaire'!$6:$6,1,6*(ROW(A278)-1)+COLUMN(ServerHeaderCell) + 1)))","v":""}]
[{"$f":"IF(ISBLANK(INDEX('App Questionnaire'!$10:$10,1,2*(ROW(A279)-1)+COLUMN(AppHeaderCell) + 1)), \"\", (INDEX('App Questionnaire'!$10:$10,1,2*(ROW(A279)-1)+COLUMN(AppHeaderCell) + 1)))","v":""},{"$f":"IF(ISBLANK(INDEX('App Questionnaire'!$6:$6,1,2*(ROW(A279)-1)+COLUMN(AppHeaderCell) + 1)), \"\", (INDEX('App Questionnaire'!$6:$6,1,2*(ROW(A279)-1)+COLUMN(AppHeaderCell) + 1)))","v":""},"",{"$f":"IF(ISBLANK(INDEX('Server Questionnaire'!$6:$6,1,6*(ROW(A279)-1)+COLUMN(ServerHeaderCell) + 1)), \"\", (INDEX('Server Questionnaire'!$6:$6,1,6*(ROW(A279)-1)+COLUMN(ServerHeaderCell) + 1)))","v":""}]
[{"$f":"IF(ISBLANK(INDEX('App Questionnaire'!$10:$10,1,2*(ROW(A280)-1)+COLUMN(AppHeaderCell) + 1)), \"\", (INDEX('App Questionnaire'!$10:$10,1,2*(ROW(A280)-1)+COLUMN(AppHeaderCell) + 1)))","v":""},{"$f":"IF(ISBLANK(INDEX('App Questionnaire'!$6:$6,1,2*(ROW(A280)-1)+COLUMN(AppHeaderCell) + 1)), \"\", (INDEX('App Questionnaire'!$6:$6,1,2*(ROW(A280)-1)+COLUMN(AppHeaderCell) + 1)))","v":""},"",{"$f":"IF(ISBLANK(INDEX('Server Questionnaire'!$6:$6,1,6*(ROW(A280)-1)+COLUMN(ServerHeaderCell) + 1)), \"\", (INDEX('Server Questionnaire'!$6:$6,1,6*(ROW(A280)-1)+COLUMN(ServerHeaderCell) + 1)))","v":""}]
[{"$f":"IF(ISBLANK(INDEX('App Questionnaire'!$10:$10,1,2*(ROW(A281)-1)+COLUMN(AppHeaderCell) + 1)), \"\", (INDEX('App Questionnaire'!$10:$10,1,2*(ROW(A281)-1)+COLUMN(AppHeaderCell) + 1)))","v":""},{"$f":"IF(ISBLANK(INDEX('App Questionnaire'!$6:$6,1,2*(ROW(A281)-1)+COLUMN(AppHeaderCell) + 1)), \"\", (INDEX('App Questionnaire'!$6:$6,1,2*(ROW(A281)-1)+COLUMN(AppHeaderCell) + 1)))","v":""},"",{"$f":"IF(ISBLANK(INDEX('Server Questionnaire'!$6:$6,1,6*(ROW(A281)-1)+COLUMN(ServerHeaderCell) + 1)), \"\", (INDEX('Server Questionnaire'!$6:$6,1,6*(ROW(A281)-1)+COLUMN(ServerHeaderCell) + 1)))","v":""}]
[{"$f":"IF(ISBLANK(INDEX('App Questionnaire'!$10:$10,1,2*(ROW(A282)-1)+COLUMN(AppHeaderCell) + 1)), \"\", (INDEX('App Questionnaire'!$10:$10,1,2*(ROW(A282)-1)+COLUMN(AppHeaderCell) + 1)))","v":""},{"$f":"IF(ISBLANK(INDEX('App Questionnaire'!$6:$6,1,2*(ROW(A282)-1)+COLUMN(AppHeaderCell) + 1)), \"\", (INDEX('App Questionnaire'!$6:$6,1,2*(ROW(A282)-1)+COLUMN(AppHeaderCell) + 1)))","v":""},"",{"$f":"IF(ISBLANK(INDEX('Server Questionnaire'!$6:$6,1,6*(ROW(A282)-1)+COLUMN(ServerHeaderCell) + 1)), \"\", (INDEX('Server Questionnaire'!$6:$6,1,6*(ROW(A282)-1)+COLUMN(ServerHeaderCell) + 1)))","v":""}]
[{"$f":"IF(ISBLANK(INDEX('App Questionnaire'!$10:$10,1,2*(ROW(A283)-1)+COLUMN(AppHeaderCell) + 1)), \"\", (INDEX('App Questionnaire'!$10:$10,1,2*(ROW(A283)-1)+COLUMN(AppHeaderCell) + 1)))","v":""},{"$f":"IF(ISBLANK(INDEX('App Questionnaire'!$6:$6,1,2*(ROW(A283)-1)+COLUMN(AppHeaderCell) + 1)), \"\", (INDEX('App Questionnaire'!$6:$6,1,2*(ROW(A283)-1)+COLUMN(AppHeaderCell) + 1)))","v":""},"",{"$f":"IF(ISBLANK(INDEX('Server Questionnaire'!$6:$6,1,6*(ROW(A283)-1)+COLUMN(ServerHeaderCell) + 1)), \"\", (INDEX('Server Questionnaire'!$6:$6,1,6*(ROW(A283)-1)+COLUMN(ServerHeaderCell) + 1)))","v":""}]
[{"$f":"IF(ISBLANK(INDEX('App Questionnaire'!$10:$10,1,2*(ROW(A284)-1)+COLUMN(AppHeaderCell) + 1)), \"\", (INDEX('App Questionnaire'!$10:$10,1,2*(ROW(A284)-1)+COLUMN(AppHeaderCell) + 1)))","v":""},{"$f":"IF(ISBLANK(INDEX('App Questionnaire'!$6:$6,1,2*(ROW(A284)-1)+COLUMN(AppHeaderCell) + 1)), \"\", (INDEX('App Questionnaire'!$6:$6,1,2*(ROW(A284)-1)+COLUMN(AppHeaderCell) + 1)))","v":""},"",{"$f":"IF(ISBLANK(INDEX('Server Questionnaire'!$6:$6,1,6*(ROW(A284)-1)+COLUMN(ServerHeaderCell) + 1)), \"\", (INDEX('Server Questionnaire'!$6:$6,1,6*(ROW(A284)-1)+COLUMN(ServerHeaderCell) + 1)))","v":""}]
[{"$f":"IF(ISBLANK(INDEX('App Questionnaire'!$10:$10,1,2*(ROW(A285)-1)+COLUMN(AppHeaderCell) + 1)), \"\", (INDEX('App Questionnaire'!$10:$10,1,2*(ROW(A285)-1)+COLUMN(AppHeaderCell) + 1)))","v":""},{"$f":"IF(ISBLANK(INDEX('App Questionnaire'!$6:$6,1,2*(ROW(A285)-1)+COLUMN(AppHeaderCell) + 1)), \"\", (INDEX('App Questionnaire'!$6:$6,1,2*(ROW(A285)-1)+COLUMN(AppHeaderCell) + 1)))","v":""},"",{"$f":"IF(ISBLANK(INDEX('Server Questionnaire'!$6:$6,1,6*(ROW(A285)-1)+COLUMN(ServerHeaderCell) + 1)), \"\", (INDEX('Server Questionnaire'!$6:$6,1,6*(ROW(A285)-1)+COLUMN(ServerHeaderCell) + 1)))","v":""}]
[{"$f":"IF(ISBLANK(INDEX('App Questionnaire'!$10:$10,1,2*(ROW(A286)-1)+COLUMN(AppHeaderCell) + 1)), \"\", (INDEX('App Questionnaire'!$10:$10,1,2*(ROW(A286)-1)+COLUMN(AppHeaderCell) + 1)))","v":""},{"$f":"IF(ISBLANK(INDEX('App Questionnaire'!$6:$6,1,2*(ROW(A286)-1)+COLUMN(AppHeaderCell) + 1)), \"\", (INDEX('App Questionnaire'!$6:$6,1,2*(ROW(A286)-1)+COLUMN(AppHeaderCell) + 1)))","v":""},"",{"$f":"IF(ISBLANK(INDEX('Server Questionnaire'!$6:$6,1,6*(ROW(A286)-1)+COLUMN(ServerHeaderCell) + 1)), \"\", (INDEX('Server Questionnaire'!$6:$6,1,6*(ROW(A286)-1)+COLUMN(ServerHeaderCell) + 1)))","v":""}]
[{"$f":"IF(ISBLANK(INDEX('App Questionnaire'!$10:$10,1,2*(ROW(A287)-1)+COLUMN(AppHeaderCell) + 1)), \"\", (INDEX('App Questionnaire'!$10:$10,1,2*(ROW(A287)-1)+COLUMN(AppHeaderCell) + 1)))","v":""},{"$f":"IF(ISBLANK(INDEX('App Questionnaire'!$6:$6,1,2*(ROW(A287)-1)+COLUMN(AppHeaderCell) + 1)), \"\", (INDEX('App Questionnaire'!$6:$6,1,2*(ROW(A287)-1)+COLUMN(AppHeaderCell) + 1)))","v":""},"",{"$f":"IF(ISBLANK(INDEX('Server Questionnaire'!$6:$6,1,6*(ROW(A287)-1)+COLUMN(ServerHeaderCell) + 1)), \"\", (INDEX('Server Questionnaire'!$6:$6,1,6*(ROW(A287)-1)+COLUMN(ServerHeaderCell) + 1)))","v":""}]
[{"$f":"IF(ISBLANK(INDEX('App Questionnaire'!$10:$10,1,2*(ROW(A288)-1)+COLUMN(AppHeaderCell) + 1)), \"\", (INDEX('App Questionnaire'!$10:$10,1,2*(ROW(A288)-1)+COLUMN(AppHeaderCell) + 1)))","v":""},{"$f":"IF(ISBLANK(INDEX('App Questionnaire'!$6:$6,1,2*(ROW(A288)-1)+COLUMN(AppHeaderCell) + 1)), \"\", (INDEX('App Questionnaire'!$6:$6,1,2*(ROW(A288)-1)+COLUMN(AppHeaderCell) + 1)))","v":""},"",{"$f":"IF(ISBLANK(INDEX('Server Questionnaire'!$6:$6,1,6*(ROW(A288)-1)+COLUMN(ServerHeaderCell) + 1)), \"\", (INDEX('Server Questionnaire'!$6:$6,1,6*(ROW(A288)-1)+COLUMN(ServerHeaderCell) + 1)))","v":""}]
[{"$f":"IF(ISBLANK(INDEX('App Questionnaire'!$10:$10,1,2*(ROW(A289)-1)+COLUMN(AppHeaderCell) + 1)), \"\", (INDEX('App Questionnaire'!$10:$10,1,2*(ROW(A289)-1)+COLUMN(AppHeaderCell) + 1)))","v":""},{"$f":"IF(ISBLANK(INDEX('App Questionnaire'!$6:$6,1,2*(ROW(A289)-1)+COLUMN(AppHeaderCell) + 1)), \"\", (INDEX('App Questionnaire'!$6:$6,1,2*(ROW(A289)-1)+COLUMN(AppHeaderCell) + 1)))","v":""},"",{"$f":"IF(ISBLANK(INDEX('Server Questionnaire'!$6:$6,1,6*(ROW(A289)-1)+COLUMN(ServerHeaderCell) + 1)), \"\", (INDEX('Server Questionnaire'!$6:$6,1,6*(ROW(A289)-1)+COLUMN(ServerHeaderCell) + 1)))","v":""}]
[{"$f":"IF(ISBLANK(INDEX('App Questionnaire'!$10:$10,1,2*(ROW(A290)-1)+COLUMN(AppHeaderCell) + 1)), \"\", (INDEX('App Questionnaire'!$10:$10,1,2*(ROW(A290)-1)+COLUMN(AppHeaderCell) + 1)))","v":""},{"$f":"IF(ISBLANK(INDEX('App Questionnaire'!$6:$6,1,2*(ROW(A290)-1)+COLUMN(AppHeaderCell) + 1)), \"\", (INDEX('App Questionnaire'!$6:$6,1,2*(ROW(A290)-1)+COLUMN(AppHeaderCell) + 1)))","v":""},"",{"$f":"IF(ISBLANK(INDEX('Server Questionnaire'!$6:$6,1,6*(ROW(A290)-1)+COLUMN(ServerHeaderCell) + 1)), \"\", (INDEX('Server Questionnaire'!$6:$6,1,6*(ROW(A290)-1)+COLUMN(ServerHeaderCell) + 1)))","v":""}]
[{"$f":"IF(ISBLANK(INDEX('App Questionnaire'!$10:$10,1,2*(ROW(A291)-1)+COLUMN(AppHeaderCell) + 1)), \"\", (INDEX('App Questionnaire'!$10:$10,1,2*(ROW(A291)-1)+COLUMN(AppHeaderCell) + 1)))","v":""},{"$f":"IF(ISBLANK(INDEX('App Questionnaire'!$6:$6,1,2*(ROW(A291)-1)+COLUMN(AppHeaderCell) + 1)), \"\", (INDEX('App Questionnaire'!$6:$6,1,2*(ROW(A291)-1)+COLUMN(AppHeaderCell) + 1)))","v":""},"",{"$f":"IF(ISBLANK(INDEX('Server Questionnaire'!$6:$6,1,6*(ROW(A291)-1)+COLUMN(ServerHeaderCell) + 1)), \"\", (INDEX('Server Questionnaire'!$6:$6,1,6*(ROW(A291)-1)+COLUMN(ServerHeaderCell) + 1)))","v":""}]
[{"$f":"IF(ISBLANK(INDEX('App Questionnaire'!$10:$10,1,2*(ROW(A292)-1)+COLUMN(AppHeaderCell) + 1)), \"\", (INDEX('App Questionnaire'!$10:$10,1,2*(ROW(A292)-1)+COLUMN(AppHeaderCell) + 1)))","v":""},{"$f":"IF(ISBLANK(INDEX('App Questionnaire'!$6:$6,1,2*(ROW(A292)-1)+COLUMN(AppHeaderCell) + 1)), \"\", (INDEX('App Questionnaire'!$6:$6,1,2*(ROW(A292)-1)+COLUMN(AppHeaderCell) + 1)))","v":""},"",{"$f":"IF(ISBLANK(INDEX('Server Questionnaire'!$6:$6,1,6*(ROW(A292)-1)+COLUMN(ServerHeaderCell) + 1)), \"\", (INDEX('Server Questionnaire'!$6:$6,1,6*(ROW(A292)-1)+COLUMN(ServerHeaderCell) + 1)))","v":""}]
[{"$f":"IF(ISBLANK(INDEX('App Questionnaire'!$10:$10,1,2*(ROW(A293)-1)+COLUMN(AppHeaderCell) + 1)), \"\", (INDEX('App Questionnaire'!$10:$10,1,2*(ROW(A293)-1)+COLUMN(AppHeaderCell) + 1)))","v":""},{"$f":"IF(ISBLANK(INDEX('App Questionnaire'!$6:$6,1,2*(ROW(A293)-1)+COLUMN(AppHeaderCell) + 1)), \"\", (INDEX('App Questionnaire'!$6:$6,1,2*(ROW(A293)-1)+COLUMN(AppHeaderCell) + 1)))","v":""},"",{"$f":"IF(ISBLANK(INDEX('Server Questionnaire'!$6:$6,1,6*(ROW(A293)-1)+COLUMN(ServerHeaderCell) + 1)), \"\", (INDEX('Server Questionnaire'!$6:$6,1,6*(ROW(A293)-1)+COLUMN(ServerHeaderCell) + 1)))","v":""}]
[{"$f":"IF(ISBLANK(INDEX('App Questionnaire'!$10:$10,1,2*(ROW(A294)-1)+COLUMN(AppHeaderCell) + 1)), \"\", (INDEX('App Questionnaire'!$10:$10,1,2*(ROW(A294)-1)+COLUMN(AppHeaderCell) + 1)))","v":""},{"$f":"IF(ISBLANK(INDEX('App Questionnaire'!$6:$6,1,2*(ROW(A294)-1)+COLUMN(AppHeaderCell) + 1)), \"\", (INDEX('App Questionnaire'!$6:$6,1,2*(ROW(A294)-1)+COLUMN(AppHeaderCell) + 1)))","v":""},"",{"$f":"IF(ISBLANK(INDEX('Server Questionnaire'!$6:$6,1,6*(ROW(A294)-1)+COLUMN(ServerHeaderCell) + 1)), \"\", (INDEX('Server Questionnaire'!$6:$6,1,6*(ROW(A294)-1)+COLUMN(ServerHeaderCell) + 1)))","v":""}]
[{"$f":"IF(ISBLANK(INDEX('App Questionnaire'!$10:$10,1,2*(ROW(A295)-1)+COLUMN(AppHeaderCell) + 1)), \"\", (INDEX('App Questionnaire'!$10:$10,1,2*(ROW(A295)-1)+COLUMN(AppHeaderCell) + 1)))","v":""},{"$f":"IF(ISBLANK(INDEX('App Questionnaire'!$6:$6,1,2*(ROW(A295)-1)+COLUMN(AppHeaderCell) + 1)), \"\", (INDEX('App Questionnaire'!$6:$6,1,2*(ROW(A295)-1)+COLUMN(AppHeaderCell) + 1)))","v":""},"",{"$f":"IF(ISBLANK(INDEX('Server Questionnaire'!$6:$6,1,6*(ROW(A295)-1)+COLUMN(ServerHeaderCell) + 1)), \"\", (INDEX('Server Questionnaire'!$6:$6,1,6*(ROW(A295)-1)+COLUMN(ServerHeaderCell) + 1)))","v":""}]
[{"$f":"IF(ISBLANK(INDEX('App Questionnaire'!$10:$10,1,2*(ROW(A296)-1)+COLUMN(AppHeaderCell) + 1)), \"\", (INDEX('App Questionnaire'!$10:$10,1,2*(ROW(A296)-1)+COLUMN(AppHeaderCell) + 1)))","v":""},{"$f":"IF(ISBLANK(INDEX('App Questionnaire'!$6:$6,1,2*(ROW(A296)-1)+COLUMN(AppHeaderCell) + 1)), \"\", (INDEX('App Questionnaire'!$6:$6,1,2*(ROW(A296)-1)+COLUMN(AppHeaderCell) + 1)))","v":""},"",{"$f":"IF(ISBLANK(INDEX('Server Questionnaire'!$6:$6,1,6*(ROW(A296)-1)+COLUMN(ServerHeaderCell) + 1)), \"\", (INDEX('Server Questionnaire'!$6:$6,1,6*(ROW(A296)-1)+COLUMN(ServerHeaderCell) + 1)))","v":""}]
[{"$f":"IF(ISBLANK(INDEX('App Questionnaire'!$10:$10,1,2*(ROW(A297)-1)+COLUMN(AppHeaderCell) + 1)), \"\", (INDEX('App Questionnaire'!$10:$10,1,2*(ROW(A297)-1)+COLUMN(AppHeaderCell) + 1)))","v":""},{"$f":"IF(ISBLANK(INDEX('App Questionnaire'!$6:$6,1,2*(ROW(A297)-1)+COLUMN(AppHeaderCell) + 1)), \"\", (INDEX('App Questionnaire'!$6:$6,1,2*(ROW(A297)-1)+COLUMN(AppHeaderCell) + 1)))","v":""},"",{"$f":"IF(ISBLANK(INDEX('Server Questionnaire'!$6:$6,1,6*(ROW(A297)-1)+COLUMN(ServerHeaderCell) + 1)), \"\", (INDEX('Server Questionnaire'!$6:$6,1,6*(ROW(A297)-1)+COLUMN(ServerHeaderCell) + 1)))","v":""}]
[{"$f":"IF(ISBLANK(INDEX('App Questionnaire'!$10:$10,1,2*(ROW(A298)-1)+COLUMN(AppHeaderCell) + 1)), \"\", (INDEX('App Questionnaire'!$10:$10,1,2*(ROW(A298)-1)+COLUMN(AppHeaderCell) + 1)))","v":""},{"$f":"IF(ISBLANK(INDEX('App Questionnaire'!$6:$6,1,2*(ROW(A298)-1)+COLUMN(AppHeaderCell) + 1)), \"\", (INDEX('App Questionnaire'!$6:$6,1,2*(ROW(A298)-1)+COLUMN(AppHeaderCell) + 1)))","v":""},"",{"$f":"IF(ISBLANK(INDEX('Server Questionnaire'!$6:$6,1,6*(ROW(A298)-1)+COLUMN(ServerHeaderCell) + 1)), \"\", (INDEX('Server Questionnaire'!$6:$6,1,6*(ROW(A298)-1)+COLUMN(ServerHeaderCell) + 1)))","v":""}]
[{"$f":"IF(ISBLANK(INDEX('App Questionnaire'!$10:$10,1,2*(ROW(A299)-1)+COLUMN(AppHeaderCell) + 1)), \"\", (INDEX('App Questionnaire'!$10:$10,1,2*(ROW(A299)-1)+COLUMN(AppHeaderCell) + 1)))","v":""},{"$f":"IF(ISBLANK(INDEX('App Questionnaire'!$6:$6,1,2*(ROW(A299)-1)+COLUMN(AppHeaderCell) + 1)), \"\", (INDEX('App Questionnaire'!$6:$6,1,2*(ROW(A299)-1)+COLUMN(AppHeaderCell) + 1)))","v":""},"",{"$f":"IF(ISBLANK(INDEX('Server Questionnaire'!$6:$6,1,6*(ROW(A299)-1)+COLUMN(ServerHeaderCell) + 1)), \"\", (INDEX('Server Questionnaire'!$6:$6,1,6*(ROW(A299)-1)+COLUMN(ServerHeaderCell) + 1)))","v":""}]
[{"$f":"IF(ISBLANK(INDEX('App Questionnaire'!$10:$10,1,2*(ROW(A300)-1)+COLUMN(AppHeaderCell) + 1)), \"\", (INDEX('App Questionnaire'!$10:$10,1,2*(ROW(A300)-1)+COLUMN(AppHeaderCell) + 1)))","v":""},{"$f":"IF(ISBLANK(INDEX('App Questionnaire'!$6:$6,1,2*(ROW(A300)-1)+COLUMN(AppHeaderCell) + 1)), \"\", (INDEX('App Questionnaire'!$6:$6,1,2*(ROW(A300)-1)+COLUMN(AppHeaderCell) + 1)))","v":""},"",{"$f":"IF(ISBLANK(INDEX('Server Questionnaire'!$6:$6,1,6*(ROW(A300)-1)+COLUMN(ServerHeaderCell) + 1)), \"\", (INDEX('Server Questionnaire'!$6:$6,1,6*(ROW(A300)-1)+COLUMN(ServerHeaderCell) + 1)))","v":""}]
[{"$f":"IF(ISBLANK(INDEX('App Questionnaire'!$10:$10,1,2*(ROW(A301)-1)+COLUMN(AppHeaderCell) + 1)), \"\", (INDEX('App Questionnaire'!$10:$10,1,2*(ROW(A301)-1)+COLUMN(AppHeaderCell) + 1)))","v":""},{"$f":"IF(ISBLANK(INDEX('App Questionnaire'!$6:$6,1,2*(ROW(A301)-1)+COLUMN(AppHeaderCell) + 1)), \"\", (INDEX('App Questionnaire'!$6:$6,1,2*(ROW(A301)-1)+COLUMN(AppHeaderCell) + 1)))","v":""},"",{"$f":"IF(ISBLANK(INDEX('Server Questionnaire'!$6:$6,1,6*(ROW(A301)-1)+COLUMN(ServerHeaderCell) + 1)), \"\", (INDEX('Server Questionnaire'!$6:$6,1,6*(ROW(A301)-1)+COLUMN(ServerHeaderCell) + 1)))","v":""}]
[{"$f":"IF(ISBLANK(INDEX('App Questionnaire'!$10:$10,1,2*(ROW(A302)-1)+COLUMN(AppHeaderCell) + 1)), \"\", (INDEX('App Questionnaire'!$10:$10,1,2*(ROW(A302)-1)+COLUMN(AppHeaderCell) + 1)))","v":""},{"$f":"IF(ISBLANK(INDEX('App Questionnaire'!$6:$6,1,2*(ROW(A302)-1)+COLUMN(AppHeaderCell) + 1)), \"\", (INDEX('App Questionnaire'!$6:$6,1,2*(ROW(A302)-1)+COLUMN(AppHeaderCell) + 1)))","v":""},"",{"$f":"IF(ISBLANK(INDEX('Server Questionnaire'!$6:$6,1,6*(ROW(A302)-1)+COLUMN(ServerHeaderCell) + 1)), \"\", (INDEX('Server Questionnaire'!$6:$6,1,6*(ROW(A302)-1)+COLUMN(ServerHeaderCell) + 1)))","v":""}]
[{"$f":"IF(ISBLANK(INDEX('App Questionnaire'!$10:$10,1,2*(ROW(A303)-1)+COLUMN(AppHeaderCell) + 1)), \"\", (INDEX('App Questionnaire'!$10:$10,1,2*(ROW(A303)-1)+COLUMN(AppHeaderCell) + 1)))","v":""},{"$f":"IF(ISBLANK(INDEX('App Questionnaire'!$6:$6,1,2*(ROW(A303)-1)+COLUMN(AppHeaderCell) + 1)), \"\", (INDEX('App Questionnaire'!$6:$6,1,2*(ROW(A303)-1)+COLUMN(AppHeaderCell) + 1)))","v":""},"",{"$f":"IF(ISBLANK(INDEX('Server Questionnaire'!$6:$6,1,6*(ROW(A303)-1)+COLUMN(ServerHeaderCell) + 1)), \"\", (INDEX('Server Questionnaire'!$6:$6,1,6*(ROW(A303)-1)+COLUMN(ServerHeaderCell) + 1)))","v":""}]
[{"$f":"IF(ISBLANK(INDEX('App Questionnaire'!$10:$10,1,2*(ROW(A304)-1)+COLUMN(AppHeaderCell) + 1)), \"\", (INDEX('App Questionnaire'!$10:$10,1,2*(ROW(A304)-1)+COLUMN(AppHeaderCell) + 1)))","v":""},{"$f":"IF(ISBLANK(INDEX('App Questionnaire'!$6:$6,1,2*(ROW(A304)-1)+COLUMN(AppHeaderCell) + 1)), \"\", (INDEX('App Questionnaire'!$6:$6,1,2*(ROW(A304)-1)+COLUMN(AppHeaderCell) + 1)))","v":""},"",{"$f":"IF(ISBLANK(INDEX('Server Questionnaire'!$6:$6,1,6*(ROW(A304)-1)+COLUMN(ServerHeaderCell) + 1)), \"\", (INDEX('Server Questionnaire'!$6:$6,1,6*(ROW(A304)-1)+COLUMN(ServerHeaderCell) + 1)))","v":""}]
[{"$f":"IF(ISBLANK(INDEX('App Questionnaire'!$10:$10,1,2*(ROW(A305)-1)+COLUMN(AppHeaderCell) + 1)), \"\", (INDEX('App Questionnaire'!$10:$10,1,2*(ROW(A305)-1)+COLUMN(AppHeaderCell) + 1)))","v":""},{"$f":"IF(ISBLANK(INDEX('App Questionnaire'!$6:$6,1,2*(ROW(A305)-1)+COLUMN(AppHeaderCell) + 1)), \"\", (INDEX('App Questionnaire'!$6:$6,1,2*(ROW(A305)-1)+COLUMN(AppHeaderCell) + 1)))","v":""},"",{"$f":"IF(ISBLANK(INDEX('Server Questionnaire'!$6:$6,1,6*(ROW(A305)-1)+COLUMN(ServerHeaderCell) + 1)), \"\", (INDEX('Server Questionnaire'!$6:$6,1,6*(ROW(A305)-1)+COLUMN(ServerHeaderCell) + 1)))","v":""}]
[{"$f":"IF(ISBLANK(INDEX('App Questionnaire'!$10:$10,1,2*(ROW(A306)-1)+COLUMN(AppHeaderCell) + 1)), \"\", (INDEX('App Questionnaire'!$10:$10,1,2*(ROW(A306)-1)+COLUMN(AppHeaderCell) + 1)))","v":""},{"$f":"IF(ISBLANK(INDEX('App Questionnaire'!$6:$6,1,2*(ROW(A306)-1)+COLUMN(AppHeaderCell) + 1)), \"\", (INDEX('App Questionnaire'!$6:$6,1,2*(ROW(A306)-1)+COLUMN(AppHeaderCell) + 1)))","v":""},"",{"$f":"IF(ISBLANK(INDEX('Server Questionnaire'!$6:$6,1,6*(ROW(A306)-1)+COLUMN(ServerHeaderCell) + 1)), \"\", (INDEX('Server Questionnaire'!$6:$6,1,6*(ROW(A306)-1)+COLUMN(ServerHeaderCell) + 1)))","v":""}]
[{"$f":"IF(ISBLANK(INDEX('App Questionnaire'!$10:$10,1,2*(ROW(A307)-1)+COLUMN(AppHeaderCell) + 1)), \"\", (INDEX('App Questionnaire'!$10:$10,1,2*(ROW(A307)-1)+COLUMN(AppHeaderCell) + 1)))","v":""},{"$f":"IF(ISBLANK(INDEX('App Questionnaire'!$6:$6,1,2*(ROW(A307)-1)+COLUMN(AppHeaderCell) + 1)), \"\", (INDEX('App Questionnaire'!$6:$6,1,2*(ROW(A307)-1)+COLUMN(AppHeaderCell) + 1)))","v":""},"",{"$f":"IF(ISBLANK(INDEX('Server Questionnaire'!$6:$6,1,6*(ROW(A307)-1)+COLUMN(ServerHeaderCell) + 1)), \"\", (INDEX('Server Questionnaire'!$6:$6,1,6*(ROW(A307)-1)+COLUMN(ServerHeaderCell) + 1)))","v":""}]
[{"$f":"IF(ISBLANK(INDEX('App Questionnaire'!$10:$10,1,2*(ROW(A308)-1)+COLUMN(AppHeaderCell) + 1)), \"\", (INDEX('App Questionnaire'!$10:$10,1,2*(ROW(A308)-1)+COLUMN(AppHeaderCell) + 1)))","v":""},{"$f":"IF(ISBLANK(INDEX('App Questionnaire'!$6:$6,1,2*(ROW(A308)-1)+COLUMN(AppHeaderCell) + 1)), \"\", (INDEX('App Questionnaire'!$6:$6,1,2*(ROW(A308)-1)+COLUMN(AppHeaderCell) + 1)))","v":""},"",{"$f":"IF(ISBLANK(INDEX('Server Questionnaire'!$6:$6,1,6*(ROW(A308)-1)+COLUMN(ServerHeaderCell) + 1)), \"\", (INDEX('Server Questionnaire'!$6:$6,1,6*(ROW(A308)-1)+COLUMN(ServerHeaderCell) + 1)))","v":""}]
[{"$f":"IF(ISBLANK(INDEX('App Questionnaire'!$10:$10,1,2*(ROW(A309)-1)+COLUMN(AppHeaderCell) + 1)), \"\", (INDEX('App Questionnaire'!$10:$10,1,2*(ROW(A309)-1)+COLUMN(AppHeaderCell) + 1)))","v":""},{"$f":"IF(ISBLANK(INDEX('App Questionnaire'!$6:$6,1,2*(ROW(A309)-1)+COLUMN(AppHeaderCell) + 1)), \"\", (INDEX('App Questionnaire'!$6:$6,1,2*(ROW(A309)-1)+COLUMN(AppHeaderCell) + 1)))","v":""},"",{"$f":"IF(ISBLANK(INDEX('Server Questionnaire'!$6:$6,1,6*(ROW(A309)-1)+COLUMN(ServerHeaderCell) + 1)), \"\", (INDEX('Server Questionnaire'!$6:$6,1,6*(ROW(A309)-1)+COLUMN(ServerHeaderCell) + 1)))","v":""}]
[{"$f":"IF(ISBLANK(INDEX('App Questionnaire'!$10:$10,1,2*(ROW(A310)-1)+COLUMN(AppHeaderCell) + 1)), \"\", (INDEX('App Questionnaire'!$10:$10,1,2*(ROW(A310)-1)+COLUMN(AppHeaderCell) + 1)))","v":""},{"$f":"IF(ISBLANK(INDEX('App Questionnaire'!$6:$6,1,2*(ROW(A310)-1)+COLUMN(AppHeaderCell) + 1)), \"\", (INDEX('App Questionnaire'!$6:$6,1,2*(ROW(A310)-1)+COLUMN(AppHeaderCell) + 1)))","v":""},"",{"$f":"IF(ISBLANK(INDEX('Server Questionnaire'!$6:$6,1,6*(ROW(A310)-1)+COLUMN(ServerHeaderCell) + 1)), \"\", (INDEX('Server Questionnaire'!$6:$6,1,6*(ROW(A310)-1)+COLUMN(ServerHeaderCell) + 1)))","v":""}]
[{"$f":"IF(ISBLANK(INDEX('App Questionnaire'!$10:$10,1,2*(ROW(A311)-1)+COLUMN(AppHeaderCell) + 1)), \"\", (INDEX('App Questionnaire'!$10:$10,1,2*(ROW(A311)-1)+COLUMN(AppHeaderCell) + 1)))","v":""},{"$f":"IF(ISBLANK(INDEX('App Questionnaire'!$6:$6,1,2*(ROW(A311)-1)+COLUMN(AppHeaderCell) + 1)), \"\", (INDEX('App Questionnaire'!$6:$6,1,2*(ROW(A311)-1)+COLUMN(AppHeaderCell) + 1)))","v":""},"",{"$f":"IF(ISBLANK(INDEX('Server Questionnaire'!$6:$6,1,6*(ROW(A311)-1)+COLUMN(ServerHeaderCell) + 1)), \"\", (INDEX('Server Questionnaire'!$6:$6,1,6*(ROW(A311)-1)+COLUMN(ServerHeaderCell) + 1)))","v":""}]
[{"$f":"IF(ISBLANK(INDEX('App Questionnaire'!$10:$10,1,2*(ROW(A312)-1)+COLUMN(AppHeaderCell) + 1)), \"\", (INDEX('App Questionnaire'!$10:$10,1,2*(ROW(A312)-1)+COLUMN(AppHeaderCell) + 1)))","v":""},{"$f":"IF(ISBLANK(INDEX('App Questionnaire'!$6:$6,1,2*(ROW(A312)-1)+COLUMN(AppHeaderCell) + 1)), \"\", (INDEX('App Questionnaire'!$6:$6,1,2*(ROW(A312)-1)+COLUMN(AppHeaderCell) + 1)))","v":""},"",{"$f":"IF(ISBLANK(INDEX('Server Questionnaire'!$6:$6,1,6*(ROW(A312)-1)+COLUMN(ServerHeaderCell) + 1)), \"\", (INDEX('Server Questionnaire'!$6:$6,1,6*(ROW(A312)-1)+COLUMN(ServerHeaderCell) + 1)))","v":""}]
[{"$f":"IF(ISBLANK(INDEX('App Questionnaire'!$10:$10,1,2*(ROW(A313)-1)+COLUMN(AppHeaderCell) + 1)), \"\", (INDEX('App Questionnaire'!$10:$10,1,2*(ROW(A313)-1)+COLUMN(AppHeaderCell) + 1)))","v":""},{"$f":"IF(ISBLANK(INDEX('App Questionnaire'!$6:$6,1,2*(ROW(A313)-1)+COLUMN(AppHeaderCell) + 1)), \"\", (INDEX('App Questionnaire'!$6:$6,1,2*(ROW(A313)-1)+COLUMN(AppHeaderCell) + 1)))","v":""},"",{"$f":"IF(ISBLANK(INDEX('Server Questionnaire'!$6:$6,1,6*(ROW(A313)-1)+COLUMN(ServerHeaderCell) + 1)), \"\", (INDEX('Server Questionnaire'!$6:$6,1,6*(ROW(A313)-1)+COLUMN(ServerHeaderCell) + 1)))","v":""}]
[{"$f":"IF(ISBLANK(INDEX('App Questionnaire'!$10:$10,1,2*(ROW(A314)-1)+COLUMN(AppHeaderCell) + 1)), \"\", (INDEX('App Questionnaire'!$10:$10,1,2*(ROW(A314)-1)+COLUMN(AppHeaderCell) + 1)))","v":""},{"$f":"IF(ISBLANK(INDEX('App Questionnaire'!$6:$6,1,2*(ROW(A314)-1)+COLUMN(AppHeaderCell) + 1)), \"\", (INDEX('App Questionnaire'!$6:$6,1,2*(ROW(A314)-1)+COLUMN(AppHeaderCell) + 1)))","v":""},"",{"$f":"IF(ISBLANK(INDEX('Server Questionnaire'!$6:$6,1,6*(ROW(A314)-1)+COLUMN(ServerHeaderCell) + 1)), \"\", (INDEX('Server Questionnaire'!$6:$6,1,6*(ROW(A314)-1)+COLUMN(ServerHeaderCell) + 1)))","v":""}]
[{"$f":"IF(ISBLANK(INDEX('App Questionnaire'!$10:$10,1,2*(ROW(A315)-1)+COLUMN(AppHeaderCell) + 1)), \"\", (INDEX('App Questionnaire'!$10:$10,1,2*(ROW(A315)-1)+COLUMN(AppHeaderCell) + 1)))","v":""},{"$f":"IF(ISBLANK(INDEX('App Questionnaire'!$6:$6,1,2*(ROW(A315)-1)+COLUMN(AppHeaderCell) + 1)), \"\", (INDEX('App Questionnaire'!$6:$6,1,2*(ROW(A315)-1)+COLUMN(AppHeaderCell) + 1)))","v":""},"",{"$f":"IF(ISBLANK(INDEX('Server Questionnaire'!$6:$6,1,6*(ROW(A315)-1)+COLUMN(ServerHeaderCell) + 1)), \"\", (INDEX('Server Questionnaire'!$6:$6,1,6*(ROW(A315)-1)+COLUMN(ServerHeaderCell) + 1)))","v":""}]
[{"$f":"IF(ISBLANK(INDEX('App Questionnaire'!$10:$10,1,2*(ROW(A316)-1)+COLUMN(AppHeaderCell) + 1)), \"\", (INDEX('App Questionnaire'!$10:$10,1,2*(ROW(A316)-1)+COLUMN(AppHeaderCell) + 1)))","v":""},{"$f":"IF(ISBLANK(INDEX('App Questionnaire'!$6:$6,1,2*(ROW(A316)-1)+COLUMN(AppHeaderCell) + 1)), \"\", (INDEX('App Questionnaire'!$6:$6,1,2*(ROW(A316)-1)+COLUMN(AppHeaderCell) + 1)))","v":""},"",{"$f":"IF(ISBLANK(INDEX('Server Questionnaire'!$6:$6,1,6*(ROW(A316)-1)+COLUMN(ServerHeaderCell) + 1)), \"\", (INDEX('Server Questionnaire'!$6:$6,1,6*(ROW(A316)-1)+COLUMN(ServerHeaderCell) + 1)))","v":""}]
[{"$f":"IF(ISBLANK(INDEX('App Questionnaire'!$10:$10,1,2*(ROW(A317)-1)+COLUMN(AppHeaderCell) + 1)), \"\", (INDEX('App Questionnaire'!$10:$10,1,2*(ROW(A317)-1)+COLUMN(AppHeaderCell) + 1)))","v":""},{"$f":"IF(ISBLANK(INDEX('App Questionnaire'!$6:$6,1,2*(ROW(A317)-1)+COLUMN(AppHeaderCell) + 1)), \"\", (INDEX('App Questionnaire'!$6:$6,1,2*(ROW(A317)-1)+COLUMN(AppHeaderCell) + 1)))","v":""},"",{"$f":"IF(ISBLANK(INDEX('Server Questionnaire'!$6:$6,1,6*(ROW(A317)-1)+COLUMN(ServerHeaderCell) + 1)), \"\", (INDEX('Server Questionnaire'!$6:$6,1,6*(ROW(A317)-1)+COLUMN(ServerHeaderCell) + 1)))","v":""}]
[{"$f":"IF(ISBLANK(INDEX('App Questionnaire'!$10:$10,1,2*(ROW(A318)-1)+COLUMN(AppHeaderCell) + 1)), \"\", (INDEX('App Questionnaire'!$10:$10,1,2*(ROW(A318)-1)+COLUMN(AppHeaderCell) + 1)))","v":""},{"$f":"IF(ISBLANK(INDEX('App Questionnaire'!$6:$6,1,2*(ROW(A318)-1)+COLUMN(AppHeaderCell) + 1)), \"\", (INDEX('App Questionnaire'!$6:$6,1,2*(ROW(A318)-1)+COLUMN(AppHeaderCell) + 1)))","v":""},"",{"$f":"IF(ISBLANK(INDEX('Server Questionnaire'!$6:$6,1,6*(ROW(A318)-1)+COLUMN(ServerHeaderCell) + 1)), \"\", (INDEX('Server Questionnaire'!$6:$6,1,6*(ROW(A318)-1)+COLUMN(ServerHeaderCell) + 1)))","v":""}]
[{"$f":"IF(ISBLANK(INDEX('App Questionnaire'!$10:$10,1,2*(ROW(A319)-1)+COLUMN(AppHeaderCell) + 1)), \"\", (INDEX('App Questionnaire'!$10:$10,1,2*(ROW(A319)-1)+COLUMN(AppHeaderCell) + 1)))","v":""},{"$f":"IF(ISBLANK(INDEX('App Questionnaire'!$6:$6,1,2*(ROW(A319)-1)+COLUMN(AppHeaderCell) + 1)), \"\", (INDEX('App Questionnaire'!$6:$6,1,2*(ROW(A319)-1)+COLUMN(AppHeaderCell) + 1)))","v":""},"",{"$f":"IF(ISBLANK(INDEX('Server Questionnaire'!$6:$6,1,6*(ROW(A319)-1)+COLUMN(ServerHeaderCell) + 1)), \"\", (INDEX('Server Questionnaire'!$6:$6,1,6*(ROW(A319)-1)+COLUMN(ServerHeaderCell) + 1)))","v":""}]
[{"$f":"IF(ISBLANK(INDEX('App Questionnaire'!$10:$10,1,2*(ROW(A320)-1)+COLUMN(AppHeaderCell) + 1)), \"\", (INDEX('App Questionnaire'!$10:$10,1,2*(ROW(A320)-1)+COLUMN(AppHeaderCell) + 1)))","v":""},{"$f":"IF(ISBLANK(INDEX('App Questionnaire'!$6:$6,1,2*(ROW(A320)-1)+COLUMN(AppHeaderCell) + 1)), \"\", (INDEX('App Questionnaire'!$6:$6,1,2*(ROW(A320)-1)+COLUMN(AppHeaderCell) + 1)))","v":""},"",{"$f":"IF(ISBLANK(INDEX('Server Questionnaire'!$6:$6,1,6*(ROW(A320)-1)+COLUMN(ServerHeaderCell) + 1)), \"\", (INDEX('Server Questionnaire'!$6:$6,1,6*(ROW(A320)-1)+COLUMN(ServerHeaderCell) + 1)))","v":""}]
[{"$f":"IF(ISBLANK(INDEX('App Questionnaire'!$10:$10,1,2*(ROW(A321)-1)+COLUMN(AppHeaderCell) + 1)), \"\", (INDEX('App Questionnaire'!$10:$10,1,2*(ROW(A321)-1)+COLUMN(AppHeaderCell) + 1)))","v":""},{"$f":"IF(ISBLANK(INDEX('App Questionnaire'!$6:$6,1,2*(ROW(A321)-1)+COLUMN(AppHeaderCell) + 1)), \"\", (INDEX('App Questionnaire'!$6:$6,1,2*(ROW(A321)-1)+COLUMN(AppHeaderCell) + 1)))","v":""},"",{"$f":"IF(ISBLANK(INDEX('Server Questionnaire'!$6:$6,1,6*(ROW(A321)-1)+COLUMN(ServerHeaderCell) + 1)), \"\", (INDEX('Server Questionnaire'!$6:$6,1,6*(ROW(A321)-1)+COLUMN(ServerHeaderCell) + 1)))","v":""}]
[{"$f":"IF(ISBLANK(INDEX('App Questionnaire'!$10:$10,1,2*(ROW(A322)-1)+COLUMN(AppHeaderCell) + 1)), \"\", (INDEX('App Questionnaire'!$10:$10,1,2*(ROW(A322)-1)+COLUMN(AppHeaderCell) + 1)))","v":""},{"$f":"IF(ISBLANK(INDEX('App Questionnaire'!$6:$6,1,2*(ROW(A322)-1)+COLUMN(AppHeaderCell) + 1)), \"\", (INDEX('App Questionnaire'!$6:$6,1,2*(ROW(A322)-1)+COLUMN(AppHeaderCell) + 1)))","v":""},"",{"$f":"IF(ISBLANK(INDEX('Server Questionnaire'!$6:$6,1,6*(ROW(A322)-1)+COLUMN(ServerHeaderCell) + 1)), \"\", (INDEX('Server Questionnaire'!$6:$6,1,6*(ROW(A322)-1)+COLUMN(ServerHeaderCell) + 1)))","v":""}]
[{"$f":"IF(ISBLANK(INDEX('App Questionnaire'!$10:$10,1,2*(ROW(A323)-1)+COLUMN(AppHeaderCell) + 1)), \"\", (INDEX('App Questionnaire'!$10:$10,1,2*(ROW(A323)-1)+COLUMN(AppHeaderCell) + 1)))","v":""},{"$f":"IF(ISBLANK(INDEX('App Questionnaire'!$6:$6,1,2*(ROW(A323)-1)+COLUMN(AppHeaderCell) + 1)), \"\", (INDEX('App Questionnaire'!$6:$6,1,2*(ROW(A323)-1)+COLUMN(AppHeaderCell) + 1)))","v":""},{"$f":" IF(B323 = \"\", \"\", B323 & \" - \" & A323)","v":""},{"$f":"IF(ISBLANK(INDEX('Server Questionnaire'!$6:$6,1,6*(ROW(A323)-1)+COLUMN(ServerHeaderCell) + 1)), \"\", (INDEX('Server Questionnaire'!$6:$6,1,6*(ROW(A323)-1)+COLUMN(ServerHeaderCell) + 1)))","v":""}]
[{"$f":"IF(ISBLANK(INDEX('App Questionnaire'!$10:$10,1,2*(ROW(A324)-1)+COLUMN(AppHeaderCell) + 1)), \"\", (INDEX('App Questionnaire'!$10:$10,1,2*(ROW(A324)-1)+COLUMN(AppHeaderCell) + 1)))","v":""},{"$f":"IF(ISBLANK(INDEX('App Questionnaire'!$6:$6,1,2*(ROW(A324)-1)+COLUMN(AppHeaderCell) + 1)), \"\", (INDEX('App Questionnaire'!$6:$6,1,2*(ROW(A324)-1)+COLUMN(AppHeaderCell) + 1)))","v":""},"",{"$f":"IF(ISBLANK(INDEX('Server Questionnaire'!$6:$6,1,6*(ROW(A324)-1)+COLUMN(ServerHeaderCell) + 1)), \"\", (INDEX('Server Questionnaire'!$6:$6,1,6*(ROW(A324)-1)+COLUMN(ServerHeaderCell) + 1)))","v":""}]
[{"$f":"IF(ISBLANK(INDEX('App Questionnaire'!$10:$10,1,2*(ROW(A325)-1)+COLUMN(AppHeaderCell) + 1)), \"\", (INDEX('App Questionnaire'!$10:$10,1,2*(ROW(A325)-1)+COLUMN(AppHeaderCell) + 1)))","v":""},{"$f":"IF(ISBLANK(INDEX('App Questionnaire'!$6:$6,1,2*(ROW(A325)-1)+COLUMN(AppHeaderCell) + 1)), \"\", (INDEX('App Questionnaire'!$6:$6,1,2*(ROW(A325)-1)+COLUMN(AppHeaderCell) + 1)))","v":""},"",{"$f":"IF(ISBLANK(INDEX('Server Questionnaire'!$6:$6,1,6*(ROW(A325)-1)+COLUMN(ServerHeaderCell) + 1)), \"\", (INDEX('Server Questionnaire'!$6:$6,1,6*(ROW(A325)-1)+COLUMN(ServerHeaderCell) + 1)))","v":""}]
[{"$f":"IF(ISBLANK(INDEX('App Questionnaire'!$10:$10,1,2*(ROW(A326)-1)+COLUMN(AppHeaderCell) + 1)), \"\", (INDEX('App Questionnaire'!$10:$10,1,2*(ROW(A326)-1)+COLUMN(AppHeaderCell) + 1)))","v":""},{"$f":"IF(ISBLANK(INDEX('App Questionnaire'!$6:$6,1,2*(ROW(A326)-1)+COLUMN(AppHeaderCell) + 1)), \"\", (INDEX('App Questionnaire'!$6:$6,1,2*(ROW(A326)-1)+COLUMN(AppHeaderCell) + 1)))","v":""},"",{"$f":"IF(ISBLANK(INDEX('Server Questionnaire'!$6:$6,1,6*(ROW(A326)-1)+COLUMN(ServerHeaderCell) + 1)), \"\", (INDEX('Server Questionnaire'!$6:$6,1,6*(ROW(A326)-1)+COLUMN(ServerHeaderCell) + 1)))","v":""}]
[{"$f":"IF(ISBLANK(INDEX('App Questionnaire'!$10:$10,1,2*(ROW(A327)-1)+COLUMN(AppHeaderCell) + 1)), \"\", (INDEX('App Questionnaire'!$10:$10,1,2*(ROW(A327)-1)+COLUMN(AppHeaderCell) + 1)))","v":""},{"$f":"IF(ISBLANK(INDEX('App Questionnaire'!$6:$6,1,2*(ROW(A327)-1)+COLUMN(AppHeaderCell) + 1)), \"\", (INDEX('App Questionnaire'!$6:$6,1,2*(ROW(A327)-1)+COLUMN(AppHeaderCell) + 1)))","v":""},"",{"$f":"IF(ISBLANK(INDEX('Server Questionnaire'!$6:$6,1,6*(ROW(A327)-1)+COLUMN(ServerHeaderCell) + 1)), \"\", (INDEX('Server Questionnaire'!$6:$6,1,6*(ROW(A327)-1)+COLUMN(ServerHeaderCell) + 1)))","v":""}]
[{"$f":"IF(ISBLANK(INDEX('App Questionnaire'!$10:$10,1,2*(ROW(A328)-1)+COLUMN(AppHeaderCell) + 1)), \"\", (INDEX('App Questionnaire'!$10:$10,1,2*(ROW(A328)-1)+COLUMN(AppHeaderCell) + 1)))","v":""},{"$f":"IF(ISBLANK(INDEX('App Questionnaire'!$6:$6,1,2*(ROW(A328)-1)+COLUMN(AppHeaderCell) + 1)), \"\", (INDEX('App Questionnaire'!$6:$6,1,2*(ROW(A328)-1)+COLUMN(AppHeaderCell) + 1)))","v":""},"",{"$f":"IF(ISBLANK(INDEX('Server Questionnaire'!$6:$6,1,6*(ROW(A328)-1)+COLUMN(ServerHeaderCell) + 1)), \"\", (INDEX('Server Questionnaire'!$6:$6,1,6*(ROW(A328)-1)+COLUMN(ServerHeaderCell) + 1)))","v":""}]
[{"$f":"IF(ISBLANK(INDEX('App Questionnaire'!$10:$10,1,2*(ROW(A329)-1)+COLUMN(AppHeaderCell) + 1)), \"\", (INDEX('App Questionnaire'!$10:$10,1,2*(ROW(A329)-1)+COLUMN(AppHeaderCell) + 1)))","v":""},{"$f":"IF(ISBLANK(INDEX('App Questionnaire'!$6:$6,1,2*(ROW(A329)-1)+COLUMN(AppHeaderCell) + 1)), \"\", (INDEX('App Questionnaire'!$6:$6,1,2*(ROW(A329)-1)+COLUMN(AppHeaderCell) + 1)))","v":""},"",{"$f":"IF(ISBLANK(INDEX('Server Questionnaire'!$6:$6,1,6*(ROW(A329)-1)+COLUMN(ServerHeaderCell) + 1)), \"\", (INDEX('Server Questionnaire'!$6:$6,1,6*(ROW(A329)-1)+COLUMN(ServerHeaderCell) + 1)))","v":""}]
[{"$f":"IF(ISBLANK(INDEX('App Questionnaire'!$10:$10,1,2*(ROW(A330)-1)+COLUMN(AppHeaderCell) + 1)), \"\", (INDEX('App Questionnaire'!$10:$10,1,2*(ROW(A330)-1)+COLUMN(AppHeaderCell) + 1)))","v":""},{"$f":"IF(ISBLANK(INDEX('App Questionnaire'!$6:$6,1,2*(ROW(A330)-1)+COLUMN(AppHeaderCell) + 1)), \"\", (INDEX('App Questionnaire'!$6:$6,1,2*(ROW(A330)-1)+COLUMN(AppHeaderCell) + 1)))","v":""},"",{"$f":"IF(ISBLANK(INDEX('Server Questionnaire'!$6:$6,1,6*(ROW(A330)-1)+COLUMN(ServerHeaderCell) + 1)), \"\", (INDEX('Server Questionnaire'!$6:$6,1,6*(ROW(A330)-1)+COLUMN(ServerHeaderCell) + 1)))","v":""}]
[{"$f":"IF(ISBLANK(INDEX('App Questionnaire'!$10:$10,1,2*(ROW(A331)-1)+COLUMN(AppHeaderCell) + 1)), \"\", (INDEX('App Questionnaire'!$10:$10,1,2*(ROW(A331)-1)+COLUMN(AppHeaderCell) + 1)))","v":""},{"$f":"IF(ISBLANK(INDEX('App Questionnaire'!$6:$6,1,2*(ROW(A331)-1)+COLUMN(AppHeaderCell) + 1)), \"\", (INDEX('App Questionnaire'!$6:$6,1,2*(ROW(A331)-1)+COLUMN(AppHeaderCell) + 1)))","v":""},"",{"$f":"IF(ISBLANK(INDEX('Server Questionnaire'!$6:$6,1,6*(ROW(A331)-1)+COLUMN(ServerHeaderCell) + 1)), \"\", (INDEX('Server Questionnaire'!$6:$6,1,6*(ROW(A331)-1)+COLUMN(ServerHeaderCell) + 1)))","v":""}]
[{"$f":"IF(ISBLANK(INDEX('App Questionnaire'!$10:$10,1,2*(ROW(A332)-1)+COLUMN(AppHeaderCell) + 1)), \"\", (INDEX('App Questionnaire'!$10:$10,1,2*(ROW(A332)-1)+COLUMN(AppHeaderCell) + 1)))","v":""},{"$f":"IF(ISBLANK(INDEX('App Questionnaire'!$6:$6,1,2*(ROW(A332)-1)+COLUMN(AppHeaderCell) + 1)), \"\", (INDEX('App Questionnaire'!$6:$6,1,2*(ROW(A332)-1)+COLUMN(AppHeaderCell) + 1)))","v":""},"",{"$f":"IF(ISBLANK(INDEX('Server Questionnaire'!$6:$6,1,6*(ROW(A332)-1)+COLUMN(ServerHeaderCell) + 1)), \"\", (INDEX('Server Questionnaire'!$6:$6,1,6*(ROW(A332)-1)+COLUMN(ServerHeaderCell) + 1)))","v":""}]
[{"$f":"IF(ISBLANK(INDEX('App Questionnaire'!$10:$10,1,2*(ROW(A333)-1)+COLUMN(AppHeaderCell) + 1)), \"\", (INDEX('App Questionnaire'!$10:$10,1,2*(ROW(A333)-1)+COLUMN(AppHeaderCell) + 1)))","v":""},{"$f":"IF(ISBLANK(INDEX('App Questionnaire'!$6:$6,1,2*(ROW(A333)-1)+COLUMN(AppHeaderCell) + 1)), \"\", (INDEX('App Questionnaire'!$6:$6,1,2*(ROW(A333)-1)+COLUMN(AppHeaderCell) + 1)))","v":""},"",{"$f":"IF(ISBLANK(INDEX('Server Questionnaire'!$6:$6,1,6*(ROW(A333)-1)+COLUMN(ServerHeaderCell) + 1)), \"\", (INDEX('Server Questionnaire'!$6:$6,1,6*(ROW(A333)-1)+COLUMN(ServerHeaderCell) + 1)))","v":""}]
[{"$f":"IF(ISBLANK(INDEX('App Questionnaire'!$10:$10,1,2*(ROW(A334)-1)+COLUMN(AppHeaderCell) + 1)), \"\", (INDEX('App Questionnaire'!$10:$10,1,2*(ROW(A334)-1)+COLUMN(AppHeaderCell) + 1)))","v":""},{"$f":"IF(ISBLANK(INDEX('App Questionnaire'!$6:$6,1,2*(ROW(A334)-1)+COLUMN(AppHeaderCell) + 1)), \"\", (INDEX('App Questionnaire'!$6:$6,1,2*(ROW(A334)-1)+COLUMN(AppHeaderCell) + 1)))","v":""},"",{"$f":"IF(ISBLANK(INDEX('Server Questionnaire'!$6:$6,1,6*(ROW(A334)-1)+COLUMN(ServerHeaderCell) + 1)), \"\", (INDEX('Server Questionnaire'!$6:$6,1,6*(ROW(A334)-1)+COLUMN(ServerHeaderCell) + 1)))","v":""}]
[{"$f":"IF(ISBLANK(INDEX('App Questionnaire'!$10:$10,1,2*(ROW(A335)-1)+COLUMN(AppHeaderCell) + 1)), \"\", (INDEX('App Questionnaire'!$10:$10,1,2*(ROW(A335)-1)+COLUMN(AppHeaderCell) + 1)))","v":""},{"$f":"IF(ISBLANK(INDEX('App Questionnaire'!$6:$6,1,2*(ROW(A335)-1)+COLUMN(AppHeaderCell) + 1)), \"\", (INDEX('App Questionnaire'!$6:$6,1,2*(ROW(A335)-1)+COLUMN(AppHeaderCell) + 1)))","v":""},"",{"$f":"IF(ISBLANK(INDEX('Server Questionnaire'!$6:$6,1,6*(ROW(A335)-1)+COLUMN(ServerHeaderCell) + 1)), \"\", (INDEX('Server Questionnaire'!$6:$6,1,6*(ROW(A335)-1)+COLUMN(ServerHeaderCell) + 1)))","v":""}]
[{"$f":"IF(ISBLANK(INDEX('App Questionnaire'!$10:$10,1,2*(ROW(A336)-1)+COLUMN(AppHeaderCell) + 1)), \"\", (INDEX('App Questionnaire'!$10:$10,1,2*(ROW(A336)-1)+COLUMN(AppHeaderCell) + 1)))","v":""},{"$f":"IF(ISBLANK(INDEX('App Questionnaire'!$6:$6,1,2*(ROW(A336)-1)+COLUMN(AppHeaderCell) + 1)), \"\", (INDEX('App Questionnaire'!$6:$6,1,2*(ROW(A336)-1)+COLUMN(AppHeaderCell) + 1)))","v":""},"",{"$f":"IF(ISBLANK(INDEX('Server Questionnaire'!$6:$6,1,6*(ROW(A336)-1)+COLUMN(ServerHeaderCell) + 1)), \"\", (INDEX('Server Questionnaire'!$6:$6,1,6*(ROW(A336)-1)+COLUMN(ServerHeaderCell) + 1)))","v":""}]
[{"$f":"IF(ISBLANK(INDEX('App Questionnaire'!$10:$10,1,2*(ROW(A337)-1)+COLUMN(AppHeaderCell) + 1)), \"\", (INDEX('App Questionnaire'!$10:$10,1,2*(ROW(A337)-1)+COLUMN(AppHeaderCell) + 1)))","v":""},{"$f":"IF(ISBLANK(INDEX('App Questionnaire'!$6:$6,1,2*(ROW(A337)-1)+COLUMN(AppHeaderCell) + 1)), \"\", (INDEX('App Questionnaire'!$6:$6,1,2*(ROW(A337)-1)+COLUMN(AppHeaderCell) + 1)))","v":""},"",{"$f":"IF(ISBLANK(INDEX('Server Questionnaire'!$6:$6,1,6*(ROW(A337)-1)+COLUMN(ServerHeaderCell) + 1)), \"\", (INDEX('Server Questionnaire'!$6:$6,1,6*(ROW(A337)-1)+COLUMN(ServerHeaderCell) + 1)))","v":""}]
[{"$f":"IF(ISBLANK(INDEX('App Questionnaire'!$10:$10,1,2*(ROW(A338)-1)+COLUMN(AppHeaderCell) + 1)), \"\", (INDEX('App Questionnaire'!$10:$10,1,2*(ROW(A338)-1)+COLUMN(AppHeaderCell) + 1)))","v":""},{"$f":"IF(ISBLANK(INDEX('App Questionnaire'!$6:$6,1,2*(ROW(A338)-1)+COLUMN(AppHeaderCell) + 1)), \"\", (INDEX('App Questionnaire'!$6:$6,1,2*(ROW(A338)-1)+COLUMN(AppHeaderCell) + 1)))","v":""},"",{"$f":"IF(ISBLANK(INDEX('Server Questionnaire'!$6:$6,1,6*(ROW(A338)-1)+COLUMN(ServerHeaderCell) + 1)), \"\", (INDEX('Server Questionnaire'!$6:$6,1,6*(ROW(A338)-1)+COLUMN(ServerHeaderCell) + 1)))","v":""}]
[{"$f":"IF(ISBLANK(INDEX('App Questionnaire'!$10:$10,1,2*(ROW(A339)-1)+COLUMN(AppHeaderCell) + 1)), \"\", (INDEX('App Questionnaire'!$10:$10,1,2*(ROW(A339)-1)+COLUMN(AppHeaderCell) + 1)))","v":""},{"$f":"IF(ISBLANK(INDEX('App Questionnaire'!$6:$6,1,2*(ROW(A339)-1)+COLUMN(AppHeaderCell) + 1)), \"\", (INDEX('App Questionnaire'!$6:$6,1,2*(ROW(A339)-1)+COLUMN(AppHeaderCell) + 1)))","v":""},"",{"$f":"IF(ISBLANK(INDEX('Server Questionnaire'!$6:$6,1,6*(ROW(A339)-1)+COLUMN(ServerHeaderCell) + 1)), \"\", (INDEX('Server Questionnaire'!$6:$6,1,6*(ROW(A339)-1)+COLUMN(ServerHeaderCell) + 1)))","v":""}]
[{"$f":"IF(ISBLANK(INDEX('App Questionnaire'!$10:$10,1,2*(ROW(A340)-1)+COLUMN(AppHeaderCell) + 1)), \"\", (INDEX('App Questionnaire'!$10:$10,1,2*(ROW(A340)-1)+COLUMN(AppHeaderCell) + 1)))","v":""},{"$f":"IF(ISBLANK(INDEX('App Questionnaire'!$6:$6,1,2*(ROW(A340)-1)+COLUMN(AppHeaderCell) + 1)), \"\", (INDEX('App Questionnaire'!$6:$6,1,2*(ROW(A340)-1)+COLUMN(AppHeaderCell) + 1)))","v":""},"",{"$f":"IF(ISBLANK(INDEX('Server Questionnaire'!$6:$6,1,6*(ROW(A340)-1)+COLUMN(ServerHeaderCell) + 1)), \"\", (INDEX('Server Questionnaire'!$6:$6,1,6*(ROW(A340)-1)+COLUMN(ServerHeaderCell) + 1)))","v":""}]
[{"$f":"IF(ISBLANK(INDEX('App Questionnaire'!$10:$10,1,2*(ROW(A341)-1)+COLUMN(AppHeaderCell) + 1)), \"\", (INDEX('App Questionnaire'!$10:$10,1,2*(ROW(A341)-1)+COLUMN(AppHeaderCell) + 1)))","v":""},{"$f":"IF(ISBLANK(INDEX('App Questionnaire'!$6:$6,1,2*(ROW(A341)-1)+COLUMN(AppHeaderCell) + 1)), \"\", (INDEX('App Questionnaire'!$6:$6,1,2*(ROW(A341)-1)+COLUMN(AppHeaderCell) + 1)))","v":""},"",{"$f":"IF(ISBLANK(INDEX('Server Questionnaire'!$6:$6,1,6*(ROW(A341)-1)+COLUMN(ServerHeaderCell) + 1)), \"\", (INDEX('Server Questionnaire'!$6:$6,1,6*(ROW(A341)-1)+COLUMN(ServerHeaderCell) + 1)))","v":""}]
[{"$f":"IF(ISBLANK(INDEX('App Questionnaire'!$10:$10,1,2*(ROW(A342)-1)+COLUMN(AppHeaderCell) + 1)), \"\", (INDEX('App Questionnaire'!$10:$10,1,2*(ROW(A342)-1)+COLUMN(AppHeaderCell) + 1)))","v":""},{"$f":"IF(ISBLANK(INDEX('App Questionnaire'!$6:$6,1,2*(ROW(A342)-1)+COLUMN(AppHeaderCell) + 1)), \"\", (INDEX('App Questionnaire'!$6:$6,1,2*(ROW(A342)-1)+COLUMN(AppHeaderCell) + 1)))","v":""},"",{"$f":"IF(ISBLANK(INDEX('Server Questionnaire'!$6:$6,1,6*(ROW(A342)-1)+COLUMN(ServerHeaderCell) + 1)), \"\", (INDEX('Server Questionnaire'!$6:$6,1,6*(ROW(A342)-1)+COLUMN(ServerHeaderCell) + 1)))","v":""}]
[{"$f":"IF(ISBLANK(INDEX('App Questionnaire'!$10:$10,1,2*(ROW(A343)-1)+COLUMN(AppHeaderCell) + 1)), \"\", (INDEX('App Questionnaire'!$10:$10,1,2*(ROW(A343)-1)+COLUMN(AppHeaderCell) + 1)))","v":""},{"$f":"IF(ISBLANK(INDEX('App Questionnaire'!$6:$6,1,2*(ROW(A343)-1)+COLUMN(AppHeaderCell) + 1)), \"\", (INDEX('App Questionnaire'!$6:$6,1,2*(ROW(A343)-1)+COLUMN(AppHeaderCell) + 1)))","v":""},"",{"$f":"IF(ISBLANK(INDEX('Server Questionnaire'!$6:$6,1,6*(ROW(A343)-1)+COLUMN(ServerHeaderCell) + 1)), \"\", (INDEX('Server Questionnaire'!$6:$6,1,6*(ROW(A343)-1)+COLUMN(ServerHeaderCell) + 1)))","v":""}]
[{"$f":"IF(ISBLANK(INDEX('App Questionnaire'!$10:$10,1,2*(ROW(A344)-1)+COLUMN(AppHeaderCell) + 1)), \"\", (INDEX('App Questionnaire'!$10:$10,1,2*(ROW(A344)-1)+COLUMN(AppHeaderCell) + 1)))","v":""},{"$f":"IF(ISBLANK(INDEX('App Questionnaire'!$6:$6,1,2*(ROW(A344)-1)+COLUMN(AppHeaderCell) + 1)), \"\", (INDEX('App Questionnaire'!$6:$6,1,2*(ROW(A344)-1)+COLUMN(AppHeaderCell) + 1)))","v":""},"",{"$f":"IF(ISBLANK(INDEX('Server Questionnaire'!$6:$6,1,6*(ROW(A344)-1)+COLUMN(ServerHeaderCell) + 1)), \"\", (INDEX('Server Questionnaire'!$6:$6,1,6*(ROW(A344)-1)+COLUMN(ServerHeaderCell) + 1)))","v":""}]
[{"$f":"IF(ISBLANK(INDEX('App Questionnaire'!$10:$10,1,2*(ROW(A345)-1)+COLUMN(AppHeaderCell) + 1)), \"\", (INDEX('App Questionnaire'!$10:$10,1,2*(ROW(A345)-1)+COLUMN(AppHeaderCell) + 1)))","v":""},{"$f":"IF(ISBLANK(INDEX('App Questionnaire'!$6:$6,1,2*(ROW(A345)-1)+COLUMN(AppHeaderCell) + 1)), \"\", (INDEX('App Questionnaire'!$6:$6,1,2*(ROW(A345)-1)+COLUMN(AppHeaderCell) + 1)))","v":""},"",{"$f":"IF(ISBLANK(INDEX('Server Questionnaire'!$6:$6,1,6*(ROW(A345)-1)+COLUMN(ServerHeaderCell) + 1)), \"\", (INDEX('Server Questionnaire'!$6:$6,1,6*(ROW(A345)-1)+COLUMN(ServerHeaderCell) + 1)))","v":""}]
[{"$f":"IF(ISBLANK(INDEX('App Questionnaire'!$10:$10,1,2*(ROW(A346)-1)+COLUMN(AppHeaderCell) + 1)), \"\", (INDEX('App Questionnaire'!$10:$10,1,2*(ROW(A346)-1)+COLUMN(AppHeaderCell) + 1)))","v":""},{"$f":"IF(ISBLANK(INDEX('App Questionnaire'!$6:$6,1,2*(ROW(A346)-1)+COLUMN(AppHeaderCell) + 1)), \"\", (INDEX('App Questionnaire'!$6:$6,1,2*(ROW(A346)-1)+COLUMN(AppHeaderCell) + 1)))","v":""},"",{"$f":"IF(ISBLANK(INDEX('Server Questionnaire'!$6:$6,1,6*(ROW(A346)-1)+COLUMN(ServerHeaderCell) + 1)), \"\", (INDEX('Server Questionnaire'!$6:$6,1,6*(ROW(A346)-1)+COLUMN(ServerHeaderCell) + 1)))","v":""}]
[{"$f":"IF(ISBLANK(INDEX('App Questionnaire'!$10:$10,1,2*(ROW(A347)-1)+COLUMN(AppHeaderCell) + 1)), \"\", (INDEX('App Questionnaire'!$10:$10,1,2*(ROW(A347)-1)+COLUMN(AppHeaderCell) + 1)))","v":""},{"$f":"IF(ISBLANK(INDEX('App Questionnaire'!$6:$6,1,2*(ROW(A347)-1)+COLUMN(AppHeaderCell) + 1)), \"\", (INDEX('App Questionnaire'!$6:$6,1,2*(ROW(A347)-1)+COLUMN(AppHeaderCell) + 1)))","v":""},"",{"$f":"IF(ISBLANK(INDEX('Server Questionnaire'!$6:$6,1,6*(ROW(A347)-1)+COLUMN(ServerHeaderCell) + 1)), \"\", (INDEX('Server Questionnaire'!$6:$6,1,6*(ROW(A347)-1)+COLUMN(ServerHeaderCell) + 1)))","v":""}]
[{"$f":"IF(ISBLANK(INDEX('App Questionnaire'!$10:$10,1,2*(ROW(A348)-1)+COLUMN(AppHeaderCell) + 1)), \"\", (INDEX('App Questionnaire'!$10:$10,1,2*(ROW(A348)-1)+COLUMN(AppHeaderCell) + 1)))","v":""},{"$f":"IF(ISBLANK(INDEX('App Questionnaire'!$6:$6,1,2*(ROW(A348)-1)+COLUMN(AppHeaderCell) + 1)), \"\", (INDEX('App Questionnaire'!$6:$6,1,2*(ROW(A348)-1)+COLUMN(AppHeaderCell) + 1)))","v":""},"",{"$f":"IF(ISBLANK(INDEX('Server Questionnaire'!$6:$6,1,6*(ROW(A348)-1)+COLUMN(ServerHeaderCell) + 1)), \"\", (INDEX('Server Questionnaire'!$6:$6,1,6*(ROW(A348)-1)+COLUMN(ServerHeaderCell) + 1)))","v":""}]
[{"$f":"IF(ISBLANK(INDEX('App Questionnaire'!$10:$10,1,2*(ROW(A349)-1)+COLUMN(AppHeaderCell) + 1)), \"\", (INDEX('App Questionnaire'!$10:$10,1,2*(ROW(A349)-1)+COLUMN(AppHeaderCell) + 1)))","v":""},{"$f":"IF(ISBLANK(INDEX('App Questionnaire'!$6:$6,1,2*(ROW(A349)-1)+COLUMN(AppHeaderCell) + 1)), \"\", (INDEX('App Questionnaire'!$6:$6,1,2*(ROW(A349)-1)+COLUMN(AppHeaderCell) + 1)))","v":""},"",{"$f":"IF(ISBLANK(INDEX('Server Questionnaire'!$6:$6,1,6*(ROW(A349)-1)+COLUMN(ServerHeaderCell) + 1)), \"\", (INDEX('Server Questionnaire'!$6:$6,1,6*(ROW(A349)-1)+COLUMN(ServerHeaderCell) + 1)))","v":""}]
[{"$f":"IF(ISBLANK(INDEX('App Questionnaire'!$10:$10,1,2*(ROW(A350)-1)+COLUMN(AppHeaderCell) + 1)), \"\", (INDEX('App Questionnaire'!$10:$10,1,2*(ROW(A350)-1)+COLUMN(AppHeaderCell) + 1)))","v":""},{"$f":"IF(ISBLANK(INDEX('App Questionnaire'!$6:$6,1,2*(ROW(A350)-1)+COLUMN(AppHeaderCell) + 1)), \"\", (INDEX('App Questionnaire'!$6:$6,1,2*(ROW(A350)-1)+COLUMN(AppHeaderCell) + 1)))","v":""},"",{"$f":"IF(ISBLANK(INDEX('Server Questionnaire'!$6:$6,1,6*(ROW(A350)-1)+COLUMN(ServerHeaderCell) + 1)), \"\", (INDEX('Server Questionnaire'!$6:$6,1,6*(ROW(A350)-1)+COLUMN(ServerHeaderCell) + 1)))","v":""}]
[{"$f":"IF(ISBLANK(INDEX('App Questionnaire'!$10:$10,1,2*(ROW(A351)-1)+COLUMN(AppHeaderCell) + 1)), \"\", (INDEX('App Questionnaire'!$10:$10,1,2*(ROW(A351)-1)+COLUMN(AppHeaderCell) + 1)))","v":""},{"$f":"IF(ISBLANK(INDEX('App Questionnaire'!$6:$6,1,2*(ROW(A351)-1)+COLUMN(AppHeaderCell) + 1)), \"\", (INDEX('App Questionnaire'!$6:$6,1,2*(ROW(A351)-1)+COLUMN(AppHeaderCell) + 1)))","v":""},"",{"$f":"IF(ISBLANK(INDEX('Server Questionnaire'!$6:$6,1,6*(ROW(A351)-1)+COLUMN(ServerHeaderCell) + 1)), \"\", (INDEX('Server Questionnaire'!$6:$6,1,6*(ROW(A351)-1)+COLUMN(ServerHeaderCell) + 1)))","v":""}]
[{"$f":"IF(ISBLANK(INDEX('App Questionnaire'!$10:$10,1,2*(ROW(A352)-1)+COLUMN(AppHeaderCell) + 1)), \"\", (INDEX('App Questionnaire'!$10:$10,1,2*(ROW(A352)-1)+COLUMN(AppHeaderCell) + 1)))","v":""},{"$f":"IF(ISBLANK(INDEX('App Questionnaire'!$6:$6,1,2*(ROW(A352)-1)+COLUMN(AppHeaderCell) + 1)), \"\", (INDEX('App Questionnaire'!$6:$6,1,2*(ROW(A352)-1)+COLUMN(AppHeaderCell) + 1)))","v":""},"",{"$f":"IF(ISBLANK(INDEX('Server Questionnaire'!$6:$6,1,6*(ROW(A352)-1)+COLUMN(ServerHeaderCell) + 1)), \"\", (INDEX('Server Questionnaire'!$6:$6,1,6*(ROW(A352)-1)+COLUMN(ServerHeaderCell) + 1)))","v":""}]
[{"$f":"IF(ISBLANK(INDEX('App Questionnaire'!$10:$10,1,2*(ROW(A353)-1)+COLUMN(AppHeaderCell) + 1)), \"\", (INDEX('App Questionnaire'!$10:$10,1,2*(ROW(A353)-1)+COLUMN(AppHeaderCell) + 1)))","v":""},{"$f":"IF(ISBLANK(INDEX('App Questionnaire'!$6:$6,1,2*(ROW(A353)-1)+COLUMN(AppHeaderCell) + 1)), \"\", (INDEX('App Questionnaire'!$6:$6,1,2*(ROW(A353)-1)+COLUMN(AppHeaderCell) + 1)))","v":""},"",{"$f":"IF(ISBLANK(INDEX('Server Questionnaire'!$6:$6,1,6*(ROW(A353)-1)+COLUMN(ServerHeaderCell) + 1)), \"\", (INDEX('Server Questionnaire'!$6:$6,1,6*(ROW(A353)-1)+COLUMN(ServerHeaderCell) + 1)))","v":""}]
[{"$f":"IF(ISBLANK(INDEX('App Questionnaire'!$10:$10,1,2*(ROW(A354)-1)+COLUMN(AppHeaderCell) + 1)), \"\", (INDEX('App Questionnaire'!$10:$10,1,2*(ROW(A354)-1)+COLUMN(AppHeaderCell) + 1)))","v":""},{"$f":"IF(ISBLANK(INDEX('App Questionnaire'!$6:$6,1,2*(ROW(A354)-1)+COLUMN(AppHeaderCell) + 1)), \"\", (INDEX('App Questionnaire'!$6:$6,1,2*(ROW(A354)-1)+COLUMN(AppHeaderCell) + 1)))","v":""},"",{"$f":"IF(ISBLANK(INDEX('Server Questionnaire'!$6:$6,1,6*(ROW(A354)-1)+COLUMN(ServerHeaderCell) + 1)), \"\", (INDEX('Server Questionnaire'!$6:$6,1,6*(ROW(A354)-1)+COLUMN(ServerHeaderCell) + 1)))","v":""}]
[{"$f":"IF(ISBLANK(INDEX('App Questionnaire'!$10:$10,1,2*(ROW(A355)-1)+COLUMN(AppHeaderCell) + 1)), \"\", (INDEX('App Questionnaire'!$10:$10,1,2*(ROW(A355)-1)+COLUMN(AppHeaderCell) + 1)))","v":""},{"$f":"IF(ISBLANK(INDEX('App Questionnaire'!$6:$6,1,2*(ROW(A355)-1)+COLUMN(AppHeaderCell) + 1)), \"\", (INDEX('App Questionnaire'!$6:$6,1,2*(ROW(A355)-1)+COLUMN(AppHeaderCell) + 1)))","v":""},"",{"$f":"IF(ISBLANK(INDEX('Server Questionnaire'!$6:$6,1,6*(ROW(A355)-1)+COLUMN(ServerHeaderCell) + 1)), \"\", (INDEX('Server Questionnaire'!$6:$6,1,6*(ROW(A355)-1)+COLUMN(ServerHeaderCell) + 1)))","v":""}]
[{"$f":"IF(ISBLANK(INDEX('App Questionnaire'!$10:$10,1,2*(ROW(A356)-1)+COLUMN(AppHeaderCell) + 1)), \"\", (INDEX('App Questionnaire'!$10:$10,1,2*(ROW(A356)-1)+COLUMN(AppHeaderCell) + 1)))","v":""},{"$f":"IF(ISBLANK(INDEX('App Questionnaire'!$6:$6,1,2*(ROW(A356)-1)+COLUMN(AppHeaderCell) + 1)), \"\", (INDEX('App Questionnaire'!$6:$6,1,2*(ROW(A356)-1)+COLUMN(AppHeaderCell) + 1)))","v":""},"",{"$f":"IF(ISBLANK(INDEX('Server Questionnaire'!$6:$6,1,6*(ROW(A356)-1)+COLUMN(ServerHeaderCell) + 1)), \"\", (INDEX('Server Questionnaire'!$6:$6,1,6*(ROW(A356)-1)+COLUMN(ServerHeaderCell) + 1)))","v":""}]
[{"$f":"IF(ISBLANK(INDEX('App Questionnaire'!$10:$10,1,2*(ROW(A357)-1)+COLUMN(AppHeaderCell) + 1)), \"\", (INDEX('App Questionnaire'!$10:$10,1,2*(ROW(A357)-1)+COLUMN(AppHeaderCell) + 1)))","v":""},{"$f":"IF(ISBLANK(INDEX('App Questionnaire'!$6:$6,1,2*(ROW(A357)-1)+COLUMN(AppHeaderCell) + 1)), \"\", (INDEX('App Questionnaire'!$6:$6,1,2*(ROW(A357)-1)+COLUMN(AppHeaderCell) + 1)))","v":""},"",{"$f":"IF(ISBLANK(INDEX('Server Questionnaire'!$6:$6,1,6*(ROW(A357)-1)+COLUMN(ServerHeaderCell) + 1)), \"\", (INDEX('Server Questionnaire'!$6:$6,1,6*(ROW(A357)-1)+COLUMN(ServerHeaderCell) + 1)))","v":""}]
[{"$f":"IF(ISBLANK(INDEX('App Questionnaire'!$10:$10,1,2*(ROW(A358)-1)+COLUMN(AppHeaderCell) + 1)), \"\", (INDEX('App Questionnaire'!$10:$10,1,2*(ROW(A358)-1)+COLUMN(AppHeaderCell) + 1)))","v":""},{"$f":"IF(ISBLANK(INDEX('App Questionnaire'!$6:$6,1,2*(ROW(A358)-1)+COLUMN(AppHeaderCell) + 1)), \"\", (INDEX('App Questionnaire'!$6:$6,1,2*(ROW(A358)-1)+COLUMN(AppHeaderCell) + 1)))","v":""},"",{"$f":"IF(ISBLANK(INDEX('Server Questionnaire'!$6:$6,1,6*(ROW(A358)-1)+COLUMN(ServerHeaderCell) + 1)), \"\", (INDEX('Server Questionnaire'!$6:$6,1,6*(ROW(A358)-1)+COLUMN(ServerHeaderCell) + 1)))","v":""}]
[{"$f":"IF(ISBLANK(INDEX('App Questionnaire'!$10:$10,1,2*(ROW(A359)-1)+COLUMN(AppHeaderCell) + 1)), \"\", (INDEX('App Questionnaire'!$10:$10,1,2*(ROW(A359)-1)+COLUMN(AppHeaderCell) + 1)))","v":""},{"$f":"IF(ISBLANK(INDEX('App Questionnaire'!$6:$6,1,2*(ROW(A359)-1)+COLUMN(AppHeaderCell) + 1)), \"\", (INDEX('App Questionnaire'!$6:$6,1,2*(ROW(A359)-1)+COLUMN(AppHeaderCell) + 1)))","v":""},"",{"$f":"IF(ISBLANK(INDEX('Server Questionnaire'!$6:$6,1,6*(ROW(A359)-1)+COLUMN(ServerHeaderCell) + 1)), \"\", (INDEX('Server Questionnaire'!$6:$6,1,6*(ROW(A359)-1)+COLUMN(ServerHeaderCell) + 1)))","v":""}]
[{"$f":"IF(ISBLANK(INDEX('App Questionnaire'!$10:$10,1,2*(ROW(A360)-1)+COLUMN(AppHeaderCell) + 1)), \"\", (INDEX('App Questionnaire'!$10:$10,1,2*(ROW(A360)-1)+COLUMN(AppHeaderCell) + 1)))","v":""},{"$f":"IF(ISBLANK(INDEX('App Questionnaire'!$6:$6,1,2*(ROW(A360)-1)+COLUMN(AppHeaderCell) + 1)), \"\", (INDEX('App Questionnaire'!$6:$6,1,2*(ROW(A360)-1)+COLUMN(AppHeaderCell) + 1)))","v":""},"",{"$f":"IF(ISBLANK(INDEX('Server Questionnaire'!$6:$6,1,6*(ROW(A360)-1)+COLUMN(ServerHeaderCell) + 1)), \"\", (INDEX('Server Questionnaire'!$6:$6,1,6*(ROW(A360)-1)+COLUMN(ServerHeaderCell) + 1)))","v":""}]
[{"$f":"IF(ISBLANK(INDEX('App Questionnaire'!$10:$10,1,2*(ROW(A361)-1)+COLUMN(AppHeaderCell) + 1)), \"\", (INDEX('App Questionnaire'!$10:$10,1,2*(ROW(A361)-1)+COLUMN(AppHeaderCell) + 1)))","v":""},{"$f":"IF(ISBLANK(INDEX('App Questionnaire'!$6:$6,1,2*(ROW(A361)-1)+COLUMN(AppHeaderCell) + 1)), \"\", (INDEX('App Questionnaire'!$6:$6,1,2*(ROW(A361)-1)+COLUMN(AppHeaderCell) + 1)))","v":""},"",{"$f":"IF(ISBLANK(INDEX('Server Questionnaire'!$6:$6,1,6*(ROW(A361)-1)+COLUMN(ServerHeaderCell) + 1)), \"\", (INDEX('Server Questionnaire'!$6:$6,1,6*(ROW(A361)-1)+COLUMN(ServerHeaderCell) + 1)))","v":""}]
[{"$f":"IF(ISBLANK(INDEX('App Questionnaire'!$10:$10,1,2*(ROW(A362)-1)+COLUMN(AppHeaderCell) + 1)), \"\", (INDEX('App Questionnaire'!$10:$10,1,2*(ROW(A362)-1)+COLUMN(AppHeaderCell) + 1)))","v":""},{"$f":"IF(ISBLANK(INDEX('App Questionnaire'!$6:$6,1,2*(ROW(A362)-1)+COLUMN(AppHeaderCell) + 1)), \"\", (INDEX('App Questionnaire'!$6:$6,1,2*(ROW(A362)-1)+COLUMN(AppHeaderCell) + 1)))","v":""},"",{"$f":"IF(ISBLANK(INDEX('Server Questionnaire'!$6:$6,1,6*(ROW(A362)-1)+COLUMN(ServerHeaderCell) + 1)), \"\", (INDEX('Server Questionnaire'!$6:$6,1,6*(ROW(A362)-1)+COLUMN(ServerHeaderCell) + 1)))","v":""}]
[{"$f":"IF(ISBLANK(INDEX('App Questionnaire'!$10:$10,1,2*(ROW(A363)-1)+COLUMN(AppHeaderCell) + 1)), \"\", (INDEX('App Questionnaire'!$10:$10,1,2*(ROW(A363)-1)+COLUMN(AppHeaderCell) + 1)))","v":""},{"$f":"IF(ISBLANK(INDEX('App Questionnaire'!$6:$6,1,2*(ROW(A363)-1)+COLUMN(AppHeaderCell) + 1)), \"\", (INDEX('App Questionnaire'!$6:$6,1,2*(ROW(A363)-1)+COLUMN(AppHeaderCell) + 1)))","v":""},"",{"$f":"IF(ISBLANK(INDEX('Server Questionnaire'!$6:$6,1,6*(ROW(A363)-1)+COLUMN(ServerHeaderCell) + 1)), \"\", (INDEX('Server Questionnaire'!$6:$6,1,6*(ROW(A363)-1)+COLUMN(ServerHeaderCell) + 1)))","v":""}]
[{"$f":"IF(ISBLANK(INDEX('App Questionnaire'!$10:$10,1,2*(ROW(A364)-1)+COLUMN(AppHeaderCell) + 1)), \"\", (INDEX('App Questionnaire'!$10:$10,1,2*(ROW(A364)-1)+COLUMN(AppHeaderCell) + 1)))","v":""},{"$f":"IF(ISBLANK(INDEX('App Questionnaire'!$6:$6,1,2*(ROW(A364)-1)+COLUMN(AppHeaderCell) + 1)), \"\", (INDEX('App Questionnaire'!$6:$6,1,2*(ROW(A364)-1)+COLUMN(AppHeaderCell) + 1)))","v":""},"",{"$f":"IF(ISBLANK(INDEX('Server Questionnaire'!$6:$6,1,6*(ROW(A364)-1)+COLUMN(ServerHeaderCell) + 1)), \"\", (INDEX('Server Questionnaire'!$6:$6,1,6*(ROW(A364)-1)+COLUMN(ServerHeaderCell) + 1)))","v":""}]
[{"$f":"IF(ISBLANK(INDEX('App Questionnaire'!$10:$10,1,2*(ROW(A365)-1)+COLUMN(AppHeaderCell) + 1)), \"\", (INDEX('App Questionnaire'!$10:$10,1,2*(ROW(A365)-1)+COLUMN(AppHeaderCell) + 1)))","v":""},{"$f":"IF(ISBLANK(INDEX('App Questionnaire'!$6:$6,1,2*(ROW(A365)-1)+COLUMN(AppHeaderCell) + 1)), \"\", (INDEX('App Questionnaire'!$6:$6,1,2*(ROW(A365)-1)+COLUMN(AppHeaderCell) + 1)))","v":""},"",{"$f":"IF(ISBLANK(INDEX('Server Questionnaire'!$6:$6,1,6*(ROW(A365)-1)+COLUMN(ServerHeaderCell) + 1)), \"\", (INDEX('Server Questionnaire'!$6:$6,1,6*(ROW(A365)-1)+COLUMN(ServerHeaderCell) + 1)))","v":""}]
[{"$f":"IF(ISBLANK(INDEX('App Questionnaire'!$10:$10,1,2*(ROW(A366)-1)+COLUMN(AppHeaderCell) + 1)), \"\", (INDEX('App Questionnaire'!$10:$10,1,2*(ROW(A366)-1)+COLUMN(AppHeaderCell) + 1)))","v":""},{"$f":"IF(ISBLANK(INDEX('App Questionnaire'!$6:$6,1,2*(ROW(A366)-1)+COLUMN(AppHeaderCell) + 1)), \"\", (INDEX('App Questionnaire'!$6:$6,1,2*(ROW(A366)-1)+COLUMN(AppHeaderCell) + 1)))","v":""},"",{"$f":"IF(ISBLANK(INDEX('Server Questionnaire'!$6:$6,1,6*(ROW(A366)-1)+COLUMN(ServerHeaderCell) + 1)), \"\", (INDEX('Server Questionnaire'!$6:$6,1,6*(ROW(A366)-1)+COLUMN(ServerHeaderCell) + 1)))","v":""}]
[{"$f":"IF(ISBLANK(INDEX('App Questionnaire'!$10:$10,1,2*(ROW(A367)-1)+COLUMN(AppHeaderCell) + 1)), \"\", (INDEX('App Questionnaire'!$10:$10,1,2*(ROW(A367)-1)+COLUMN(AppHeaderCell) + 1)))","v":""},{"$f":"IF(ISBLANK(INDEX('App Questionnaire'!$6:$6,1,2*(ROW(A367)-1)+COLUMN(AppHeaderCell) + 1)), \"\", (INDEX('App Questionnaire'!$6:$6,1,2*(ROW(A367)-1)+COLUMN(AppHeaderCell) + 1)))","v":""},"",{"$f":"IF(ISBLANK(INDEX('Server Questionnaire'!$6:$6,1,6*(ROW(A367)-1)+COLUMN(ServerHeaderCell) + 1)), \"\", (INDEX('Server Questionnaire'!$6:$6,1,6*(ROW(A367)-1)+COLUMN(ServerHeaderCell) + 1)))","v":""}]
[{"$f":"IF(ISBLANK(INDEX('App Questionnaire'!$10:$10,1,2*(ROW(A368)-1)+COLUMN(AppHeaderCell) + 1)), \"\", (INDEX('App Questionnaire'!$10:$10,1,2*(ROW(A368)-1)+COLUMN(AppHeaderCell) + 1)))","v":""},{"$f":"IF(ISBLANK(INDEX('App Questionnaire'!$6:$6,1,2*(ROW(A368)-1)+COLUMN(AppHeaderCell) + 1)), \"\", (INDEX('App Questionnaire'!$6:$6,1,2*(ROW(A368)-1)+COLUMN(AppHeaderCell) + 1)))","v":""},"",{"$f":"IF(ISBLANK(INDEX('Server Questionnaire'!$6:$6,1,6*(ROW(A368)-1)+COLUMN(ServerHeaderCell) + 1)), \"\", (INDEX('Server Questionnaire'!$6:$6,1,6*(ROW(A368)-1)+COLUMN(ServerHeaderCell) + 1)))","v":""}]
[{"$f":"IF(ISBLANK(INDEX('App Questionnaire'!$10:$10,1,2*(ROW(A369)-1)+COLUMN(AppHeaderCell) + 1)), \"\", (INDEX('App Questionnaire'!$10:$10,1,2*(ROW(A369)-1)+COLUMN(AppHeaderCell) + 1)))","v":""},{"$f":"IF(ISBLANK(INDEX('App Questionnaire'!$6:$6,1,2*(ROW(A369)-1)+COLUMN(AppHeaderCell) + 1)), \"\", (INDEX('App Questionnaire'!$6:$6,1,2*(ROW(A369)-1)+COLUMN(AppHeaderCell) + 1)))","v":""},"",{"$f":"IF(ISBLANK(INDEX('Server Questionnaire'!$6:$6,1,6*(ROW(A369)-1)+COLUMN(ServerHeaderCell) + 1)), \"\", (INDEX('Server Questionnaire'!$6:$6,1,6*(ROW(A369)-1)+COLUMN(ServerHeaderCell) + 1)))","v":""}]
[{"$f":"IF(ISBLANK(INDEX('App Questionnaire'!$10:$10,1,2*(ROW(A370)-1)+COLUMN(AppHeaderCell) + 1)), \"\", (INDEX('App Questionnaire'!$10:$10,1,2*(ROW(A370)-1)+COLUMN(AppHeaderCell) + 1)))","v":""},{"$f":"IF(ISBLANK(INDEX('App Questionnaire'!$6:$6,1,2*(ROW(A370)-1)+COLUMN(AppHeaderCell) + 1)), \"\", (INDEX('App Questionnaire'!$6:$6,1,2*(ROW(A370)-1)+COLUMN(AppHeaderCell) + 1)))","v":""},"",{"$f":"IF(ISBLANK(INDEX('Server Questionnaire'!$6:$6,1,6*(ROW(A370)-1)+COLUMN(ServerHeaderCell) + 1)), \"\", (INDEX('Server Questionnaire'!$6:$6,1,6*(ROW(A370)-1)+COLUMN(ServerHeaderCell) + 1)))","v":""}]
[{"$f":"IF(ISBLANK(INDEX('App Questionnaire'!$10:$10,1,2*(ROW(A371)-1)+COLUMN(AppHeaderCell) + 1)), \"\", (INDEX('App Questionnaire'!$10:$10,1,2*(ROW(A371)-1)+COLUMN(AppHeaderCell) + 1)))","v":""},{"$f":"IF(ISBLANK(INDEX('App Questionnaire'!$6:$6,1,2*(ROW(A371)-1)+COLUMN(AppHeaderCell) + 1)), \"\", (INDEX('App Questionnaire'!$6:$6,1,2*(ROW(A371)-1)+COLUMN(AppHeaderCell) + 1)))","v":""},"",{"$f":"IF(ISBLANK(INDEX('Server Questionnaire'!$6:$6,1,6*(ROW(A371)-1)+COLUMN(ServerHeaderCell) + 1)), \"\", (INDEX('Server Questionnaire'!$6:$6,1,6*(ROW(A371)-1)+COLUMN(ServerHeaderCell) + 1)))","v":""}]
[{"$f":"IF(ISBLANK(INDEX('App Questionnaire'!$10:$10,1,2*(ROW(A372)-1)+COLUMN(AppHeaderCell) + 1)), \"\", (INDEX('App Questionnaire'!$10:$10,1,2*(ROW(A372)-1)+COLUMN(AppHeaderCell) + 1)))","v":""},{"$f":"IF(ISBLANK(INDEX('App Questionnaire'!$6:$6,1,2*(ROW(A372)-1)+COLUMN(AppHeaderCell) + 1)), \"\", (INDEX('App Questionnaire'!$6:$6,1,2*(ROW(A372)-1)+COLUMN(AppHeaderCell) + 1)))","v":""},"",{"$f":"IF(ISBLANK(INDEX('Server Questionnaire'!$6:$6,1,6*(ROW(A372)-1)+COLUMN(ServerHeaderCell) + 1)), \"\", (INDEX('Server Questionnaire'!$6:$6,1,6*(ROW(A372)-1)+COLUMN(ServerHeaderCell) + 1)))","v":""}]
[{"$f":"IF(ISBLANK(INDEX('App Questionnaire'!$10:$10,1,2*(ROW(A373)-1)+COLUMN(AppHeaderCell) + 1)), \"\", (INDEX('App Questionnaire'!$10:$10,1,2*(ROW(A373)-1)+COLUMN(AppHeaderCell) + 1)))","v":""},{"$f":"IF(ISBLANK(INDEX('App Questionnaire'!$6:$6,1,2*(ROW(A373)-1)+COLUMN(AppHeaderCell) + 1)), \"\", (INDEX('App Questionnaire'!$6:$6,1,2*(ROW(A373)-1)+COLUMN(AppHeaderCell) + 1)))","v":""},"",{"$f":"IF(ISBLANK(INDEX('Server Questionnaire'!$6:$6,1,6*(ROW(A373)-1)+COLUMN(ServerHeaderCell) + 1)), \"\", (INDEX('Server Questionnaire'!$6:$6,1,6*(ROW(A373)-1)+COLUMN(ServerHeaderCell) + 1)))","v":""}]
[{"$f":"IF(ISBLANK(INDEX('App Questionnaire'!$10:$10,1,2*(ROW(A374)-1)+COLUMN(AppHeaderCell) + 1)), \"\", (INDEX('App Questionnaire'!$10:$10,1,2*(ROW(A374)-1)+COLUMN(AppHeaderCell) + 1)))","v":""},{"$f":"IF(ISBLANK(INDEX('App Questionnaire'!$6:$6,1,2*(ROW(A374)-1)+COLUMN(AppHeaderCell) + 1)), \"\", (INDEX('App Questionnaire'!$6:$6,1,2*(ROW(A374)-1)+COLUMN(AppHeaderCell) + 1)))","v":""},"",{"$f":"IF(ISBLANK(INDEX('Server Questionnaire'!$6:$6,1,6*(ROW(A374)-1)+COLUMN(ServerHeaderCell) + 1)), \"\", (INDEX('Server Questionnaire'!$6:$6,1,6*(ROW(A374)-1)+COLUMN(ServerHeaderCell) + 1)))","v":""}]
[{"$f":"IF(ISBLANK(INDEX('App Questionnaire'!$10:$10,1,2*(ROW(A375)-1)+COLUMN(AppHeaderCell) + 1)), \"\", (INDEX('App Questionnaire'!$10:$10,1,2*(ROW(A375)-1)+COLUMN(AppHeaderCell) + 1)))","v":""},{"$f":"IF(ISBLANK(INDEX('App Questionnaire'!$6:$6,1,2*(ROW(A375)-1)+COLUMN(AppHeaderCell) + 1)), \"\", (INDEX('App Questionnaire'!$6:$6,1,2*(ROW(A375)-1)+COLUMN(AppHeaderCell) + 1)))","v":""},"",{"$f":"IF(ISBLANK(INDEX('Server Questionnaire'!$6:$6,1,6*(ROW(A375)-1)+COLUMN(ServerHeaderCell) + 1)), \"\", (INDEX('Server Questionnaire'!$6:$6,1,6*(ROW(A375)-1)+COLUMN(ServerHeaderCell) + 1)))","v":""}]
[{"$f":"IF(ISBLANK(INDEX('App Questionnaire'!$10:$10,1,2*(ROW(A376)-1)+COLUMN(AppHeaderCell) + 1)), \"\", (INDEX('App Questionnaire'!$10:$10,1,2*(ROW(A376)-1)+COLUMN(AppHeaderCell) + 1)))","v":""},{"$f":"IF(ISBLANK(INDEX('App Questionnaire'!$6:$6,1,2*(ROW(A376)-1)+COLUMN(AppHeaderCell) + 1)), \"\", (INDEX('App Questionnaire'!$6:$6,1,2*(ROW(A376)-1)+COLUMN(AppHeaderCell) + 1)))","v":""},"",{"$f":"IF(ISBLANK(INDEX('Server Questionnaire'!$6:$6,1,6*(ROW(A376)-1)+COLUMN(ServerHeaderCell) + 1)), \"\", (INDEX('Server Questionnaire'!$6:$6,1,6*(ROW(A376)-1)+COLUMN(ServerHeaderCell) + 1)))","v":""}]
[{"$f":"IF(ISBLANK(INDEX('App Questionnaire'!$10:$10,1,2*(ROW(A377)-1)+COLUMN(AppHeaderCell) + 1)), \"\", (INDEX('App Questionnaire'!$10:$10,1,2*(ROW(A377)-1)+COLUMN(AppHeaderCell) + 1)))","v":""},{"$f":"IF(ISBLANK(INDEX('App Questionnaire'!$6:$6,1,2*(ROW(A377)-1)+COLUMN(AppHeaderCell) + 1)), \"\", (INDEX('App Questionnaire'!$6:$6,1,2*(ROW(A377)-1)+COLUMN(AppHeaderCell) + 1)))","v":""},"",{"$f":"IF(ISBLANK(INDEX('Server Questionnaire'!$6:$6,1,6*(ROW(A377)-1)+COLUMN(ServerHeaderCell) + 1)), \"\", (INDEX('Server Questionnaire'!$6:$6,1,6*(ROW(A377)-1)+COLUMN(ServerHeaderCell) + 1)))","v":""}]
[{"$f":"IF(ISBLANK(INDEX('App Questionnaire'!$10:$10,1,2*(ROW(A378)-1)+COLUMN(AppHeaderCell) + 1)), \"\", (INDEX('App Questionnaire'!$10:$10,1,2*(ROW(A378)-1)+COLUMN(AppHeaderCell) + 1)))","v":""},{"$f":"IF(ISBLANK(INDEX('App Questionnaire'!$6:$6,1,2*(ROW(A378)-1)+COLUMN(AppHeaderCell) + 1)), \"\", (INDEX('App Questionnaire'!$6:$6,1,2*(ROW(A378)-1)+COLUMN(AppHeaderCell) + 1)))","v":""},"",{"$f":"IF(ISBLANK(INDEX('Server Questionnaire'!$6:$6,1,6*(ROW(A378)-1)+COLUMN(ServerHeaderCell) + 1)), \"\", (INDEX('Server Questionnaire'!$6:$6,1,6*(ROW(A378)-1)+COLUMN(ServerHeaderCell) + 1)))","v":""}]
[{"$f":"IF(ISBLANK(INDEX('App Questionnaire'!$10:$10,1,2*(ROW(A379)-1)+COLUMN(AppHeaderCell) + 1)), \"\", (INDEX('App Questionnaire'!$10:$10,1,2*(ROW(A379)-1)+COLUMN(AppHeaderCell) + 1)))","v":""},{"$f":"IF(ISBLANK(INDEX('App Questionnaire'!$6:$6,1,2*(ROW(A379)-1)+COLUMN(AppHeaderCell) + 1)), \"\", (INDEX('App Questionnaire'!$6:$6,1,2*(ROW(A379)-1)+COLUMN(AppHeaderCell) + 1)))","v":""},"",{"$f":"IF(ISBLANK(INDEX('Server Questionnaire'!$6:$6,1,6*(ROW(A379)-1)+COLUMN(ServerHeaderCell) + 1)), \"\", (INDEX('Server Questionnaire'!$6:$6,1,6*(ROW(A379)-1)+COLUMN(ServerHeaderCell) + 1)))","v":""}]
[{"$f":"IF(ISBLANK(INDEX('App Questionnaire'!$10:$10,1,2*(ROW(A380)-1)+COLUMN(AppHeaderCell) + 1)), \"\", (INDEX('App Questionnaire'!$10:$10,1,2*(ROW(A380)-1)+COLUMN(AppHeaderCell) + 1)))","v":""},{"$f":"IF(ISBLANK(INDEX('App Questionnaire'!$6:$6,1,2*(ROW(A380)-1)+COLUMN(AppHeaderCell) + 1)), \"\", (INDEX('App Questionnaire'!$6:$6,1,2*(ROW(A380)-1)+COLUMN(AppHeaderCell) + 1)))","v":""},"",{"$f":"IF(ISBLANK(INDEX('Server Questionnaire'!$6:$6,1,6*(ROW(A380)-1)+COLUMN(ServerHeaderCell) + 1)), \"\", (INDEX('Server Questionnaire'!$6:$6,1,6*(ROW(A380)-1)+COLUMN(ServerHeaderCell) + 1)))","v":""}]
[{"$f":"IF(ISBLANK(INDEX('App Questionnaire'!$10:$10,1,2*(ROW(A381)-1)+COLUMN(AppHeaderCell) + 1)), \"\", (INDEX('App Questionnaire'!$10:$10,1,2*(ROW(A381)-1)+COLUMN(AppHeaderCell) + 1)))","v":""},{"$f":"IF(ISBLANK(INDEX('App Questionnaire'!$6:$6,1,2*(ROW(A381)-1)+COLUMN(AppHeaderCell) + 1)), \"\", (INDEX('App Questionnaire'!$6:$6,1,2*(ROW(A381)-1)+COLUMN(AppHeaderCell) + 1)))","v":""},"",{"$f":"IF(ISBLANK(INDEX('Server Questionnaire'!$6:$6,1,6*(ROW(A381)-1)+COLUMN(ServerHeaderCell) + 1)), \"\", (INDEX('Server Questionnaire'!$6:$6,1,6*(ROW(A381)-1)+COLUMN(ServerHeaderCell) + 1)))","v":""}]
[{"$f":"IF(ISBLANK(INDEX('App Questionnaire'!$10:$10,1,2*(ROW(A382)-1)+COLUMN(AppHeaderCell) + 1)), \"\", (INDEX('App Questionnaire'!$10:$10,1,2*(ROW(A382)-1)+COLUMN(AppHeaderCell) + 1)))","v":""},{"$f":"IF(ISBLANK(INDEX('App Questionnaire'!$6:$6,1,2*(ROW(A382)-1)+COLUMN(AppHeaderCell) + 1)), \"\", (INDEX('App Questionnaire'!$6:$6,1,2*(ROW(A382)-1)+COLUMN(AppHeaderCell) + 1)))","v":""},"",{"$f":"IF(ISBLANK(INDEX('Server Questionnaire'!$6:$6,1,6*(ROW(A382)-1)+COLUMN(ServerHeaderCell) + 1)), \"\", (INDEX('Server Questionnaire'!$6:$6,1,6*(ROW(A382)-1)+COLUMN(ServerHeaderCell) + 1)))","v":""}]
[{"$f":"IF(ISBLANK(INDEX('App Questionnaire'!$10:$10,1,2*(ROW(A383)-1)+COLUMN(AppHeaderCell) + 1)), \"\", (INDEX('App Questionnaire'!$10:$10,1,2*(ROW(A383)-1)+COLUMN(AppHeaderCell) + 1)))","v":""},{"$f":"IF(ISBLANK(INDEX('App Questionnaire'!$6:$6,1,2*(ROW(A383)-1)+COLUMN(AppHeaderCell) + 1)), \"\", (INDEX('App Questionnaire'!$6:$6,1,2*(ROW(A383)-1)+COLUMN(AppHeaderCell) + 1)))","v":""},"",{"$f":"IF(ISBLANK(INDEX('Server Questionnaire'!$6:$6,1,6*(ROW(A383)-1)+COLUMN(ServerHeaderCell) + 1)), \"\", (INDEX('Server Questionnaire'!$6:$6,1,6*(ROW(A383)-1)+COLUMN(ServerHeaderCell) + 1)))","v":""}]
[{"$f":"IF(ISBLANK(INDEX('App Questionnaire'!$10:$10,1,2*(ROW(A384)-1)+COLUMN(AppHeaderCell) + 1)), \"\", (INDEX('App Questionnaire'!$10:$10,1,2*(ROW(A384)-1)+COLUMN(AppHeaderCell) + 1)))","v":""},{"$f":"IF(ISBLANK(INDEX('App Questionnaire'!$6:$6,1,2*(ROW(A384)-1)+COLUMN(AppHeaderCell) + 1)), \"\", (INDEX('App Questionnaire'!$6:$6,1,2*(ROW(A384)-1)+COLUMN(AppHeaderCell) + 1)))","v":""},"",{"$f":"IF(ISBLANK(INDEX('Server Questionnaire'!$6:$6,1,6*(ROW(A384)-1)+COLUMN(ServerHeaderCell) + 1)), \"\", (INDEX('Server Questionnaire'!$6:$6,1,6*(ROW(A384)-1)+COLUMN(ServerHeaderCell) + 1)))","v":""}]
[{"$f":"IF(ISBLANK(INDEX('App Questionnaire'!$10:$10,1,2*(ROW(A385)-1)+COLUMN(AppHeaderCell) + 1)), \"\", (INDEX('App Questionnaire'!$10:$10,1,2*(ROW(A385)-1)+COLUMN(AppHeaderCell) + 1)))","v":""},{"$f":"IF(ISBLANK(INDEX('App Questionnaire'!$6:$6,1,2*(ROW(A385)-1)+COLUMN(AppHeaderCell) + 1)), \"\", (INDEX('App Questionnaire'!$6:$6,1,2*(ROW(A385)-1)+COLUMN(AppHeaderCell) + 1)))","v":""},"",{"$f":"IF(ISBLANK(INDEX('Server Questionnaire'!$6:$6,1,6*(ROW(A385)-1)+COLUMN(ServerHeaderCell) + 1)), \"\", (INDEX('Server Questionnaire'!$6:$6,1,6*(ROW(A385)-1)+COLUMN(ServerHeaderCell) + 1)))","v":""}]
[{"$f":"IF(ISBLANK(INDEX('App Questionnaire'!$10:$10,1,2*(ROW(A386)-1)+COLUMN(AppHeaderCell) + 1)), \"\", (INDEX('App Questionnaire'!$10:$10,1,2*(ROW(A386)-1)+COLUMN(AppHeaderCell) + 1)))","v":""},{"$f":"IF(ISBLANK(INDEX('App Questionnaire'!$6:$6,1,2*(ROW(A386)-1)+COLUMN(AppHeaderCell) + 1)), \"\", (INDEX('App Questionnaire'!$6:$6,1,2*(ROW(A386)-1)+COLUMN(AppHeaderCell) + 1)))","v":""},"",{"$f":"IF(ISBLANK(INDEX('Server Questionnaire'!$6:$6,1,6*(ROW(A386)-1)+COLUMN(ServerHeaderCell) + 1)), \"\", (INDEX('Server Questionnaire'!$6:$6,1,6*(ROW(A386)-1)+COLUMN(ServerHeaderCell) + 1)))","v":""}]
[{"$f":"IF(ISBLANK(INDEX('App Questionnaire'!$10:$10,1,2*(ROW(A387)-1)+COLUMN(AppHeaderCell) + 1)), \"\", (INDEX('App Questionnaire'!$10:$10,1,2*(ROW(A387)-1)+COLUMN(AppHeaderCell) + 1)))","v":""},{"$f":"IF(ISBLANK(INDEX('App Questionnaire'!$6:$6,1,2*(ROW(A387)-1)+COLUMN(AppHeaderCell) + 1)), \"\", (INDEX('App Questionnaire'!$6:$6,1,2*(ROW(A387)-1)+COLUMN(AppHeaderCell) + 1)))","v":""},{"$f":" IF(B387 = \"\", \"\", B387 & \" - \" & A387)","v":""},{"$f":"IF(ISBLANK(INDEX('Server Questionnaire'!$6:$6,1,6*(ROW(A387)-1)+COLUMN(ServerHeaderCell) + 1)), \"\", (INDEX('Server Questionnaire'!$6:$6,1,6*(ROW(A387)-1)+COLUMN(ServerHeaderCell) + 1)))","v":""}]
[{"$f":"IF(ISBLANK(INDEX('App Questionnaire'!$10:$10,1,2*(ROW(A388)-1)+COLUMN(AppHeaderCell) + 1)), \"\", (INDEX('App Questionnaire'!$10:$10,1,2*(ROW(A388)-1)+COLUMN(AppHeaderCell) + 1)))","v":""},{"$f":"IF(ISBLANK(INDEX('App Questionnaire'!$6:$6,1,2*(ROW(A388)-1)+COLUMN(AppHeaderCell) + 1)), \"\", (INDEX('App Questionnaire'!$6:$6,1,2*(ROW(A388)-1)+COLUMN(AppHeaderCell) + 1)))","v":""},"",{"$f":"IF(ISBLANK(INDEX('Server Questionnaire'!$6:$6,1,6*(ROW(A388)-1)+COLUMN(ServerHeaderCell) + 1)), \"\", (INDEX('Server Questionnaire'!$6:$6,1,6*(ROW(A388)-1)+COLUMN(ServerHeaderCell) + 1)))","v":""}]
[{"$f":"IF(ISBLANK(INDEX('App Questionnaire'!$10:$10,1,2*(ROW(A389)-1)+COLUMN(AppHeaderCell) + 1)), \"\", (INDEX('App Questionnaire'!$10:$10,1,2*(ROW(A389)-1)+COLUMN(AppHeaderCell) + 1)))","v":""},{"$f":"IF(ISBLANK(INDEX('App Questionnaire'!$6:$6,1,2*(ROW(A389)-1)+COLUMN(AppHeaderCell) + 1)), \"\", (INDEX('App Questionnaire'!$6:$6,1,2*(ROW(A389)-1)+COLUMN(AppHeaderCell) + 1)))","v":""},"",{"$f":"IF(ISBLANK(INDEX('Server Questionnaire'!$6:$6,1,6*(ROW(A389)-1)+COLUMN(ServerHeaderCell) + 1)), \"\", (INDEX('Server Questionnaire'!$6:$6,1,6*(ROW(A389)-1)+COLUMN(ServerHeaderCell) + 1)))","v":""}]
[{"$f":"IF(ISBLANK(INDEX('App Questionnaire'!$10:$10,1,2*(ROW(A390)-1)+COLUMN(AppHeaderCell) + 1)), \"\", (INDEX('App Questionnaire'!$10:$10,1,2*(ROW(A390)-1)+COLUMN(AppHeaderCell) + 1)))","v":""},{"$f":"IF(ISBLANK(INDEX('App Questionnaire'!$6:$6,1,2*(ROW(A390)-1)+COLUMN(AppHeaderCell) + 1)), \"\", (INDEX('App Questionnaire'!$6:$6,1,2*(ROW(A390)-1)+COLUMN(AppHeaderCell) + 1)))","v":""},"",{"$f":"IF(ISBLANK(INDEX('Server Questionnaire'!$6:$6,1,6*(ROW(A390)-1)+COLUMN(ServerHeaderCell) + 1)), \"\", (INDEX('Server Questionnaire'!$6:$6,1,6*(ROW(A390)-1)+COLUMN(ServerHeaderCell) + 1)))","v":""}]
[{"$f":"IF(ISBLANK(INDEX('App Questionnaire'!$10:$10,1,2*(ROW(A391)-1)+COLUMN(AppHeaderCell) + 1)), \"\", (INDEX('App Questionnaire'!$10:$10,1,2*(ROW(A391)-1)+COLUMN(AppHeaderCell) + 1)))","v":""},{"$f":"IF(ISBLANK(INDEX('App Questionnaire'!$6:$6,1,2*(ROW(A391)-1)+COLUMN(AppHeaderCell) + 1)), \"\", (INDEX('App Questionnaire'!$6:$6,1,2*(ROW(A391)-1)+COLUMN(AppHeaderCell) + 1)))","v":""},"",{"$f":"IF(ISBLANK(INDEX('Server Questionnaire'!$6:$6,1,6*(ROW(A391)-1)+COLUMN(ServerHeaderCell) + 1)), \"\", (INDEX('Server Questionnaire'!$6:$6,1,6*(ROW(A391)-1)+COLUMN(ServerHeaderCell) + 1)))","v":""}]
[{"$f":"IF(ISBLANK(INDEX('App Questionnaire'!$10:$10,1,2*(ROW(A392)-1)+COLUMN(AppHeaderCell) + 1)), \"\", (INDEX('App Questionnaire'!$10:$10,1,2*(ROW(A392)-1)+COLUMN(AppHeaderCell) + 1)))","v":""},{"$f":"IF(ISBLANK(INDEX('App Questionnaire'!$6:$6,1,2*(ROW(A392)-1)+COLUMN(AppHeaderCell) + 1)), \"\", (INDEX('App Questionnaire'!$6:$6,1,2*(ROW(A392)-1)+COLUMN(AppHeaderCell) + 1)))","v":""},"",{"$f":"IF(ISBLANK(INDEX('Server Questionnaire'!$6:$6,1,6*(ROW(A392)-1)+COLUMN(ServerHeaderCell) + 1)), \"\", (INDEX('Server Questionnaire'!$6:$6,1,6*(ROW(A392)-1)+COLUMN(ServerHeaderCell) + 1)))","v":""}]
[{"$f":"IF(ISBLANK(INDEX('App Questionnaire'!$10:$10,1,2*(ROW(A393)-1)+COLUMN(AppHeaderCell) + 1)), \"\", (INDEX('App Questionnaire'!$10:$10,1,2*(ROW(A393)-1)+COLUMN(AppHeaderCell) + 1)))","v":""},{"$f":"IF(ISBLANK(INDEX('App Questionnaire'!$6:$6,1,2*(ROW(A393)-1)+COLUMN(AppHeaderCell) + 1)), \"\", (INDEX('App Questionnaire'!$6:$6,1,2*(ROW(A393)-1)+COLUMN(AppHeaderCell) + 1)))","v":""},"",{"$f":"IF(ISBLANK(INDEX('Server Questionnaire'!$6:$6,1,6*(ROW(A393)-1)+COLUMN(ServerHeaderCell) + 1)), \"\", (INDEX('Server Questionnaire'!$6:$6,1,6*(ROW(A393)-1)+COLUMN(ServerHeaderCell) + 1)))","v":""}]
[{"$f":"IF(ISBLANK(INDEX('App Questionnaire'!$10:$10,1,2*(ROW(A394)-1)+COLUMN(AppHeaderCell) + 1)), \"\", (INDEX('App Questionnaire'!$10:$10,1,2*(ROW(A394)-1)+COLUMN(AppHeaderCell) + 1)))","v":""},{"$f":"IF(ISBLANK(INDEX('App Questionnaire'!$6:$6,1,2*(ROW(A394)-1)+COLUMN(AppHeaderCell) + 1)), \"\", (INDEX('App Questionnaire'!$6:$6,1,2*(ROW(A394)-1)+COLUMN(AppHeaderCell) + 1)))","v":""},"",{"$f":"IF(ISBLANK(INDEX('Server Questionnaire'!$6:$6,1,6*(ROW(A394)-1)+COLUMN(ServerHeaderCell) + 1)), \"\", (INDEX('Server Questionnaire'!$6:$6,1,6*(ROW(A394)-1)+COLUMN(ServerHeaderCell) + 1)))","v":""}]
[{"$f":"IF(ISBLANK(INDEX('App Questionnaire'!$10:$10,1,2*(ROW(A395)-1)+COLUMN(AppHeaderCell) + 1)), \"\", (INDEX('App Questionnaire'!$10:$10,1,2*(ROW(A395)-1)+COLUMN(AppHeaderCell) + 1)))","v":""},{"$f":"IF(ISBLANK(INDEX('App Questionnaire'!$6:$6,1,2*(ROW(A395)-1)+COLUMN(AppHeaderCell) + 1)), \"\", (INDEX('App Questionnaire'!$6:$6,1,2*(ROW(A395)-1)+COLUMN(AppHeaderCell) + 1)))","v":""},"",{"$f":"IF(ISBLANK(INDEX('Server Questionnaire'!$6:$6,1,6*(ROW(A395)-1)+COLUMN(ServerHeaderCell) + 1)), \"\", (INDEX('Server Questionnaire'!$6:$6,1,6*(ROW(A395)-1)+COLUMN(ServerHeaderCell) + 1)))","v":""}]
[{"$f":"IF(ISBLANK(INDEX('App Questionnaire'!$10:$10,1,2*(ROW(A396)-1)+COLUMN(AppHeaderCell) + 1)), \"\", (INDEX('App Questionnaire'!$10:$10,1,2*(ROW(A396)-1)+COLUMN(AppHeaderCell) + 1)))","v":""},{"$f":"IF(ISBLANK(INDEX('App Questionnaire'!$6:$6,1,2*(ROW(A396)-1)+COLUMN(AppHeaderCell) + 1)), \"\", (INDEX('App Questionnaire'!$6:$6,1,2*(ROW(A396)-1)+COLUMN(AppHeaderCell) + 1)))","v":""},"",{"$f":"IF(ISBLANK(INDEX('Server Questionnaire'!$6:$6,1,6*(ROW(A396)-1)+COLUMN(ServerHeaderCell) + 1)), \"\", (INDEX('Server Questionnaire'!$6:$6,1,6*(ROW(A396)-1)+COLUMN(ServerHeaderCell) + 1)))","v":""}]
[{"$f":"IF(ISBLANK(INDEX('App Questionnaire'!$10:$10,1,2*(ROW(A397)-1)+COLUMN(AppHeaderCell) + 1)), \"\", (INDEX('App Questionnaire'!$10:$10,1,2*(ROW(A397)-1)+COLUMN(AppHeaderCell) + 1)))","v":""},{"$f":"IF(ISBLANK(INDEX('App Questionnaire'!$6:$6,1,2*(ROW(A397)-1)+COLUMN(AppHeaderCell) + 1)), \"\", (INDEX('App Questionnaire'!$6:$6,1,2*(ROW(A397)-1)+COLUMN(AppHeaderCell) + 1)))","v":""},"",{"$f":"IF(ISBLANK(INDEX('Server Questionnaire'!$6:$6,1,6*(ROW(A397)-1)+COLUMN(ServerHeaderCell) + 1)), \"\", (INDEX('Server Questionnaire'!$6:$6,1,6*(ROW(A397)-1)+COLUMN(ServerHeaderCell) + 1)))","v":""}]
[{"$f":"IF(ISBLANK(INDEX('App Questionnaire'!$10:$10,1,2*(ROW(A398)-1)+COLUMN(AppHeaderCell) + 1)), \"\", (INDEX('App Questionnaire'!$10:$10,1,2*(ROW(A398)-1)+COLUMN(AppHeaderCell) + 1)))","v":""},{"$f":"IF(ISBLANK(INDEX('App Questionnaire'!$6:$6,1,2*(ROW(A398)-1)+COLUMN(AppHeaderCell) + 1)), \"\", (INDEX('App Questionnaire'!$6:$6,1,2*(ROW(A398)-1)+COLUMN(AppHeaderCell) + 1)))","v":""},"",{"$f":"IF(ISBLANK(INDEX('Server Questionnaire'!$6:$6,1,6*(ROW(A398)-1)+COLUMN(ServerHeaderCell) + 1)), \"\", (INDEX('Server Questionnaire'!$6:$6,1,6*(ROW(A398)-1)+COLUMN(ServerHeaderCell) + 1)))","v":""}]
[{"$f":"IF(ISBLANK(INDEX('App Questionnaire'!$10:$10,1,2*(ROW(A399)-1)+COLUMN(AppHeaderCell) + 1)), \"\", (INDEX('App Questionnaire'!$10:$10,1,2*(ROW(A399)-1)+COLUMN(AppHeaderCell) + 1)))","v":""},{"$f":"IF(ISBLANK(INDEX('App Questionnaire'!$6:$6,1,2*(ROW(A399)-1)+COLUMN(AppHeaderCell) + 1)), \"\", (INDEX('App Questionnaire'!$6:$6,1,2*(ROW(A399)-1)+COLUMN(AppHeaderCell) + 1)))","v":""},"",{"$f":"IF(ISBLANK(INDEX('Server Questionnaire'!$6:$6,1,6*(ROW(A399)-1)+COLUMN(ServerHeaderCell) + 1)), \"\", (INDEX('Server Questionnaire'!$6:$6,1,6*(ROW(A399)-1)+COLUMN(ServerHeaderCell) + 1)))","v":""}]
[{"$f":"IF(ISBLANK(INDEX('App Questionnaire'!$10:$10,1,2*(ROW(A400)-1)+COLUMN(AppHeaderCell) + 1)), \"\", (INDEX('App Questionnaire'!$10:$10,1,2*(ROW(A400)-1)+COLUMN(AppHeaderCell) + 1)))","v":""},{"$f":"IF(ISBLANK(INDEX('App Questionnaire'!$6:$6,1,2*(ROW(A400)-1)+COLUMN(AppHeaderCell) + 1)), \"\", (INDEX('App Questionnaire'!$6:$6,1,2*(ROW(A400)-1)+COLUMN(AppHeaderCell) + 1)))","v":""},"",{"$f":"IF(ISBLANK(INDEX('Server Questionnaire'!$6:$6,1,6*(ROW(A400)-1)+COLUMN(ServerHeaderCell) + 1)), \"\", (INDEX('Server Questionnaire'!$6:$6,1,6*(ROW(A400)-1)+COLUMN(ServerHeaderCell) + 1)))","v":""}]
[{"$f":"IF(ISBLANK(INDEX('App Questionnaire'!$10:$10,1,2*(ROW(A401)-1)+COLUMN(AppHeaderCell) + 1)), \"\", (INDEX('App Questionnaire'!$10:$10,1,2*(ROW(A401)-1)+COLUMN(AppHeaderCell) + 1)))","v":""},{"$f":"IF(ISBLANK(INDEX('App Questionnaire'!$6:$6,1,2*(ROW(A401)-1)+COLUMN(AppHeaderCell) + 1)), \"\", (INDEX('App Questionnaire'!$6:$6,1,2*(ROW(A401)-1)+COLUMN(AppHeaderCell) + 1)))","v":""},"",{"$f":"IF(ISBLANK(INDEX('Server Questionnaire'!$6:$6,1,6*(ROW(A401)-1)+COLUMN(ServerHeaderCell) + 1)), \"\", (INDEX('Server Questionnaire'!$6:$6,1,6*(ROW(A401)-1)+COLUMN(ServerHeaderCell) + 1)))","v":""}]
[{"$f":"IF(ISBLANK(INDEX('App Questionnaire'!$10:$10,1,2*(ROW(A402)-1)+COLUMN(AppHeaderCell) + 1)), \"\", (INDEX('App Questionnaire'!$10:$10,1,2*(ROW(A402)-1)+COLUMN(AppHeaderCell) + 1)))","v":""},{"$f":"IF(ISBLANK(INDEX('App Questionnaire'!$6:$6,1,2*(ROW(A402)-1)+COLUMN(AppHeaderCell) + 1)), \"\", (INDEX('App Questionnaire'!$6:$6,1,2*(ROW(A402)-1)+COLUMN(AppHeaderCell) + 1)))","v":""},"",{"$f":"IF(ISBLANK(INDEX('Server Questionnaire'!$6:$6,1,6*(ROW(A402)-1)+COLUMN(ServerHeaderCell) + 1)), \"\", (INDEX('Server Questionnaire'!$6:$6,1,6*(ROW(A402)-1)+COLUMN(ServerHeaderCell) + 1)))","v":""}]
[{"$f":"IF(ISBLANK(INDEX('App Questionnaire'!$10:$10,1,2*(ROW(A403)-1)+COLUMN(AppHeaderCell) + 1)), \"\", (INDEX('App Questionnaire'!$10:$10,1,2*(ROW(A403)-1)+COLUMN(AppHeaderCell) + 1)))","v":""},{"$f":"IF(ISBLANK(INDEX('App Questionnaire'!$6:$6,1,2*(ROW(A403)-1)+COLUMN(AppHeaderCell) + 1)), \"\", (INDEX('App Questionnaire'!$6:$6,1,2*(ROW(A403)-1)+COLUMN(AppHeaderCell) + 1)))","v":""},"",{"$f":"IF(ISBLANK(INDEX('Server Questionnaire'!$6:$6,1,6*(ROW(A403)-1)+COLUMN(ServerHeaderCell) + 1)), \"\", (INDEX('Server Questionnaire'!$6:$6,1,6*(ROW(A403)-1)+COLUMN(ServerHeaderCell) + 1)))","v":""}]
[{"$f":"IF(ISBLANK(INDEX('App Questionnaire'!$10:$10,1,2*(ROW(A404)-1)+COLUMN(AppHeaderCell) + 1)), \"\", (INDEX('App Questionnaire'!$10:$10,1,2*(ROW(A404)-1)+COLUMN(AppHeaderCell) + 1)))","v":""},{"$f":"IF(ISBLANK(INDEX('App Questionnaire'!$6:$6,1,2*(ROW(A404)-1)+COLUMN(AppHeaderCell) + 1)), \"\", (INDEX('App Questionnaire'!$6:$6,1,2*(ROW(A404)-1)+COLUMN(AppHeaderCell) + 1)))","v":""},"",{"$f":"IF(ISBLANK(INDEX('Server Questionnaire'!$6:$6,1,6*(ROW(A404)-1)+COLUMN(ServerHeaderCell) + 1)), \"\", (INDEX('Server Questionnaire'!$6:$6,1,6*(ROW(A404)-1)+COLUMN(ServerHeaderCell) + 1)))","v":""}]
[{"$f":"IF(ISBLANK(INDEX('App Questionnaire'!$10:$10,1,2*(ROW(A405)-1)+COLUMN(AppHeaderCell) + 1)), \"\", (INDEX('App Questionnaire'!$10:$10,1,2*(ROW(A405)-1)+COLUMN(AppHeaderCell) + 1)))","v":""},{"$f":"IF(ISBLANK(INDEX('App Questionnaire'!$6:$6,1,2*(ROW(A405)-1)+COLUMN(AppHeaderCell) + 1)), \"\", (INDEX('App Questionnaire'!$6:$6,1,2*(ROW(A405)-1)+COLUMN(AppHeaderCell) + 1)))","v":""},"",{"$f":"IF(ISBLANK(INDEX('Server Questionnaire'!$6:$6,1,6*(ROW(A405)-1)+COLUMN(ServerHeaderCell) + 1)), \"\", (INDEX('Server Questionnaire'!$6:$6,1,6*(ROW(A405)-1)+COLUMN(ServerHeaderCell) + 1)))","v":""}]
[{"$f":"IF(ISBLANK(INDEX('App Questionnaire'!$10:$10,1,2*(ROW(A406)-1)+COLUMN(AppHeaderCell) + 1)), \"\", (INDEX('App Questionnaire'!$10:$10,1,2*(ROW(A406)-1)+COLUMN(AppHeaderCell) + 1)))","v":""},{"$f":"IF(ISBLANK(INDEX('App Questionnaire'!$6:$6,1,2*(ROW(A406)-1)+COLUMN(AppHeaderCell) + 1)), \"\", (INDEX('App Questionnaire'!$6:$6,1,2*(ROW(A406)-1)+COLUMN(AppHeaderCell) + 1)))","v":""},"",{"$f":"IF(ISBLANK(INDEX('Server Questionnaire'!$6:$6,1,6*(ROW(A406)-1)+COLUMN(ServerHeaderCell) + 1)), \"\", (INDEX('Server Questionnaire'!$6:$6,1,6*(ROW(A406)-1)+COLUMN(ServerHeaderCell) + 1)))","v":""}]
[{"$f":"IF(ISBLANK(INDEX('App Questionnaire'!$10:$10,1,2*(ROW(A407)-1)+COLUMN(AppHeaderCell) + 1)), \"\", (INDEX('App Questionnaire'!$10:$10,1,2*(ROW(A407)-1)+COLUMN(AppHeaderCell) + 1)))","v":""},{"$f":"IF(ISBLANK(INDEX('App Questionnaire'!$6:$6,1,2*(ROW(A407)-1)+COLUMN(AppHeaderCell) + 1)), \"\", (INDEX('App Questionnaire'!$6:$6,1,2*(ROW(A407)-1)+COLUMN(AppHeaderCell) + 1)))","v":""},"",{"$f":"IF(ISBLANK(INDEX('Server Questionnaire'!$6:$6,1,6*(ROW(A407)-1)+COLUMN(ServerHeaderCell) + 1)), \"\", (INDEX('Server Questionnaire'!$6:$6,1,6*(ROW(A407)-1)+COLUMN(ServerHeaderCell) + 1)))","v":""}]
[{"$f":"IF(ISBLANK(INDEX('App Questionnaire'!$10:$10,1,2*(ROW(A408)-1)+COLUMN(AppHeaderCell) + 1)), \"\", (INDEX('App Questionnaire'!$10:$10,1,2*(ROW(A408)-1)+COLUMN(AppHeaderCell) + 1)))","v":""},{"$f":"IF(ISBLANK(INDEX('App Questionnaire'!$6:$6,1,2*(ROW(A408)-1)+COLUMN(AppHeaderCell) + 1)), \"\", (INDEX('App Questionnaire'!$6:$6,1,2*(ROW(A408)-1)+COLUMN(AppHeaderCell) + 1)))","v":""},"",{"$f":"IF(ISBLANK(INDEX('Server Questionnaire'!$6:$6,1,6*(ROW(A408)-1)+COLUMN(ServerHeaderCell) + 1)), \"\", (INDEX('Server Questionnaire'!$6:$6,1,6*(ROW(A408)-1)+COLUMN(ServerHeaderCell) + 1)))","v":""}]
[{"$f":"IF(ISBLANK(INDEX('App Questionnaire'!$10:$10,1,2*(ROW(A409)-1)+COLUMN(AppHeaderCell) + 1)), \"\", (INDEX('App Questionnaire'!$10:$10,1,2*(ROW(A409)-1)+COLUMN(AppHeaderCell) + 1)))","v":""},{"$f":"IF(ISBLANK(INDEX('App Questionnaire'!$6:$6,1,2*(ROW(A409)-1)+COLUMN(AppHeaderCell) + 1)), \"\", (INDEX('App Questionnaire'!$6:$6,1,2*(ROW(A409)-1)+COLUMN(AppHeaderCell) + 1)))","v":""},"",{"$f":"IF(ISBLANK(INDEX('Server Questionnaire'!$6:$6,1,6*(ROW(A409)-1)+COLUMN(ServerHeaderCell) + 1)), \"\", (INDEX('Server Questionnaire'!$6:$6,1,6*(ROW(A409)-1)+COLUMN(ServerHeaderCell) + 1)))","v":""}]
[{"$f":"IF(ISBLANK(INDEX('App Questionnaire'!$10:$10,1,2*(ROW(A410)-1)+COLUMN(AppHeaderCell) + 1)), \"\", (INDEX('App Questionnaire'!$10:$10,1,2*(ROW(A410)-1)+COLUMN(AppHeaderCell) + 1)))","v":""},{"$f":"IF(ISBLANK(INDEX('App Questionnaire'!$6:$6,1,2*(ROW(A410)-1)+COLUMN(AppHeaderCell) + 1)), \"\", (INDEX('App Questionnaire'!$6:$6,1,2*(ROW(A410)-1)+COLUMN(AppHeaderCell) + 1)))","v":""},"",{"$f":"IF(ISBLANK(INDEX('Server Questionnaire'!$6:$6,1,6*(ROW(A410)-1)+COLUMN(ServerHeaderCell) + 1)), \"\", (INDEX('Server Questionnaire'!$6:$6,1,6*(ROW(A410)-1)+COLUMN(ServerHeaderCell) + 1)))","v":""}]
[{"$f":"IF(ISBLANK(INDEX('App Questionnaire'!$10:$10,1,2*(ROW(A411)-1)+COLUMN(AppHeaderCell) + 1)), \"\", (INDEX('App Questionnaire'!$10:$10,1,2*(ROW(A411)-1)+COLUMN(AppHeaderCell) + 1)))","v":""},{"$f":"IF(ISBLANK(INDEX('App Questionnaire'!$6:$6,1,2*(ROW(A411)-1)+COLUMN(AppHeaderCell) + 1)), \"\", (INDEX('App Questionnaire'!$6:$6,1,2*(ROW(A411)-1)+COLUMN(AppHeaderCell) + 1)))","v":""},"",{"$f":"IF(ISBLANK(INDEX('Server Questionnaire'!$6:$6,1,6*(ROW(A411)-1)+COLUMN(ServerHeaderCell) + 1)), \"\", (INDEX('Server Questionnaire'!$6:$6,1,6*(ROW(A411)-1)+COLUMN(ServerHeaderCell) + 1)))","v":""}]
[{"$f":"IF(ISBLANK(INDEX('App Questionnaire'!$10:$10,1,2*(ROW(A412)-1)+COLUMN(AppHeaderCell) + 1)), \"\", (INDEX('App Questionnaire'!$10:$10,1,2*(ROW(A412)-1)+COLUMN(AppHeaderCell) + 1)))","v":""},{"$f":"IF(ISBLANK(INDEX('App Questionnaire'!$6:$6,1,2*(ROW(A412)-1)+COLUMN(AppHeaderCell) + 1)), \"\", (INDEX('App Questionnaire'!$6:$6,1,2*(ROW(A412)-1)+COLUMN(AppHeaderCell) + 1)))","v":""},"",{"$f":"IF(ISBLANK(INDEX('Server Questionnaire'!$6:$6,1,6*(ROW(A412)-1)+COLUMN(ServerHeaderCell) + 1)), \"\", (INDEX('Server Questionnaire'!$6:$6,1,6*(ROW(A412)-1)+COLUMN(ServerHeaderCell) + 1)))","v":""}]
[{"$f":"IF(ISBLANK(INDEX('App Questionnaire'!$10:$10,1,2*(ROW(A413)-1)+COLUMN(AppHeaderCell) + 1)), \"\", (INDEX('App Questionnaire'!$10:$10,1,2*(ROW(A413)-1)+COLUMN(AppHeaderCell) + 1)))","v":""},{"$f":"IF(ISBLANK(INDEX('App Questionnaire'!$6:$6,1,2*(ROW(A413)-1)+COLUMN(AppHeaderCell) + 1)), \"\", (INDEX('App Questionnaire'!$6:$6,1,2*(ROW(A413)-1)+COLUMN(AppHeaderCell) + 1)))","v":""},"",{"$f":"IF(ISBLANK(INDEX('Server Questionnaire'!$6:$6,1,6*(ROW(A413)-1)+COLUMN(ServerHeaderCell) + 1)), \"\", (INDEX('Server Questionnaire'!$6:$6,1,6*(ROW(A413)-1)+COLUMN(ServerHeaderCell) + 1)))","v":""}]
[{"$f":"IF(ISBLANK(INDEX('App Questionnaire'!$10:$10,1,2*(ROW(A414)-1)+COLUMN(AppHeaderCell) + 1)), \"\", (INDEX('App Questionnaire'!$10:$10,1,2*(ROW(A414)-1)+COLUMN(AppHeaderCell) + 1)))","v":""},{"$f":"IF(ISBLANK(INDEX('App Questionnaire'!$6:$6,1,2*(ROW(A414)-1)+COLUMN(AppHeaderCell) + 1)), \"\", (INDEX('App Questionnaire'!$6:$6,1,2*(ROW(A414)-1)+COLUMN(AppHeaderCell) + 1)))","v":""},"",{"$f":"IF(ISBLANK(INDEX('Server Questionnaire'!$6:$6,1,6*(ROW(A414)-1)+COLUMN(ServerHeaderCell) + 1)), \"\", (INDEX('Server Questionnaire'!$6:$6,1,6*(ROW(A414)-1)+COLUMN(ServerHeaderCell) + 1)))","v":""}]
[{"$f":"IF(ISBLANK(INDEX('App Questionnaire'!$10:$10,1,2*(ROW(A415)-1)+COLUMN(AppHeaderCell) + 1)), \"\", (INDEX('App Questionnaire'!$10:$10,1,2*(ROW(A415)-1)+COLUMN(AppHeaderCell) + 1)))","v":""},{"$f":"IF(ISBLANK(INDEX('App Questionnaire'!$6:$6,1,2*(ROW(A415)-1)+COLUMN(AppHeaderCell) + 1)), \"\", (INDEX('App Questionnaire'!$6:$6,1,2*(ROW(A415)-1)+COLUMN(AppHeaderCell) + 1)))","v":""},"",{"$f":"IF(ISBLANK(INDEX('Server Questionnaire'!$6:$6,1,6*(ROW(A415)-1)+COLUMN(ServerHeaderCell) + 1)), \"\", (INDEX('Server Questionnaire'!$6:$6,1,6*(ROW(A415)-1)+COLUMN(ServerHeaderCell) + 1)))","v":""}]
[{"$f":"IF(ISBLANK(INDEX('App Questionnaire'!$10:$10,1,2*(ROW(A416)-1)+COLUMN(AppHeaderCell) + 1)), \"\", (INDEX('App Questionnaire'!$10:$10,1,2*(ROW(A416)-1)+COLUMN(AppHeaderCell) + 1)))","v":""},{"$f":"IF(ISBLANK(INDEX('App Questionnaire'!$6:$6,1,2*(ROW(A416)-1)+COLUMN(AppHeaderCell) + 1)), \"\", (INDEX('App Questionnaire'!$6:$6,1,2*(ROW(A416)-1)+COLUMN(AppHeaderCell) + 1)))","v":""},"",{"$f":"IF(ISBLANK(INDEX('Server Questionnaire'!$6:$6,1,6*(ROW(A416)-1)+COLUMN(ServerHeaderCell) + 1)), \"\", (INDEX('Server Questionnaire'!$6:$6,1,6*(ROW(A416)-1)+COLUMN(ServerHeaderCell) + 1)))","v":""}]
[{"$f":"IF(ISBLANK(INDEX('App Questionnaire'!$10:$10,1,2*(ROW(A417)-1)+COLUMN(AppHeaderCell) + 1)), \"\", (INDEX('App Questionnaire'!$10:$10,1,2*(ROW(A417)-1)+COLUMN(AppHeaderCell) + 1)))","v":""},{"$f":"IF(ISBLANK(INDEX('App Questionnaire'!$6:$6,1,2*(ROW(A417)-1)+COLUMN(AppHeaderCell) + 1)), \"\", (INDEX('App Questionnaire'!$6:$6,1,2*(ROW(A417)-1)+COLUMN(AppHeaderCell) + 1)))","v":""},"",{"$f":"IF(ISBLANK(INDEX('Server Questionnaire'!$6:$6,1,6*(ROW(A417)-1)+COLUMN(ServerHeaderCell) + 1)), \"\", (INDEX('Server Questionnaire'!$6:$6,1,6*(ROW(A417)-1)+COLUMN(ServerHeaderCell) + 1)))","v":""}]
[{"$f":"IF(ISBLANK(INDEX('App Questionnaire'!$10:$10,1,2*(ROW(A418)-1)+COLUMN(AppHeaderCell) + 1)), \"\", (INDEX('App Questionnaire'!$10:$10,1,2*(ROW(A418)-1)+COLUMN(AppHeaderCell) + 1)))","v":""},{"$f":"IF(ISBLANK(INDEX('App Questionnaire'!$6:$6,1,2*(ROW(A418)-1)+COLUMN(AppHeaderCell) + 1)), \"\", (INDEX('App Questionnaire'!$6:$6,1,2*(ROW(A418)-1)+COLUMN(AppHeaderCell) + 1)))","v":""},"",{"$f":"IF(ISBLANK(INDEX('Server Questionnaire'!$6:$6,1,6*(ROW(A418)-1)+COLUMN(ServerHeaderCell) + 1)), \"\", (INDEX('Server Questionnaire'!$6:$6,1,6*(ROW(A418)-1)+COLUMN(ServerHeaderCell) + 1)))","v":""}]
[{"$f":"IF(ISBLANK(INDEX('App Questionnaire'!$10:$10,1,2*(ROW(A419)-1)+COLUMN(AppHeaderCell) + 1)), \"\", (INDEX('App Questionnaire'!$10:$10,1,2*(ROW(A419)-1)+COLUMN(AppHeaderCell) + 1)))","v":""},{"$f":"IF(ISBLANK(INDEX('App Questionnaire'!$6:$6,1,2*(ROW(A419)-1)+COLUMN(AppHeaderCell) + 1)), \"\", (INDEX('App Questionnaire'!$6:$6,1,2*(ROW(A419)-1)+COLUMN(AppHeaderCell) + 1)))","v":""},"",{"$f":"IF(ISBLANK(INDEX('Server Questionnaire'!$6:$6,1,6*(ROW(A419)-1)+COLUMN(ServerHeaderCell) + 1)), \"\", (INDEX('Server Questionnaire'!$6:$6,1,6*(ROW(A419)-1)+COLUMN(ServerHeaderCell) + 1)))","v":""}]
[{"$f":"IF(ISBLANK(INDEX('App Questionnaire'!$10:$10,1,2*(ROW(A420)-1)+COLUMN(AppHeaderCell) + 1)), \"\", (INDEX('App Questionnaire'!$10:$10,1,2*(ROW(A420)-1)+COLUMN(AppHeaderCell) + 1)))","v":""},{"$f":"IF(ISBLANK(INDEX('App Questionnaire'!$6:$6,1,2*(ROW(A420)-1)+COLUMN(AppHeaderCell) + 1)), \"\", (INDEX('App Questionnaire'!$6:$6,1,2*(ROW(A420)-1)+COLUMN(AppHeaderCell) + 1)))","v":""},"",{"$f":"IF(ISBLANK(INDEX('Server Questionnaire'!$6:$6,1,6*(ROW(A420)-1)+COLUMN(ServerHeaderCell) + 1)), \"\", (INDEX('Server Questionnaire'!$6:$6,1,6*(ROW(A420)-1)+COLUMN(ServerHeaderCell) + 1)))","v":""}]
[{"$f":"IF(ISBLANK(INDEX('App Questionnaire'!$10:$10,1,2*(ROW(A421)-1)+COLUMN(AppHeaderCell) + 1)), \"\", (INDEX('App Questionnaire'!$10:$10,1,2*(ROW(A421)-1)+COLUMN(AppHeaderCell) + 1)))","v":""},{"$f":"IF(ISBLANK(INDEX('App Questionnaire'!$6:$6,1,2*(ROW(A421)-1)+COLUMN(AppHeaderCell) + 1)), \"\", (INDEX('App Questionnaire'!$6:$6,1,2*(ROW(A421)-1)+COLUMN(AppHeaderCell) + 1)))","v":""},"",{"$f":"IF(ISBLANK(INDEX('Server Questionnaire'!$6:$6,1,6*(ROW(A421)-1)+COLUMN(ServerHeaderCell) + 1)), \"\", (INDEX('Server Questionnaire'!$6:$6,1,6*(ROW(A421)-1)+COLUMN(ServerHeaderCell) + 1)))","v":""}]
[{"$f":"IF(ISBLANK(INDEX('App Questionnaire'!$10:$10,1,2*(ROW(A422)-1)+COLUMN(AppHeaderCell) + 1)), \"\", (INDEX('App Questionnaire'!$10:$10,1,2*(ROW(A422)-1)+COLUMN(AppHeaderCell) + 1)))","v":""},{"$f":"IF(ISBLANK(INDEX('App Questionnaire'!$6:$6,1,2*(ROW(A422)-1)+COLUMN(AppHeaderCell) + 1)), \"\", (INDEX('App Questionnaire'!$6:$6,1,2*(ROW(A422)-1)+COLUMN(AppHeaderCell) + 1)))","v":""},"",{"$f":"IF(ISBLANK(INDEX('Server Questionnaire'!$6:$6,1,6*(ROW(A422)-1)+COLUMN(ServerHeaderCell) + 1)), \"\", (INDEX('Server Questionnaire'!$6:$6,1,6*(ROW(A422)-1)+COLUMN(ServerHeaderCell) + 1)))","v":""}]
[{"$f":"IF(ISBLANK(INDEX('App Questionnaire'!$10:$10,1,2*(ROW(A423)-1)+COLUMN(AppHeaderCell) + 1)), \"\", (INDEX('App Questionnaire'!$10:$10,1,2*(ROW(A423)-1)+COLUMN(AppHeaderCell) + 1)))","v":""},{"$f":"IF(ISBLANK(INDEX('App Questionnaire'!$6:$6,1,2*(ROW(A423)-1)+COLUMN(AppHeaderCell) + 1)), \"\", (INDEX('App Questionnaire'!$6:$6,1,2*(ROW(A423)-1)+COLUMN(AppHeaderCell) + 1)))","v":""},"",{"$f":"IF(ISBLANK(INDEX('Server Questionnaire'!$6:$6,1,6*(ROW(A423)-1)+COLUMN(ServerHeaderCell) + 1)), \"\", (INDEX('Server Questionnaire'!$6:$6,1,6*(ROW(A423)-1)+COLUMN(ServerHeaderCell) + 1)))","v":""}]
[{"$f":"IF(ISBLANK(INDEX('App Questionnaire'!$10:$10,1,2*(ROW(A424)-1)+COLUMN(AppHeaderCell) + 1)), \"\", (INDEX('App Questionnaire'!$10:$10,1,2*(ROW(A424)-1)+COLUMN(AppHeaderCell) + 1)))","v":""},{"$f":"IF(ISBLANK(INDEX('App Questionnaire'!$6:$6,1,2*(ROW(A424)-1)+COLUMN(AppHeaderCell) + 1)), \"\", (INDEX('App Questionnaire'!$6:$6,1,2*(ROW(A424)-1)+COLUMN(AppHeaderCell) + 1)))","v":""},"",{"$f":"IF(ISBLANK(INDEX('Server Questionnaire'!$6:$6,1,6*(ROW(A424)-1)+COLUMN(ServerHeaderCell) + 1)), \"\", (INDEX('Server Questionnaire'!$6:$6,1,6*(ROW(A424)-1)+COLUMN(ServerHeaderCell) + 1)))","v":""}]
[{"$f":"IF(ISBLANK(INDEX('App Questionnaire'!$10:$10,1,2*(ROW(A425)-1)+COLUMN(AppHeaderCell) + 1)), \"\", (INDEX('App Questionnaire'!$10:$10,1,2*(ROW(A425)-1)+COLUMN(AppHeaderCell) + 1)))","v":""},{"$f":"IF(ISBLANK(INDEX('App Questionnaire'!$6:$6,1,2*(ROW(A425)-1)+COLUMN(AppHeaderCell) + 1)), \"\", (INDEX('App Questionnaire'!$6:$6,1,2*(ROW(A425)-1)+COLUMN(AppHeaderCell) + 1)))","v":""},"",{"$f":"IF(ISBLANK(INDEX('Server Questionnaire'!$6:$6,1,6*(ROW(A425)-1)+COLUMN(ServerHeaderCell) + 1)), \"\", (INDEX('Server Questionnaire'!$6:$6,1,6*(ROW(A425)-1)+COLUMN(ServerHeaderCell) + 1)))","v":""}]
[{"$f":"IF(ISBLANK(INDEX('App Questionnaire'!$10:$10,1,2*(ROW(A426)-1)+COLUMN(AppHeaderCell) + 1)), \"\", (INDEX('App Questionnaire'!$10:$10,1,2*(ROW(A426)-1)+COLUMN(AppHeaderCell) + 1)))","v":""},{"$f":"IF(ISBLANK(INDEX('App Questionnaire'!$6:$6,1,2*(ROW(A426)-1)+COLUMN(AppHeaderCell) + 1)), \"\", (INDEX('App Questionnaire'!$6:$6,1,2*(ROW(A426)-1)+COLUMN(AppHeaderCell) + 1)))","v":""},"",{"$f":"IF(ISBLANK(INDEX('Server Questionnaire'!$6:$6,1,6*(ROW(A426)-1)+COLUMN(ServerHeaderCell) + 1)), \"\", (INDEX('Server Questionnaire'!$6:$6,1,6*(ROW(A426)-1)+COLUMN(ServerHeaderCell) + 1)))","v":""}]
[{"$f":"IF(ISBLANK(INDEX('App Questionnaire'!$10:$10,1,2*(ROW(A427)-1)+COLUMN(AppHeaderCell) + 1)), \"\", (INDEX('App Questionnaire'!$10:$10,1,2*(ROW(A427)-1)+COLUMN(AppHeaderCell) + 1)))","v":""},{"$f":"IF(ISBLANK(INDEX('App Questionnaire'!$6:$6,1,2*(ROW(A427)-1)+COLUMN(AppHeaderCell) + 1)), \"\", (INDEX('App Questionnaire'!$6:$6,1,2*(ROW(A427)-1)+COLUMN(AppHeaderCell) + 1)))","v":""},"",{"$f":"IF(ISBLANK(INDEX('Server Questionnaire'!$6:$6,1,6*(ROW(A427)-1)+COLUMN(ServerHeaderCell) + 1)), \"\", (INDEX('Server Questionnaire'!$6:$6,1,6*(ROW(A427)-1)+COLUMN(ServerHeaderCell) + 1)))","v":""}]
[{"$f":"IF(ISBLANK(INDEX('App Questionnaire'!$10:$10,1,2*(ROW(A428)-1)+COLUMN(AppHeaderCell) + 1)), \"\", (INDEX('App Questionnaire'!$10:$10,1,2*(ROW(A428)-1)+COLUMN(AppHeaderCell) + 1)))","v":""},{"$f":"IF(ISBLANK(INDEX('App Questionnaire'!$6:$6,1,2*(ROW(A428)-1)+COLUMN(AppHeaderCell) + 1)), \"\", (INDEX('App Questionnaire'!$6:$6,1,2*(ROW(A428)-1)+COLUMN(AppHeaderCell) + 1)))","v":""},"",{"$f":"IF(ISBLANK(INDEX('Server Questionnaire'!$6:$6,1,6*(ROW(A428)-1)+COLUMN(ServerHeaderCell) + 1)), \"\", (INDEX('Server Questionnaire'!$6:$6,1,6*(ROW(A428)-1)+COLUMN(ServerHeaderCell) + 1)))","v":""}]
[{"$f":"IF(ISBLANK(INDEX('App Questionnaire'!$10:$10,1,2*(ROW(A429)-1)+COLUMN(AppHeaderCell) + 1)), \"\", (INDEX('App Questionnaire'!$10:$10,1,2*(ROW(A429)-1)+COLUMN(AppHeaderCell) + 1)))","v":""},{"$f":"IF(ISBLANK(INDEX('App Questionnaire'!$6:$6,1,2*(ROW(A429)-1)+COLUMN(AppHeaderCell) + 1)), \"\", (INDEX('App Questionnaire'!$6:$6,1,2*(ROW(A429)-1)+COLUMN(AppHeaderCell) + 1)))","v":""},"",{"$f":"IF(ISBLANK(INDEX('Server Questionnaire'!$6:$6,1,6*(ROW(A429)-1)+COLUMN(ServerHeaderCell) + 1)), \"\", (INDEX('Server Questionnaire'!$6:$6,1,6*(ROW(A429)-1)+COLUMN(ServerHeaderCell) + 1)))","v":""}]
[{"$f":"IF(ISBLANK(INDEX('App Questionnaire'!$10:$10,1,2*(ROW(A430)-1)+COLUMN(AppHeaderCell) + 1)), \"\", (INDEX('App Questionnaire'!$10:$10,1,2*(ROW(A430)-1)+COLUMN(AppHeaderCell) + 1)))","v":""},{"$f":"IF(ISBLANK(INDEX('App Questionnaire'!$6:$6,1,2*(ROW(A430)-1)+COLUMN(AppHeaderCell) + 1)), \"\", (INDEX('App Questionnaire'!$6:$6,1,2*(ROW(A430)-1)+COLUMN(AppHeaderCell) + 1)))","v":""},"",{"$f":"IF(ISBLANK(INDEX('Server Questionnaire'!$6:$6,1,6*(ROW(A430)-1)+COLUMN(ServerHeaderCell) + 1)), \"\", (INDEX('Server Questionnaire'!$6:$6,1,6*(ROW(A430)-1)+COLUMN(ServerHeaderCell) + 1)))","v":""}]
[{"$f":"IF(ISBLANK(INDEX('App Questionnaire'!$10:$10,1,2*(ROW(A431)-1)+COLUMN(AppHeaderCell) + 1)), \"\", (INDEX('App Questionnaire'!$10:$10,1,2*(ROW(A431)-1)+COLUMN(AppHeaderCell) + 1)))","v":""},{"$f":"IF(ISBLANK(INDEX('App Questionnaire'!$6:$6,1,2*(ROW(A431)-1)+COLUMN(AppHeaderCell) + 1)), \"\", (INDEX('App Questionnaire'!$6:$6,1,2*(ROW(A431)-1)+COLUMN(AppHeaderCell) + 1)))","v":""},"",{"$f":"IF(ISBLANK(INDEX('Server Questionnaire'!$6:$6,1,6*(ROW(A431)-1)+COLUMN(ServerHeaderCell) + 1)), \"\", (INDEX('Server Questionnaire'!$6:$6,1,6*(ROW(A431)-1)+COLUMN(ServerHeaderCell) + 1)))","v":""}]
[{"$f":"IF(ISBLANK(INDEX('App Questionnaire'!$10:$10,1,2*(ROW(A432)-1)+COLUMN(AppHeaderCell) + 1)), \"\", (INDEX('App Questionnaire'!$10:$10,1,2*(ROW(A432)-1)+COLUMN(AppHeaderCell) + 1)))","v":""},{"$f":"IF(ISBLANK(INDEX('App Questionnaire'!$6:$6,1,2*(ROW(A432)-1)+COLUMN(AppHeaderCell) + 1)), \"\", (INDEX('App Questionnaire'!$6:$6,1,2*(ROW(A432)-1)+COLUMN(AppHeaderCell) + 1)))","v":""},"",{"$f":"IF(ISBLANK(INDEX('Server Questionnaire'!$6:$6,1,6*(ROW(A432)-1)+COLUMN(ServerHeaderCell) + 1)), \"\", (INDEX('Server Questionnaire'!$6:$6,1,6*(ROW(A432)-1)+COLUMN(ServerHeaderCell) + 1)))","v":""}]
[{"$f":"IF(ISBLANK(INDEX('App Questionnaire'!$10:$10,1,2*(ROW(A433)-1)+COLUMN(AppHeaderCell) + 1)), \"\", (INDEX('App Questionnaire'!$10:$10,1,2*(ROW(A433)-1)+COLUMN(AppHeaderCell) + 1)))","v":""},{"$f":"IF(ISBLANK(INDEX('App Questionnaire'!$6:$6,1,2*(ROW(A433)-1)+COLUMN(AppHeaderCell) + 1)), \"\", (INDEX('App Questionnaire'!$6:$6,1,2*(ROW(A433)-1)+COLUMN(AppHeaderCell) + 1)))","v":""},"",{"$f":"IF(ISBLANK(INDEX('Server Questionnaire'!$6:$6,1,6*(ROW(A433)-1)+COLUMN(ServerHeaderCell) + 1)), \"\", (INDEX('Server Questionnaire'!$6:$6,1,6*(ROW(A433)-1)+COLUMN(ServerHeaderCell) + 1)))","v":""}]
[{"$f":"IF(ISBLANK(INDEX('App Questionnaire'!$10:$10,1,2*(ROW(A434)-1)+COLUMN(AppHeaderCell) + 1)), \"\", (INDEX('App Questionnaire'!$10:$10,1,2*(ROW(A434)-1)+COLUMN(AppHeaderCell) + 1)))","v":""},{"$f":"IF(ISBLANK(INDEX('App Questionnaire'!$6:$6,1,2*(ROW(A434)-1)+COLUMN(AppHeaderCell) + 1)), \"\", (INDEX('App Questionnaire'!$6:$6,1,2*(ROW(A434)-1)+COLUMN(AppHeaderCell) + 1)))","v":""},"",{"$f":"IF(ISBLANK(INDEX('Server Questionnaire'!$6:$6,1,6*(ROW(A434)-1)+COLUMN(ServerHeaderCell) + 1)), \"\", (INDEX('Server Questionnaire'!$6:$6,1,6*(ROW(A434)-1)+COLUMN(ServerHeaderCell) + 1)))","v":""}]
[{"$f":"IF(ISBLANK(INDEX('App Questionnaire'!$10:$10,1,2*(ROW(A435)-1)+COLUMN(AppHeaderCell) + 1)), \"\", (INDEX('App Questionnaire'!$10:$10,1,2*(ROW(A435)-1)+COLUMN(AppHeaderCell) + 1)))","v":""},{"$f":"IF(ISBLANK(INDEX('App Questionnaire'!$6:$6,1,2*(ROW(A435)-1)+COLUMN(AppHeaderCell) + 1)), \"\", (INDEX('App Questionnaire'!$6:$6,1,2*(ROW(A435)-1)+COLUMN(AppHeaderCell) + 1)))","v":""},"",{"$f":"IF(ISBLANK(INDEX('Server Questionnaire'!$6:$6,1,6*(ROW(A435)-1)+COLUMN(ServerHeaderCell) + 1)), \"\", (INDEX('Server Questionnaire'!$6:$6,1,6*(ROW(A435)-1)+COLUMN(ServerHeaderCell) + 1)))","v":""}]
[{"$f":"IF(ISBLANK(INDEX('App Questionnaire'!$10:$10,1,2*(ROW(A436)-1)+COLUMN(AppHeaderCell) + 1)), \"\", (INDEX('App Questionnaire'!$10:$10,1,2*(ROW(A436)-1)+COLUMN(AppHeaderCell) + 1)))","v":""},{"$f":"IF(ISBLANK(INDEX('App Questionnaire'!$6:$6,1,2*(ROW(A436)-1)+COLUMN(AppHeaderCell) + 1)), \"\", (INDEX('App Questionnaire'!$6:$6,1,2*(ROW(A436)-1)+COLUMN(AppHeaderCell) + 1)))","v":""},"",{"$f":"IF(ISBLANK(INDEX('Server Questionnaire'!$6:$6,1,6*(ROW(A436)-1)+COLUMN(ServerHeaderCell) + 1)), \"\", (INDEX('Server Questionnaire'!$6:$6,1,6*(ROW(A436)-1)+COLUMN(ServerHeaderCell) + 1)))","v":""}]
[{"$f":"IF(ISBLANK(INDEX('App Questionnaire'!$10:$10,1,2*(ROW(A437)-1)+COLUMN(AppHeaderCell) + 1)), \"\", (INDEX('App Questionnaire'!$10:$10,1,2*(ROW(A437)-1)+COLUMN(AppHeaderCell) + 1)))","v":""},{"$f":"IF(ISBLANK(INDEX('App Questionnaire'!$6:$6,1,2*(ROW(A437)-1)+COLUMN(AppHeaderCell) + 1)), \"\", (INDEX('App Questionnaire'!$6:$6,1,2*(ROW(A437)-1)+COLUMN(AppHeaderCell) + 1)))","v":""},"",{"$f":"IF(ISBLANK(INDEX('Server Questionnaire'!$6:$6,1,6*(ROW(A437)-1)+COLUMN(ServerHeaderCell) + 1)), \"\", (INDEX('Server Questionnaire'!$6:$6,1,6*(ROW(A437)-1)+COLUMN(ServerHeaderCell) + 1)))","v":""}]
[{"$f":"IF(ISBLANK(INDEX('App Questionnaire'!$10:$10,1,2*(ROW(A438)-1)+COLUMN(AppHeaderCell) + 1)), \"\", (INDEX('App Questionnaire'!$10:$10,1,2*(ROW(A438)-1)+COLUMN(AppHeaderCell) + 1)))","v":""},{"$f":"IF(ISBLANK(INDEX('App Questionnaire'!$6:$6,1,2*(ROW(A438)-1)+COLUMN(AppHeaderCell) + 1)), \"\", (INDEX('App Questionnaire'!$6:$6,1,2*(ROW(A438)-1)+COLUMN(AppHeaderCell) + 1)))","v":""},"",{"$f":"IF(ISBLANK(INDEX('Server Questionnaire'!$6:$6,1,6*(ROW(A438)-1)+COLUMN(ServerHeaderCell) + 1)), \"\", (INDEX('Server Questionnaire'!$6:$6,1,6*(ROW(A438)-1)+COLUMN(ServerHeaderCell) + 1)))","v":""}]
[{"$f":"IF(ISBLANK(INDEX('App Questionnaire'!$10:$10,1,2*(ROW(A439)-1)+COLUMN(AppHeaderCell) + 1)), \"\", (INDEX('App Questionnaire'!$10:$10,1,2*(ROW(A439)-1)+COLUMN(AppHeaderCell) + 1)))","v":""},{"$f":"IF(ISBLANK(INDEX('App Questionnaire'!$6:$6,1,2*(ROW(A439)-1)+COLUMN(AppHeaderCell) + 1)), \"\", (INDEX('App Questionnaire'!$6:$6,1,2*(ROW(A439)-1)+COLUMN(AppHeaderCell) + 1)))","v":""},"",{"$f":"IF(ISBLANK(INDEX('Server Questionnaire'!$6:$6,1,6*(ROW(A439)-1)+COLUMN(ServerHeaderCell) + 1)), \"\", (INDEX('Server Questionnaire'!$6:$6,1,6*(ROW(A439)-1)+COLUMN(ServerHeaderCell) + 1)))","v":""}]
[{"$f":"IF(ISBLANK(INDEX('App Questionnaire'!$10:$10,1,2*(ROW(A440)-1)+COLUMN(AppHeaderCell) + 1)), \"\", (INDEX('App Questionnaire'!$10:$10,1,2*(ROW(A440)-1)+COLUMN(AppHeaderCell) + 1)))","v":""},{"$f":"IF(ISBLANK(INDEX('App Questionnaire'!$6:$6,1,2*(ROW(A440)-1)+COLUMN(AppHeaderCell) + 1)), \"\", (INDEX('App Questionnaire'!$6:$6,1,2*(ROW(A440)-1)+COLUMN(AppHeaderCell) + 1)))","v":""},"",{"$f":"IF(ISBLANK(INDEX('Server Questionnaire'!$6:$6,1,6*(ROW(A440)-1)+COLUMN(ServerHeaderCell) + 1)), \"\", (INDEX('Server Questionnaire'!$6:$6,1,6*(ROW(A440)-1)+COLUMN(ServerHeaderCell) + 1)))","v":""}]
[{"$f":"IF(ISBLANK(INDEX('App Questionnaire'!$10:$10,1,2*(ROW(A441)-1)+COLUMN(AppHeaderCell) + 1)), \"\", (INDEX('App Questionnaire'!$10:$10,1,2*(ROW(A441)-1)+COLUMN(AppHeaderCell) + 1)))","v":""},{"$f":"IF(ISBLANK(INDEX('App Questionnaire'!$6:$6,1,2*(ROW(A441)-1)+COLUMN(AppHeaderCell) + 1)), \"\", (INDEX('App Questionnaire'!$6:$6,1,2*(ROW(A441)-1)+COLUMN(AppHeaderCell) + 1)))","v":""},"",{"$f":"IF(ISBLANK(INDEX('Server Questionnaire'!$6:$6,1,6*(ROW(A441)-1)+COLUMN(ServerHeaderCell) + 1)), \"\", (INDEX('Server Questionnaire'!$6:$6,1,6*(ROW(A441)-1)+COLUMN(ServerHeaderCell) + 1)))","v":""}]
[{"$f":"IF(ISBLANK(INDEX('App Questionnaire'!$10:$10,1,2*(ROW(A442)-1)+COLUMN(AppHeaderCell) + 1)), \"\", (INDEX('App Questionnaire'!$10:$10,1,2*(ROW(A442)-1)+COLUMN(AppHeaderCell) + 1)))","v":""},{"$f":"IF(ISBLANK(INDEX('App Questionnaire'!$6:$6,1,2*(ROW(A442)-1)+COLUMN(AppHeaderCell) + 1)), \"\", (INDEX('App Questionnaire'!$6:$6,1,2*(ROW(A442)-1)+COLUMN(AppHeaderCell) + 1)))","v":""},"",{"$f":"IF(ISBLANK(INDEX('Server Questionnaire'!$6:$6,1,6*(ROW(A442)-1)+COLUMN(ServerHeaderCell) + 1)), \"\", (INDEX('Server Questionnaire'!$6:$6,1,6*(ROW(A442)-1)+COLUMN(ServerHeaderCell) + 1)))","v":""}]
[{"$f":"IF(ISBLANK(INDEX('App Questionnaire'!$10:$10,1,2*(ROW(A443)-1)+COLUMN(AppHeaderCell) + 1)), \"\", (INDEX('App Questionnaire'!$10:$10,1,2*(ROW(A443)-1)+COLUMN(AppHeaderCell) + 1)))","v":""},{"$f":"IF(ISBLANK(INDEX('App Questionnaire'!$6:$6,1,2*(ROW(A443)-1)+COLUMN(AppHeaderCell) + 1)), \"\", (INDEX('App Questionnaire'!$6:$6,1,2*(ROW(A443)-1)+COLUMN(AppHeaderCell) + 1)))","v":""},"",{"$f":"IF(ISBLANK(INDEX('Server Questionnaire'!$6:$6,1,6*(ROW(A443)-1)+COLUMN(ServerHeaderCell) + 1)), \"\", (INDEX('Server Questionnaire'!$6:$6,1,6*(ROW(A443)-1)+COLUMN(ServerHeaderCell) + 1)))","v":""}]
[{"$f":"IF(ISBLANK(INDEX('App Questionnaire'!$10:$10,1,2*(ROW(A444)-1)+COLUMN(AppHeaderCell) + 1)), \"\", (INDEX('App Questionnaire'!$10:$10,1,2*(ROW(A444)-1)+COLUMN(AppHeaderCell) + 1)))","v":""},{"$f":"IF(ISBLANK(INDEX('App Questionnaire'!$6:$6,1,2*(ROW(A444)-1)+COLUMN(AppHeaderCell) + 1)), \"\", (INDEX('App Questionnaire'!$6:$6,1,2*(ROW(A444)-1)+COLUMN(AppHeaderCell) + 1)))","v":""},"",{"$f":"IF(ISBLANK(INDEX('Server Questionnaire'!$6:$6,1,6*(ROW(A444)-1)+COLUMN(ServerHeaderCell) + 1)), \"\", (INDEX('Server Questionnaire'!$6:$6,1,6*(ROW(A444)-1)+COLUMN(ServerHeaderCell) + 1)))","v":""}]
[{"$f":"IF(ISBLANK(INDEX('App Questionnaire'!$10:$10,1,2*(ROW(A445)-1)+COLUMN(AppHeaderCell) + 1)), \"\", (INDEX('App Questionnaire'!$10:$10,1,2*(ROW(A445)-1)+COLUMN(AppHeaderCell) + 1)))","v":""},{"$f":"IF(ISBLANK(INDEX('App Questionnaire'!$6:$6,1,2*(ROW(A445)-1)+COLUMN(AppHeaderCell) + 1)), \"\", (INDEX('App Questionnaire'!$6:$6,1,2*(ROW(A445)-1)+COLUMN(AppHeaderCell) + 1)))","v":""},"",{"$f":"IF(ISBLANK(INDEX('Server Questionnaire'!$6:$6,1,6*(ROW(A445)-1)+COLUMN(ServerHeaderCell) + 1)), \"\", (INDEX('Server Questionnaire'!$6:$6,1,6*(ROW(A445)-1)+COLUMN(ServerHeaderCell) + 1)))","v":""}]
[{"$f":"IF(ISBLANK(INDEX('App Questionnaire'!$10:$10,1,2*(ROW(A446)-1)+COLUMN(AppHeaderCell) + 1)), \"\", (INDEX('App Questionnaire'!$10:$10,1,2*(ROW(A446)-1)+COLUMN(AppHeaderCell) + 1)))","v":""},{"$f":"IF(ISBLANK(INDEX('App Questionnaire'!$6:$6,1,2*(ROW(A446)-1)+COLUMN(AppHeaderCell) + 1)), \"\", (INDEX('App Questionnaire'!$6:$6,1,2*(ROW(A446)-1)+COLUMN(AppHeaderCell) + 1)))","v":""},"",{"$f":"IF(ISBLANK(INDEX('Server Questionnaire'!$6:$6,1,6*(ROW(A446)-1)+COLUMN(ServerHeaderCell) + 1)), \"\", (INDEX('Server Questionnaire'!$6:$6,1,6*(ROW(A446)-1)+COLUMN(ServerHeaderCell) + 1)))","v":""}]
[{"$f":"IF(ISBLANK(INDEX('App Questionnaire'!$10:$10,1,2*(ROW(A447)-1)+COLUMN(AppHeaderCell) + 1)), \"\", (INDEX('App Questionnaire'!$10:$10,1,2*(ROW(A447)-1)+COLUMN(AppHeaderCell) + 1)))","v":""},{"$f":"IF(ISBLANK(INDEX('App Questionnaire'!$6:$6,1,2*(ROW(A447)-1)+COLUMN(AppHeaderCell) + 1)), \"\", (INDEX('App Questionnaire'!$6:$6,1,2*(ROW(A447)-1)+COLUMN(AppHeaderCell) + 1)))","v":""},"",{"$f":"IF(ISBLANK(INDEX('Server Questionnaire'!$6:$6,1,6*(ROW(A447)-1)+COLUMN(ServerHeaderCell) + 1)), \"\", (INDEX('Server Questionnaire'!$6:$6,1,6*(ROW(A447)-1)+COLUMN(ServerHeaderCell) + 1)))","v":""}]
[{"$f":"IF(ISBLANK(INDEX('App Questionnaire'!$10:$10,1,2*(ROW(A448)-1)+COLUMN(AppHeaderCell) + 1)), \"\", (INDEX('App Questionnaire'!$10:$10,1,2*(ROW(A448)-1)+COLUMN(AppHeaderCell) + 1)))","v":""},{"$f":"IF(ISBLANK(INDEX('App Questionnaire'!$6:$6,1,2*(ROW(A448)-1)+COLUMN(AppHeaderCell) + 1)), \"\", (INDEX('App Questionnaire'!$6:$6,1,2*(ROW(A448)-1)+COLUMN(AppHeaderCell) + 1)))","v":""},"",{"$f":"IF(ISBLANK(INDEX('Server Questionnaire'!$6:$6,1,6*(ROW(A448)-1)+COLUMN(ServerHeaderCell) + 1)), \"\", (INDEX('Server Questionnaire'!$6:$6,1,6*(ROW(A448)-1)+COLUMN(ServerHeaderCell) + 1)))","v":""}]
[{"$f":"IF(ISBLANK(INDEX('App Questionnaire'!$10:$10,1,2*(ROW(A449)-1)+COLUMN(AppHeaderCell) + 1)), \"\", (INDEX('App Questionnaire'!$10:$10,1,2*(ROW(A449)-1)+COLUMN(AppHeaderCell) + 1)))","v":""},{"$f":"IF(ISBLANK(INDEX('App Questionnaire'!$6:$6,1,2*(ROW(A449)-1)+COLUMN(AppHeaderCell) + 1)), \"\", (INDEX('App Questionnaire'!$6:$6,1,2*(ROW(A449)-1)+COLUMN(AppHeaderCell) + 1)))","v":""},"",{"$f":"IF(ISBLANK(INDEX('Server Questionnaire'!$6:$6,1,6*(ROW(A449)-1)+COLUMN(ServerHeaderCell) + 1)), \"\", (INDEX('Server Questionnaire'!$6:$6,1,6*(ROW(A449)-1)+COLUMN(ServerHeaderCell) + 1)))","v":""}]
[{"$f":"IF(ISBLANK(INDEX('App Questionnaire'!$10:$10,1,2*(ROW(A450)-1)+COLUMN(AppHeaderCell) + 1)), \"\", (INDEX('App Questionnaire'!$10:$10,1,2*(ROW(A450)-1)+COLUMN(AppHeaderCell) + 1)))","v":""},{"$f":"IF(ISBLANK(INDEX('App Questionnaire'!$6:$6,1,2*(ROW(A450)-1)+COLUMN(AppHeaderCell) + 1)), \"\", (INDEX('App Questionnaire'!$6:$6,1,2*(ROW(A450)-1)+COLUMN(AppHeaderCell) + 1)))","v":""},"",{"$f":"IF(ISBLANK(INDEX('Server Questionnaire'!$6:$6,1,6*(ROW(A450)-1)+COLUMN(ServerHeaderCell) + 1)), \"\", (INDEX('Server Questionnaire'!$6:$6,1,6*(ROW(A450)-1)+COLUMN(ServerHeaderCell) + 1)))","v":""}]
[{"$f":"IF(ISBLANK(INDEX('App Questionnaire'!$10:$10,1,2*(ROW(A451)-1)+COLUMN(AppHeaderCell) + 1)), \"\", (INDEX('App Questionnaire'!$10:$10,1,2*(ROW(A451)-1)+COLUMN(AppHeaderCell) + 1)))","v":""},{"$f":"IF(ISBLANK(INDEX('App Questionnaire'!$6:$6,1,2*(ROW(A451)-1)+COLUMN(AppHeaderCell) + 1)), \"\", (INDEX('App Questionnaire'!$6:$6,1,2*(ROW(A451)-1)+COLUMN(AppHeaderCell) + 1)))","v":""},{"$f":" IF(B451 = \"\", \"\", B451 & \" - \" & A451)","v":""},{"$f":"IF(ISBLANK(INDEX('Server Questionnaire'!$6:$6,1,6*(ROW(A451)-1)+COLUMN(ServerHeaderCell) + 1)), \"\", (INDEX('Server Questionnaire'!$6:$6,1,6*(ROW(A451)-1)+COLUMN(ServerHeaderCell) + 1)))","v":""}]
[{"$f":"IF(ISBLANK(INDEX('App Questionnaire'!$10:$10,1,2*(ROW(A452)-1)+COLUMN(AppHeaderCell) + 1)), \"\", (INDEX('App Questionnaire'!$10:$10,1,2*(ROW(A452)-1)+COLUMN(AppHeaderCell) + 1)))","v":""},{"$f":"IF(ISBLANK(INDEX('App Questionnaire'!$6:$6,1,2*(ROW(A452)-1)+COLUMN(AppHeaderCell) + 1)), \"\", (INDEX('App Questionnaire'!$6:$6,1,2*(ROW(A452)-1)+COLUMN(AppHeaderCell) + 1)))","v":""},"",{"$f":"IF(ISBLANK(INDEX('Server Questionnaire'!$6:$6,1,6*(ROW(A452)-1)+COLUMN(ServerHeaderCell) + 1)), \"\", (INDEX('Server Questionnaire'!$6:$6,1,6*(ROW(A452)-1)+COLUMN(ServerHeaderCell) + 1)))","v":""}]
[{"$f":"IF(ISBLANK(INDEX('App Questionnaire'!$10:$10,1,2*(ROW(A453)-1)+COLUMN(AppHeaderCell) + 1)), \"\", (INDEX('App Questionnaire'!$10:$10,1,2*(ROW(A453)-1)+COLUMN(AppHeaderCell) + 1)))","v":""},{"$f":"IF(ISBLANK(INDEX('App Questionnaire'!$6:$6,1,2*(ROW(A453)-1)+COLUMN(AppHeaderCell) + 1)), \"\", (INDEX('App Questionnaire'!$6:$6,1,2*(ROW(A453)-1)+COLUMN(AppHeaderCell) + 1)))","v":""},"",{"$f":"IF(ISBLANK(INDEX('Server Questionnaire'!$6:$6,1,6*(ROW(A453)-1)+COLUMN(ServerHeaderCell) + 1)), \"\", (INDEX('Server Questionnaire'!$6:$6,1,6*(ROW(A453)-1)+COLUMN(ServerHeaderCell) + 1)))","v":""}]
[{"$f":"IF(ISBLANK(INDEX('App Questionnaire'!$10:$10,1,2*(ROW(A454)-1)+COLUMN(AppHeaderCell) + 1)), \"\", (INDEX('App Questionnaire'!$10:$10,1,2*(ROW(A454)-1)+COLUMN(AppHeaderCell) + 1)))","v":""},{"$f":"IF(ISBLANK(INDEX('App Questionnaire'!$6:$6,1,2*(ROW(A454)-1)+COLUMN(AppHeaderCell) + 1)), \"\", (INDEX('App Questionnaire'!$6:$6,1,2*(ROW(A454)-1)+COLUMN(AppHeaderCell) + 1)))","v":""},"",{"$f":"IF(ISBLANK(INDEX('Server Questionnaire'!$6:$6,1,6*(ROW(A454)-1)+COLUMN(ServerHeaderCell) + 1)), \"\", (INDEX('Server Questionnaire'!$6:$6,1,6*(ROW(A454)-1)+COLUMN(ServerHeaderCell) + 1)))","v":""}]
[{"$f":"IF(ISBLANK(INDEX('App Questionnaire'!$10:$10,1,2*(ROW(A455)-1)+COLUMN(AppHeaderCell) + 1)), \"\", (INDEX('App Questionnaire'!$10:$10,1,2*(ROW(A455)-1)+COLUMN(AppHeaderCell) + 1)))","v":""},{"$f":"IF(ISBLANK(INDEX('App Questionnaire'!$6:$6,1,2*(ROW(A455)-1)+COLUMN(AppHeaderCell) + 1)), \"\", (INDEX('App Questionnaire'!$6:$6,1,2*(ROW(A455)-1)+COLUMN(AppHeaderCell) + 1)))","v":""},"",{"$f":"IF(ISBLANK(INDEX('Server Questionnaire'!$6:$6,1,6*(ROW(A455)-1)+COLUMN(ServerHeaderCell) + 1)), \"\", (INDEX('Server Questionnaire'!$6:$6,1,6*(ROW(A455)-1)+COLUMN(ServerHeaderCell) + 1)))","v":""}]
[{"$f":"IF(ISBLANK(INDEX('App Questionnaire'!$10:$10,1,2*(ROW(A456)-1)+COLUMN(AppHeaderCell) + 1)), \"\", (INDEX('App Questionnaire'!$10:$10,1,2*(ROW(A456)-1)+COLUMN(AppHeaderCell) + 1)))","v":""},{"$f":"IF(ISBLANK(INDEX('App Questionnaire'!$6:$6,1,2*(ROW(A456)-1)+COLUMN(AppHeaderCell) + 1)), \"\", (INDEX('App Questionnaire'!$6:$6,1,2*(ROW(A456)-1)+COLUMN(AppHeaderCell) + 1)))","v":""},"",{"$f":"IF(ISBLANK(INDEX('Server Questionnaire'!$6:$6,1,6*(ROW(A456)-1)+COLUMN(ServerHeaderCell) + 1)), \"\", (INDEX('Server Questionnaire'!$6:$6,1,6*(ROW(A456)-1)+COLUMN(ServerHeaderCell) + 1)))","v":""}]
[{"$f":"IF(ISBLANK(INDEX('App Questionnaire'!$10:$10,1,2*(ROW(A457)-1)+COLUMN(AppHeaderCell) + 1)), \"\", (INDEX('App Questionnaire'!$10:$10,1,2*(ROW(A457)-1)+COLUMN(AppHeaderCell) + 1)))","v":""},{"$f":"IF(ISBLANK(INDEX('App Questionnaire'!$6:$6,1,2*(ROW(A457)-1)+COLUMN(AppHeaderCell) + 1)), \"\", (INDEX('App Questionnaire'!$6:$6,1,2*(ROW(A457)-1)+COLUMN(AppHeaderCell) + 1)))","v":""},"",{"$f":"IF(ISBLANK(INDEX('Server Questionnaire'!$6:$6,1,6*(ROW(A457)-1)+COLUMN(ServerHeaderCell) + 1)), \"\", (INDEX('Server Questionnaire'!$6:$6,1,6*(ROW(A457)-1)+COLUMN(ServerHeaderCell) + 1)))","v":""}]
[{"$f":"IF(ISBLANK(INDEX('App Questionnaire'!$10:$10,1,2*(ROW(A458)-1)+COLUMN(AppHeaderCell) + 1)), \"\", (INDEX('App Questionnaire'!$10:$10,1,2*(ROW(A458)-1)+COLUMN(AppHeaderCell) + 1)))","v":""},{"$f":"IF(ISBLANK(INDEX('App Questionnaire'!$6:$6,1,2*(ROW(A458)-1)+COLUMN(AppHeaderCell) + 1)), \"\", (INDEX('App Questionnaire'!$6:$6,1,2*(ROW(A458)-1)+COLUMN(AppHeaderCell) + 1)))","v":""},"",{"$f":"IF(ISBLANK(INDEX('Server Questionnaire'!$6:$6,1,6*(ROW(A458)-1)+COLUMN(ServerHeaderCell) + 1)), \"\", (INDEX('Server Questionnaire'!$6:$6,1,6*(ROW(A458)-1)+COLUMN(ServerHeaderCell) + 1)))","v":""}]
[{"$f":"IF(ISBLANK(INDEX('App Questionnaire'!$10:$10,1,2*(ROW(A459)-1)+COLUMN(AppHeaderCell) + 1)), \"\", (INDEX('App Questionnaire'!$10:$10,1,2*(ROW(A459)-1)+COLUMN(AppHeaderCell) + 1)))","v":""},{"$f":"IF(ISBLANK(INDEX('App Questionnaire'!$6:$6,1,2*(ROW(A459)-1)+COLUMN(AppHeaderCell) + 1)), \"\", (INDEX('App Questionnaire'!$6:$6,1,2*(ROW(A459)-1)+COLUMN(AppHeaderCell) + 1)))","v":""},"",{"$f":"IF(ISBLANK(INDEX('Server Questionnaire'!$6:$6,1,6*(ROW(A459)-1)+COLUMN(ServerHeaderCell) + 1)), \"\", (INDEX('Server Questionnaire'!$6:$6,1,6*(ROW(A459)-1)+COLUMN(ServerHeaderCell) + 1)))","v":""}]
[{"$f":"IF(ISBLANK(INDEX('App Questionnaire'!$10:$10,1,2*(ROW(A460)-1)+COLUMN(AppHeaderCell) + 1)), \"\", (INDEX('App Questionnaire'!$10:$10,1,2*(ROW(A460)-1)+COLUMN(AppHeaderCell) + 1)))","v":""},{"$f":"IF(ISBLANK(INDEX('App Questionnaire'!$6:$6,1,2*(ROW(A460)-1)+COLUMN(AppHeaderCell) + 1)), \"\", (INDEX('App Questionnaire'!$6:$6,1,2*(ROW(A460)-1)+COLUMN(AppHeaderCell) + 1)))","v":""},"",{"$f":"IF(ISBLANK(INDEX('Server Questionnaire'!$6:$6,1,6*(ROW(A460)-1)+COLUMN(ServerHeaderCell) + 1)), \"\", (INDEX('Server Questionnaire'!$6:$6,1,6*(ROW(A460)-1)+COLUMN(ServerHeaderCell) + 1)))","v":""}]
[{"$f":"IF(ISBLANK(INDEX('App Questionnaire'!$10:$10,1,2*(ROW(A461)-1)+COLUMN(AppHeaderCell) + 1)), \"\", (INDEX('App Questionnaire'!$10:$10,1,2*(ROW(A461)-1)+COLUMN(AppHeaderCell) + 1)))","v":""},{"$f":"IF(ISBLANK(INDEX('App Questionnaire'!$6:$6,1,2*(ROW(A461)-1)+COLUMN(AppHeaderCell) + 1)), \"\", (INDEX('App Questionnaire'!$6:$6,1,2*(ROW(A461)-1)+COLUMN(AppHeaderCell) + 1)))","v":""},"",{"$f":"IF(ISBLANK(INDEX('Server Questionnaire'!$6:$6,1,6*(ROW(A461)-1)+COLUMN(ServerHeaderCell) + 1)), \"\", (INDEX('Server Questionnaire'!$6:$6,1,6*(ROW(A461)-1)+COLUMN(ServerHeaderCell) + 1)))","v":""}]
[{"$f":"IF(ISBLANK(INDEX('App Questionnaire'!$10:$10,1,2*(ROW(A462)-1)+COLUMN(AppHeaderCell) + 1)), \"\", (INDEX('App Questionnaire'!$10:$10,1,2*(ROW(A462)-1)+COLUMN(AppHeaderCell) + 1)))","v":""},{"$f":"IF(ISBLANK(INDEX('App Questionnaire'!$6:$6,1,2*(ROW(A462)-1)+COLUMN(AppHeaderCell) + 1)), \"\", (INDEX('App Questionnaire'!$6:$6,1,2*(ROW(A462)-1)+COLUMN(AppHeaderCell) + 1)))","v":""},"",{"$f":"IF(ISBLANK(INDEX('Server Questionnaire'!$6:$6,1,6*(ROW(A462)-1)+COLUMN(ServerHeaderCell) + 1)), \"\", (INDEX('Server Questionnaire'!$6:$6,1,6*(ROW(A462)-1)+COLUMN(ServerHeaderCell) + 1)))","v":""}]
[{"$f":"IF(ISBLANK(INDEX('App Questionnaire'!$10:$10,1,2*(ROW(A463)-1)+COLUMN(AppHeaderCell) + 1)), \"\", (INDEX('App Questionnaire'!$10:$10,1,2*(ROW(A463)-1)+COLUMN(AppHeaderCell) + 1)))","v":""},{"$f":"IF(ISBLANK(INDEX('App Questionnaire'!$6:$6,1,2*(ROW(A463)-1)+COLUMN(AppHeaderCell) + 1)), \"\", (INDEX('App Questionnaire'!$6:$6,1,2*(ROW(A463)-1)+COLUMN(AppHeaderCell) + 1)))","v":""},"",{"$f":"IF(ISBLANK(INDEX('Server Questionnaire'!$6:$6,1,6*(ROW(A463)-1)+COLUMN(ServerHeaderCell) + 1)), \"\", (INDEX('Server Questionnaire'!$6:$6,1,6*(ROW(A463)-1)+COLUMN(ServerHeaderCell) + 1)))","v":""}]
[{"$f":"IF(ISBLANK(INDEX('App Questionnaire'!$10:$10,1,2*(ROW(A464)-1)+COLUMN(AppHeaderCell) + 1)), \"\", (INDEX('App Questionnaire'!$10:$10,1,2*(ROW(A464)-1)+COLUMN(AppHeaderCell) + 1)))","v":""},{"$f":"IF(ISBLANK(INDEX('App Questionnaire'!$6:$6,1,2*(ROW(A464)-1)+COLUMN(AppHeaderCell) + 1)), \"\", (INDEX('App Questionnaire'!$6:$6,1,2*(ROW(A464)-1)+COLUMN(AppHeaderCell) + 1)))","v":""},"",{"$f":"IF(ISBLANK(INDEX('Server Questionnaire'!$6:$6,1,6*(ROW(A464)-1)+COLUMN(ServerHeaderCell) + 1)), \"\", (INDEX('Server Questionnaire'!$6:$6,1,6*(ROW(A464)-1)+COLUMN(ServerHeaderCell) + 1)))","v":""}]
[{"$f":"IF(ISBLANK(INDEX('App Questionnaire'!$10:$10,1,2*(ROW(A465)-1)+COLUMN(AppHeaderCell) + 1)), \"\", (INDEX('App Questionnaire'!$10:$10,1,2*(ROW(A465)-1)+COLUMN(AppHeaderCell) + 1)))","v":""},{"$f":"IF(ISBLANK(INDEX('App Questionnaire'!$6:$6,1,2*(ROW(A465)-1)+COLUMN(AppHeaderCell) + 1)), \"\", (INDEX('App Questionnaire'!$6:$6,1,2*(ROW(A465)-1)+COLUMN(AppHeaderCell) + 1)))","v":""},"",{"$f":"IF(ISBLANK(INDEX('Server Questionnaire'!$6:$6,1,6*(ROW(A465)-1)+COLUMN(ServerHeaderCell) + 1)), \"\", (INDEX('Server Questionnaire'!$6:$6,1,6*(ROW(A465)-1)+COLUMN(ServerHeaderCell) + 1)))","v":""}]
[{"$f":"IF(ISBLANK(INDEX('App Questionnaire'!$10:$10,1,2*(ROW(A466)-1)+COLUMN(AppHeaderCell) + 1)), \"\", (INDEX('App Questionnaire'!$10:$10,1,2*(ROW(A466)-1)+COLUMN(AppHeaderCell) + 1)))","v":""},{"$f":"IF(ISBLANK(INDEX('App Questionnaire'!$6:$6,1,2*(ROW(A466)-1)+COLUMN(AppHeaderCell) + 1)), \"\", (INDEX('App Questionnaire'!$6:$6,1,2*(ROW(A466)-1)+COLUMN(AppHeaderCell) + 1)))","v":""},"",{"$f":"IF(ISBLANK(INDEX('Server Questionnaire'!$6:$6,1,6*(ROW(A466)-1)+COLUMN(ServerHeaderCell) + 1)), \"\", (INDEX('Server Questionnaire'!$6:$6,1,6*(ROW(A466)-1)+COLUMN(ServerHeaderCell) + 1)))","v":""}]
[{"$f":"IF(ISBLANK(INDEX('App Questionnaire'!$10:$10,1,2*(ROW(A467)-1)+COLUMN(AppHeaderCell) + 1)), \"\", (INDEX('App Questionnaire'!$10:$10,1,2*(ROW(A467)-1)+COLUMN(AppHeaderCell) + 1)))","v":""},{"$f":"IF(ISBLANK(INDEX('App Questionnaire'!$6:$6,1,2*(ROW(A467)-1)+COLUMN(AppHeaderCell) + 1)), \"\", (INDEX('App Questionnaire'!$6:$6,1,2*(ROW(A467)-1)+COLUMN(AppHeaderCell) + 1)))","v":""},"",{"$f":"IF(ISBLANK(INDEX('Server Questionnaire'!$6:$6,1,6*(ROW(A467)-1)+COLUMN(ServerHeaderCell) + 1)), \"\", (INDEX('Server Questionnaire'!$6:$6,1,6*(ROW(A467)-1)+COLUMN(ServerHeaderCell) + 1)))","v":""}]
[{"$f":"IF(ISBLANK(INDEX('App Questionnaire'!$10:$10,1,2*(ROW(A468)-1)+COLUMN(AppHeaderCell) + 1)), \"\", (INDEX('App Questionnaire'!$10:$10,1,2*(ROW(A468)-1)+COLUMN(AppHeaderCell) + 1)))","v":""},{"$f":"IF(ISBLANK(INDEX('App Questionnaire'!$6:$6,1,2*(ROW(A468)-1)+COLUMN(AppHeaderCell) + 1)), \"\", (INDEX('App Questionnaire'!$6:$6,1,2*(ROW(A468)-1)+COLUMN(AppHeaderCell) + 1)))","v":""},"",{"$f":"IF(ISBLANK(INDEX('Server Questionnaire'!$6:$6,1,6*(ROW(A468)-1)+COLUMN(ServerHeaderCell) + 1)), \"\", (INDEX('Server Questionnaire'!$6:$6,1,6*(ROW(A468)-1)+COLUMN(ServerHeaderCell) + 1)))","v":""}]
[{"$f":"IF(ISBLANK(INDEX('App Questionnaire'!$10:$10,1,2*(ROW(A469)-1)+COLUMN(AppHeaderCell) + 1)), \"\", (INDEX('App Questionnaire'!$10:$10,1,2*(ROW(A469)-1)+COLUMN(AppHeaderCell) + 1)))","v":""},{"$f":"IF(ISBLANK(INDEX('App Questionnaire'!$6:$6,1,2*(ROW(A469)-1)+COLUMN(AppHeaderCell) + 1)), \"\", (INDEX('App Questionnaire'!$6:$6,1,2*(ROW(A469)-1)+COLUMN(AppHeaderCell) + 1)))","v":""},"",{"$f":"IF(ISBLANK(INDEX('Server Questionnaire'!$6:$6,1,6*(ROW(A469)-1)+COLUMN(ServerHeaderCell) + 1)), \"\", (INDEX('Server Questionnaire'!$6:$6,1,6*(ROW(A469)-1)+COLUMN(ServerHeaderCell) + 1)))","v":""}]
[{"$f":"IF(ISBLANK(INDEX('App Questionnaire'!$10:$10,1,2*(ROW(A470)-1)+COLUMN(AppHeaderCell) + 1)), \"\", (INDEX('App Questionnaire'!$10:$10,1,2*(ROW(A470)-1)+COLUMN(AppHeaderCell) + 1)))","v":""},{"$f":"IF(ISBLANK(INDEX('App Questionnaire'!$6:$6,1,2*(ROW(A470)-1)+COLUMN(AppHeaderCell) + 1)), \"\", (INDEX('App Questionnaire'!$6:$6,1,2*(ROW(A470)-1)+COLUMN(AppHeaderCell) + 1)))","v":""},"",{"$f":"IF(ISBLANK(INDEX('Server Questionnaire'!$6:$6,1,6*(ROW(A470)-1)+COLUMN(ServerHeaderCell) + 1)), \"\", (INDEX('Server Questionnaire'!$6:$6,1,6*(ROW(A470)-1)+COLUMN(ServerHeaderCell) + 1)))","v":""}]
[{"$f":"IF(ISBLANK(INDEX('App Questionnaire'!$10:$10,1,2*(ROW(A471)-1)+COLUMN(AppHeaderCell) + 1)), \"\", (INDEX('App Questionnaire'!$10:$10,1,2*(ROW(A471)-1)+COLUMN(AppHeaderCell) + 1)))","v":""},{"$f":"IF(ISBLANK(INDEX('App Questionnaire'!$6:$6,1,2*(ROW(A471)-1)+COLUMN(AppHeaderCell) + 1)), \"\", (INDEX('App Questionnaire'!$6:$6,1,2*(ROW(A471)-1)+COLUMN(AppHeaderCell) + 1)))","v":""},"",{"$f":"IF(ISBLANK(INDEX('Server Questionnaire'!$6:$6,1,6*(ROW(A471)-1)+COLUMN(ServerHeaderCell) + 1)), \"\", (INDEX('Server Questionnaire'!$6:$6,1,6*(ROW(A471)-1)+COLUMN(ServerHeaderCell) + 1)))","v":""}]
[{"$f":"IF(ISBLANK(INDEX('App Questionnaire'!$10:$10,1,2*(ROW(A472)-1)+COLUMN(AppHeaderCell) + 1)), \"\", (INDEX('App Questionnaire'!$10:$10,1,2*(ROW(A472)-1)+COLUMN(AppHeaderCell) + 1)))","v":""},{"$f":"IF(ISBLANK(INDEX('App Questionnaire'!$6:$6,1,2*(ROW(A472)-1)+COLUMN(AppHeaderCell) + 1)), \"\", (INDEX('App Questionnaire'!$6:$6,1,2*(ROW(A472)-1)+COLUMN(AppHeaderCell) + 1)))","v":""},"",{"$f":"IF(ISBLANK(INDEX('Server Questionnaire'!$6:$6,1,6*(ROW(A472)-1)+COLUMN(ServerHeaderCell) + 1)), \"\", (INDEX('Server Questionnaire'!$6:$6,1,6*(ROW(A472)-1)+COLUMN(ServerHeaderCell) + 1)))","v":""}]
[{"$f":"IF(ISBLANK(INDEX('App Questionnaire'!$10:$10,1,2*(ROW(A473)-1)+COLUMN(AppHeaderCell) + 1)), \"\", (INDEX('App Questionnaire'!$10:$10,1,2*(ROW(A473)-1)+COLUMN(AppHeaderCell) + 1)))","v":""},{"$f":"IF(ISBLANK(INDEX('App Questionnaire'!$6:$6,1,2*(ROW(A473)-1)+COLUMN(AppHeaderCell) + 1)), \"\", (INDEX('App Questionnaire'!$6:$6,1,2*(ROW(A473)-1)+COLUMN(AppHeaderCell) + 1)))","v":""},"",{"$f":"IF(ISBLANK(INDEX('Server Questionnaire'!$6:$6,1,6*(ROW(A473)-1)+COLUMN(ServerHeaderCell) + 1)), \"\", (INDEX('Server Questionnaire'!$6:$6,1,6*(ROW(A473)-1)+COLUMN(ServerHeaderCell) + 1)))","v":""}]
[{"$f":"IF(ISBLANK(INDEX('App Questionnaire'!$10:$10,1,2*(ROW(A474)-1)+COLUMN(AppHeaderCell) + 1)), \"\", (INDEX('App Questionnaire'!$10:$10,1,2*(ROW(A474)-1)+COLUMN(AppHeaderCell) + 1)))","v":""},{"$f":"IF(ISBLANK(INDEX('App Questionnaire'!$6:$6,1,2*(ROW(A474)-1)+COLUMN(AppHeaderCell) + 1)), \"\", (INDEX('App Questionnaire'!$6:$6,1,2*(ROW(A474)-1)+COLUMN(AppHeaderCell) + 1)))","v":""},"",{"$f":"IF(ISBLANK(INDEX('Server Questionnaire'!$6:$6,1,6*(ROW(A474)-1)+COLUMN(ServerHeaderCell) + 1)), \"\", (INDEX('Server Questionnaire'!$6:$6,1,6*(ROW(A474)-1)+COLUMN(ServerHeaderCell) + 1)))","v":""}]
[{"$f":"IF(ISBLANK(INDEX('App Questionnaire'!$10:$10,1,2*(ROW(A475)-1)+COLUMN(AppHeaderCell) + 1)), \"\", (INDEX('App Questionnaire'!$10:$10,1,2*(ROW(A475)-1)+COLUMN(AppHeaderCell) + 1)))","v":""},{"$f":"IF(ISBLANK(INDEX('App Questionnaire'!$6:$6,1,2*(ROW(A475)-1)+COLUMN(AppHeaderCell) + 1)), \"\", (INDEX('App Questionnaire'!$6:$6,1,2*(ROW(A475)-1)+COLUMN(AppHeaderCell) + 1)))","v":""},"",{"$f":"IF(ISBLANK(INDEX('Server Questionnaire'!$6:$6,1,6*(ROW(A475)-1)+COLUMN(ServerHeaderCell) + 1)), \"\", (INDEX('Server Questionnaire'!$6:$6,1,6*(ROW(A475)-1)+COLUMN(ServerHeaderCell) + 1)))","v":""}]
[{"$f":"IF(ISBLANK(INDEX('App Questionnaire'!$10:$10,1,2*(ROW(A476)-1)+COLUMN(AppHeaderCell) + 1)), \"\", (INDEX('App Questionnaire'!$10:$10,1,2*(ROW(A476)-1)+COLUMN(AppHeaderCell) + 1)))","v":""},{"$f":"IF(ISBLANK(INDEX('App Questionnaire'!$6:$6,1,2*(ROW(A476)-1)+COLUMN(AppHeaderCell) + 1)), \"\", (INDEX('App Questionnaire'!$6:$6,1,2*(ROW(A476)-1)+COLUMN(AppHeaderCell) + 1)))","v":""},"",{"$f":"IF(ISBLANK(INDEX('Server Questionnaire'!$6:$6,1,6*(ROW(A476)-1)+COLUMN(ServerHeaderCell) + 1)), \"\", (INDEX('Server Questionnaire'!$6:$6,1,6*(ROW(A476)-1)+COLUMN(ServerHeaderCell) + 1)))","v":""}]
[{"$f":"IF(ISBLANK(INDEX('App Questionnaire'!$10:$10,1,2*(ROW(A477)-1)+COLUMN(AppHeaderCell) + 1)), \"\", (INDEX('App Questionnaire'!$10:$10,1,2*(ROW(A477)-1)+COLUMN(AppHeaderCell) + 1)))","v":""},{"$f":"IF(ISBLANK(INDEX('App Questionnaire'!$6:$6,1,2*(ROW(A477)-1)+COLUMN(AppHeaderCell) + 1)), \"\", (INDEX('App Questionnaire'!$6:$6,1,2*(ROW(A477)-1)+COLUMN(AppHeaderCell) + 1)))","v":""},"",{"$f":"IF(ISBLANK(INDEX('Server Questionnaire'!$6:$6,1,6*(ROW(A477)-1)+COLUMN(ServerHeaderCell) + 1)), \"\", (INDEX('Server Questionnaire'!$6:$6,1,6*(ROW(A477)-1)+COLUMN(ServerHeaderCell) + 1)))","v":""}]
[{"$f":"IF(ISBLANK(INDEX('App Questionnaire'!$10:$10,1,2*(ROW(A478)-1)+COLUMN(AppHeaderCell) + 1)), \"\", (INDEX('App Questionnaire'!$10:$10,1,2*(ROW(A478)-1)+COLUMN(AppHeaderCell) + 1)))","v":""},{"$f":"IF(ISBLANK(INDEX('App Questionnaire'!$6:$6,1,2*(ROW(A478)-1)+COLUMN(AppHeaderCell) + 1)), \"\", (INDEX('App Questionnaire'!$6:$6,1,2*(ROW(A478)-1)+COLUMN(AppHeaderCell) + 1)))","v":""},"",{"$f":"IF(ISBLANK(INDEX('Server Questionnaire'!$6:$6,1,6*(ROW(A478)-1)+COLUMN(ServerHeaderCell) + 1)), \"\", (INDEX('Server Questionnaire'!$6:$6,1,6*(ROW(A478)-1)+COLUMN(ServerHeaderCell) + 1)))","v":""}]
[{"$f":"IF(ISBLANK(INDEX('App Questionnaire'!$10:$10,1,2*(ROW(A479)-1)+COLUMN(AppHeaderCell) + 1)), \"\", (INDEX('App Questionnaire'!$10:$10,1,2*(ROW(A479)-1)+COLUMN(AppHeaderCell) + 1)))","v":""},{"$f":"IF(ISBLANK(INDEX('App Questionnaire'!$6:$6,1,2*(ROW(A479)-1)+COLUMN(AppHeaderCell) + 1)), \"\", (INDEX('App Questionnaire'!$6:$6,1,2*(ROW(A479)-1)+COLUMN(AppHeaderCell) + 1)))","v":""},"",{"$f":"IF(ISBLANK(INDEX('Server Questionnaire'!$6:$6,1,6*(ROW(A479)-1)+COLUMN(ServerHeaderCell) + 1)), \"\", (INDEX('Server Questionnaire'!$6:$6,1,6*(ROW(A479)-1)+COLUMN(ServerHeaderCell) + 1)))","v":""}]
[{"$f":"IF(ISBLANK(INDEX('App Questionnaire'!$10:$10,1,2*(ROW(A480)-1)+COLUMN(AppHeaderCell) + 1)), \"\", (INDEX('App Questionnaire'!$10:$10,1,2*(ROW(A480)-1)+COLUMN(AppHeaderCell) + 1)))","v":""},{"$f":"IF(ISBLANK(INDEX('App Questionnaire'!$6:$6,1,2*(ROW(A480)-1)+COLUMN(AppHeaderCell) + 1)), \"\", (INDEX('App Questionnaire'!$6:$6,1,2*(ROW(A480)-1)+COLUMN(AppHeaderCell) + 1)))","v":""},"",{"$f":"IF(ISBLANK(INDEX('Server Questionnaire'!$6:$6,1,6*(ROW(A480)-1)+COLUMN(ServerHeaderCell) + 1)), \"\", (INDEX('Server Questionnaire'!$6:$6,1,6*(ROW(A480)-1)+COLUMN(ServerHeaderCell) + 1)))","v":""}]
[{"$f":"IF(ISBLANK(INDEX('App Questionnaire'!$10:$10,1,2*(ROW(A481)-1)+COLUMN(AppHeaderCell) + 1)), \"\", (INDEX('App Questionnaire'!$10:$10,1,2*(ROW(A481)-1)+COLUMN(AppHeaderCell) + 1)))","v":""},{"$f":"IF(ISBLANK(INDEX('App Questionnaire'!$6:$6,1,2*(ROW(A481)-1)+COLUMN(AppHeaderCell) + 1)), \"\", (INDEX('App Questionnaire'!$6:$6,1,2*(ROW(A481)-1)+COLUMN(AppHeaderCell) + 1)))","v":""},"",{"$f":"IF(ISBLANK(INDEX('Server Questionnaire'!$6:$6,1,6*(ROW(A481)-1)+COLUMN(ServerHeaderCell) + 1)), \"\", (INDEX('Server Questionnaire'!$6:$6,1,6*(ROW(A481)-1)+COLUMN(ServerHeaderCell) + 1)))","v":""}]
[{"$f":"IF(ISBLANK(INDEX('App Questionnaire'!$10:$10,1,2*(ROW(A482)-1)+COLUMN(AppHeaderCell) + 1)), \"\", (INDEX('App Questionnaire'!$10:$10,1,2*(ROW(A482)-1)+COLUMN(AppHeaderCell) + 1)))","v":""},{"$f":"IF(ISBLANK(INDEX('App Questionnaire'!$6:$6,1,2*(ROW(A482)-1)+COLUMN(AppHeaderCell) + 1)), \"\", (INDEX('App Questionnaire'!$6:$6,1,2*(ROW(A482)-1)+COLUMN(AppHeaderCell) + 1)))","v":""},"",{"$f":"IF(ISBLANK(INDEX('Server Questionnaire'!$6:$6,1,6*(ROW(A482)-1)+COLUMN(ServerHeaderCell) + 1)), \"\", (INDEX('Server Questionnaire'!$6:$6,1,6*(ROW(A482)-1)+COLUMN(ServerHeaderCell) + 1)))","v":""}]
[{"$f":"IF(ISBLANK(INDEX('App Questionnaire'!$10:$10,1,2*(ROW(A483)-1)+COLUMN(AppHeaderCell) + 1)), \"\", (INDEX('App Questionnaire'!$10:$10,1,2*(ROW(A483)-1)+COLUMN(AppHeaderCell) + 1)))","v":""},{"$f":"IF(ISBLANK(INDEX('App Questionnaire'!$6:$6,1,2*(ROW(A483)-1)+COLUMN(AppHeaderCell) + 1)), \"\", (INDEX('App Questionnaire'!$6:$6,1,2*(ROW(A483)-1)+COLUMN(AppHeaderCell) + 1)))","v":""},"",{"$f":"IF(ISBLANK(INDEX('Server Questionnaire'!$6:$6,1,6*(ROW(A483)-1)+COLUMN(ServerHeaderCell) + 1)), \"\", (INDEX('Server Questionnaire'!$6:$6,1,6*(ROW(A483)-1)+COLUMN(ServerHeaderCell) + 1)))","v":""}]
[{"$f":"IF(ISBLANK(INDEX('App Questionnaire'!$10:$10,1,2*(ROW(A484)-1)+COLUMN(AppHeaderCell) + 1)), \"\", (INDEX('App Questionnaire'!$10:$10,1,2*(ROW(A484)-1)+COLUMN(AppHeaderCell) + 1)))","v":""},{"$f":"IF(ISBLANK(INDEX('App Questionnaire'!$6:$6,1,2*(ROW(A484)-1)+COLUMN(AppHeaderCell) + 1)), \"\", (INDEX('App Questionnaire'!$6:$6,1,2*(ROW(A484)-1)+COLUMN(AppHeaderCell) + 1)))","v":""},"",{"$f":"IF(ISBLANK(INDEX('Server Questionnaire'!$6:$6,1,6*(ROW(A484)-1)+COLUMN(ServerHeaderCell) + 1)), \"\", (INDEX('Server Questionnaire'!$6:$6,1,6*(ROW(A484)-1)+COLUMN(ServerHeaderCell) + 1)))","v":""}]
[{"$f":"IF(ISBLANK(INDEX('App Questionnaire'!$10:$10,1,2*(ROW(A485)-1)+COLUMN(AppHeaderCell) + 1)), \"\", (INDEX('App Questionnaire'!$10:$10,1,2*(ROW(A485)-1)+COLUMN(AppHeaderCell) + 1)))","v":""},{"$f":"IF(ISBLANK(INDEX('App Questionnaire'!$6:$6,1,2*(ROW(A485)-1)+COLUMN(AppHeaderCell) + 1)), \"\", (INDEX('App Questionnaire'!$6:$6,1,2*(ROW(A485)-1)+COLUMN(AppHeaderCell) + 1)))","v":""},"",{"$f":"IF(ISBLANK(INDEX('Server Questionnaire'!$6:$6,1,6*(ROW(A485)-1)+COLUMN(ServerHeaderCell) + 1)), \"\", (INDEX('Server Questionnaire'!$6:$6,1,6*(ROW(A485)-1)+COLUMN(ServerHeaderCell) + 1)))","v":""}]
[{"$f":"IF(ISBLANK(INDEX('App Questionnaire'!$10:$10,1,2*(ROW(A486)-1)+COLUMN(AppHeaderCell) + 1)), \"\", (INDEX('App Questionnaire'!$10:$10,1,2*(ROW(A486)-1)+COLUMN(AppHeaderCell) + 1)))","v":""},{"$f":"IF(ISBLANK(INDEX('App Questionnaire'!$6:$6,1,2*(ROW(A486)-1)+COLUMN(AppHeaderCell) + 1)), \"\", (INDEX('App Questionnaire'!$6:$6,1,2*(ROW(A486)-1)+COLUMN(AppHeaderCell) + 1)))","v":""},"",{"$f":"IF(ISBLANK(INDEX('Server Questionnaire'!$6:$6,1,6*(ROW(A486)-1)+COLUMN(ServerHeaderCell) + 1)), \"\", (INDEX('Server Questionnaire'!$6:$6,1,6*(ROW(A486)-1)+COLUMN(ServerHeaderCell) + 1)))","v":""}]
[{"$f":"IF(ISBLANK(INDEX('App Questionnaire'!$10:$10,1,2*(ROW(A487)-1)+COLUMN(AppHeaderCell) + 1)), \"\", (INDEX('App Questionnaire'!$10:$10,1,2*(ROW(A487)-1)+COLUMN(AppHeaderCell) + 1)))","v":""},{"$f":"IF(ISBLANK(INDEX('App Questionnaire'!$6:$6,1,2*(ROW(A487)-1)+COLUMN(AppHeaderCell) + 1)), \"\", (INDEX('App Questionnaire'!$6:$6,1,2*(ROW(A487)-1)+COLUMN(AppHeaderCell) + 1)))","v":""},"",{"$f":"IF(ISBLANK(INDEX('Server Questionnaire'!$6:$6,1,6*(ROW(A487)-1)+COLUMN(ServerHeaderCell) + 1)), \"\", (INDEX('Server Questionnaire'!$6:$6,1,6*(ROW(A487)-1)+COLUMN(ServerHeaderCell) + 1)))","v":""}]
[{"$f":"IF(ISBLANK(INDEX('App Questionnaire'!$10:$10,1,2*(ROW(A488)-1)+COLUMN(AppHeaderCell) + 1)), \"\", (INDEX('App Questionnaire'!$10:$10,1,2*(ROW(A488)-1)+COLUMN(AppHeaderCell) + 1)))","v":""},{"$f":"IF(ISBLANK(INDEX('App Questionnaire'!$6:$6,1,2*(ROW(A488)-1)+COLUMN(AppHeaderCell) + 1)), \"\", (INDEX('App Questionnaire'!$6:$6,1,2*(ROW(A488)-1)+COLUMN(AppHeaderCell) + 1)))","v":""},"",{"$f":"IF(ISBLANK(INDEX('Server Questionnaire'!$6:$6,1,6*(ROW(A488)-1)+COLUMN(ServerHeaderCell) + 1)), \"\", (INDEX('Server Questionnaire'!$6:$6,1,6*(ROW(A488)-1)+COLUMN(ServerHeaderCell) + 1)))","v":""}]
[{"$f":"IF(ISBLANK(INDEX('App Questionnaire'!$10:$10,1,2*(ROW(A489)-1)+COLUMN(AppHeaderCell) + 1)), \"\", (INDEX('App Questionnaire'!$10:$10,1,2*(ROW(A489)-1)+COLUMN(AppHeaderCell) + 1)))","v":""},{"$f":"IF(ISBLANK(INDEX('App Questionnaire'!$6:$6,1,2*(ROW(A489)-1)+COLUMN(AppHeaderCell) + 1)), \"\", (INDEX('App Questionnaire'!$6:$6,1,2*(ROW(A489)-1)+COLUMN(AppHeaderCell) + 1)))","v":""},"",{"$f":"IF(ISBLANK(INDEX('Server Questionnaire'!$6:$6,1,6*(ROW(A489)-1)+COLUMN(ServerHeaderCell) + 1)), \"\", (INDEX('Server Questionnaire'!$6:$6,1,6*(ROW(A489)-1)+COLUMN(ServerHeaderCell) + 1)))","v":""}]
[{"$f":"IF(ISBLANK(INDEX('App Questionnaire'!$10:$10,1,2*(ROW(A490)-1)+COLUMN(AppHeaderCell) + 1)), \"\", (INDEX('App Questionnaire'!$10:$10,1,2*(ROW(A490)-1)+COLUMN(AppHeaderCell) + 1)))","v":""},{"$f":"IF(ISBLANK(INDEX('App Questionnaire'!$6:$6,1,2*(ROW(A490)-1)+COLUMN(AppHeaderCell) + 1)), \"\", (INDEX('App Questionnaire'!$6:$6,1,2*(ROW(A490)-1)+COLUMN(AppHeaderCell) + 1)))","v":""},"",{"$f":"IF(ISBLANK(INDEX('Server Questionnaire'!$6:$6,1,6*(ROW(A490)-1)+COLUMN(ServerHeaderCell) + 1)), \"\", (INDEX('Server Questionnaire'!$6:$6,1,6*(ROW(A490)-1)+COLUMN(ServerHeaderCell) + 1)))","v":""}]
[{"$f":"IF(ISBLANK(INDEX('App Questionnaire'!$10:$10,1,2*(ROW(A491)-1)+COLUMN(AppHeaderCell) + 1)), \"\", (INDEX('App Questionnaire'!$10:$10,1,2*(ROW(A491)-1)+COLUMN(AppHeaderCell) + 1)))","v":""},{"$f":"IF(ISBLANK(INDEX('App Questionnaire'!$6:$6,1,2*(ROW(A491)-1)+COLUMN(AppHeaderCell) + 1)), \"\", (INDEX('App Questionnaire'!$6:$6,1,2*(ROW(A491)-1)+COLUMN(AppHeaderCell) + 1)))","v":""},"",{"$f":"IF(ISBLANK(INDEX('Server Questionnaire'!$6:$6,1,6*(ROW(A491)-1)+COLUMN(ServerHeaderCell) + 1)), \"\", (INDEX('Server Questionnaire'!$6:$6,1,6*(ROW(A491)-1)+COLUMN(ServerHeaderCell) + 1)))","v":""}]
[{"$f":"IF(ISBLANK(INDEX('App Questionnaire'!$10:$10,1,2*(ROW(A492)-1)+COLUMN(AppHeaderCell) + 1)), \"\", (INDEX('App Questionnaire'!$10:$10,1,2*(ROW(A492)-1)+COLUMN(AppHeaderCell) + 1)))","v":""},{"$f":"IF(ISBLANK(INDEX('App Questionnaire'!$6:$6,1,2*(ROW(A492)-1)+COLUMN(AppHeaderCell) + 1)), \"\", (INDEX('App Questionnaire'!$6:$6,1,2*(ROW(A492)-1)+COLUMN(AppHeaderCell) + 1)))","v":""},"",{"$f":"IF(ISBLANK(INDEX('Server Questionnaire'!$6:$6,1,6*(ROW(A492)-1)+COLUMN(ServerHeaderCell) + 1)), \"\", (INDEX('Server Questionnaire'!$6:$6,1,6*(ROW(A492)-1)+COLUMN(ServerHeaderCell) + 1)))","v":""}]
[{"$f":"IF(ISBLANK(INDEX('App Questionnaire'!$10:$10,1,2*(ROW(A493)-1)+COLUMN(AppHeaderCell) + 1)), \"\", (INDEX('App Questionnaire'!$10:$10,1,2*(ROW(A493)-1)+COLUMN(AppHeaderCell) + 1)))","v":""},{"$f":"IF(ISBLANK(INDEX('App Questionnaire'!$6:$6,1,2*(ROW(A493)-1)+COLUMN(AppHeaderCell) + 1)), \"\", (INDEX('App Questionnaire'!$6:$6,1,2*(ROW(A493)-1)+COLUMN(AppHeaderCell) + 1)))","v":""},"",{"$f":"IF(ISBLANK(INDEX('Server Questionnaire'!$6:$6,1,6*(ROW(A493)-1)+COLUMN(ServerHeaderCell) + 1)), \"\", (INDEX('Server Questionnaire'!$6:$6,1,6*(ROW(A493)-1)+COLUMN(ServerHeaderCell) + 1)))","v":""}]
[{"$f":"IF(ISBLANK(INDEX('App Questionnaire'!$10:$10,1,2*(ROW(A494)-1)+COLUMN(AppHeaderCell) + 1)), \"\", (INDEX('App Questionnaire'!$10:$10,1,2*(ROW(A494)-1)+COLUMN(AppHeaderCell) + 1)))","v":""},{"$f":"IF(ISBLANK(INDEX('App Questionnaire'!$6:$6,1,2*(ROW(A494)-1)+COLUMN(AppHeaderCell) + 1)), \"\", (INDEX('App Questionnaire'!$6:$6,1,2*(ROW(A494)-1)+COLUMN(AppHeaderCell) + 1)))","v":""},"",{"$f":"IF(ISBLANK(INDEX('Server Questionnaire'!$6:$6,1,6*(ROW(A494)-1)+COLUMN(ServerHeaderCell) + 1)), \"\", (INDEX('Server Questionnaire'!$6:$6,1,6*(ROW(A494)-1)+COLUMN(ServerHeaderCell) + 1)))","v":""}]
[{"$f":"IF(ISBLANK(INDEX('App Questionnaire'!$10:$10,1,2*(ROW(A495)-1)+COLUMN(AppHeaderCell) + 1)), \"\", (INDEX('App Questionnaire'!$10:$10,1,2*(ROW(A495)-1)+COLUMN(AppHeaderCell) + 1)))","v":""},{"$f":"IF(ISBLANK(INDEX('App Questionnaire'!$6:$6,1,2*(ROW(A495)-1)+COLUMN(AppHeaderCell) + 1)), \"\", (INDEX('App Questionnaire'!$6:$6,1,2*(ROW(A495)-1)+COLUMN(AppHeaderCell) + 1)))","v":""},"",{"$f":"IF(ISBLANK(INDEX('Server Questionnaire'!$6:$6,1,6*(ROW(A495)-1)+COLUMN(ServerHeaderCell) + 1)), \"\", (INDEX('Server Questionnaire'!$6:$6,1,6*(ROW(A495)-1)+COLUMN(ServerHeaderCell) + 1)))","v":""}]
[{"$f":"IF(ISBLANK(INDEX('App Questionnaire'!$10:$10,1,2*(ROW(A496)-1)+COLUMN(AppHeaderCell) + 1)), \"\", (INDEX('App Questionnaire'!$10:$10,1,2*(ROW(A496)-1)+COLUMN(AppHeaderCell) + 1)))","v":""},{"$f":"IF(ISBLANK(INDEX('App Questionnaire'!$6:$6,1,2*(ROW(A496)-1)+COLUMN(AppHeaderCell) + 1)), \"\", (INDEX('App Questionnaire'!$6:$6,1,2*(ROW(A496)-1)+COLUMN(AppHeaderCell) + 1)))","v":""},"",{"$f":"IF(ISBLANK(INDEX('Server Questionnaire'!$6:$6,1,6*(ROW(A496)-1)+COLUMN(ServerHeaderCell) + 1)), \"\", (INDEX('Server Questionnaire'!$6:$6,1,6*(ROW(A496)-1)+COLUMN(ServerHeaderCell) + 1)))","v":""}]
[{"$f":"IF(ISBLANK(INDEX('App Questionnaire'!$10:$10,1,2*(ROW(A497)-1)+COLUMN(AppHeaderCell) + 1)), \"\", (INDEX('App Questionnaire'!$10:$10,1,2*(ROW(A497)-1)+COLUMN(AppHeaderCell) + 1)))","v":""},{"$f":"IF(ISBLANK(INDEX('App Questionnaire'!$6:$6,1,2*(ROW(A497)-1)+COLUMN(AppHeaderCell) + 1)), \"\", (INDEX('App Questionnaire'!$6:$6,1,2*(ROW(A497)-1)+COLUMN(AppHeaderCell) + 1)))","v":""},"",{"$f":"IF(ISBLANK(INDEX('Server Questionnaire'!$6:$6,1,6*(ROW(A497)-1)+COLUMN(ServerHeaderCell) + 1)), \"\", (INDEX('Server Questionnaire'!$6:$6,1,6*(ROW(A497)-1)+COLUMN(ServerHeaderCell) + 1)))","v":""}]
[{"$f":"IF(ISBLANK(INDEX('App Questionnaire'!$10:$10,1,2*(ROW(A498)-1)+COLUMN(AppHeaderCell) + 1)), \"\", (INDEX('App Questionnaire'!$10:$10,1,2*(ROW(A498)-1)+COLUMN(AppHeaderCell) + 1)))","v":""},{"$f":"IF(ISBLANK(INDEX('App Questionnaire'!$6:$6,1,2*(ROW(A498)-1)+COLUMN(AppHeaderCell) + 1)), \"\", (INDEX('App Questionnaire'!$6:$6,1,2*(ROW(A498)-1)+COLUMN(AppHeaderCell) + 1)))","v":""},"",{"$f":"IF(ISBLANK(INDEX('Server Questionnaire'!$6:$6,1,6*(ROW(A498)-1)+COLUMN(ServerHeaderCell) + 1)), \"\", (INDEX('Server Questionnaire'!$6:$6,1,6*(ROW(A498)-1)+COLUMN(ServerHeaderCell) + 1)))","v":""}]
[{"$f":"IF(ISBLANK(INDEX('App Questionnaire'!$10:$10,1,2*(ROW(A499)-1)+COLUMN(AppHeaderCell) + 1)), \"\", (INDEX('App Questionnaire'!$10:$10,1,2*(ROW(A499)-1)+COLUMN(AppHeaderCell) + 1)))","v":""},{"$f":"IF(ISBLANK(INDEX('App Questionnaire'!$6:$6,1,2*(ROW(A499)-1)+COLUMN(AppHeaderCell) + 1)), \"\", (INDEX('App Questionnaire'!$6:$6,1,2*(ROW(A499)-1)+COLUMN(AppHeaderCell) + 1)))","v":""},"",{"$f":"IF(ISBLANK(INDEX('Server Questionnaire'!$6:$6,1,6*(ROW(A499)-1)+COLUMN(ServerHeaderCell) + 1)), \"\", (INDEX('Server Questionnaire'!$6:$6,1,6*(ROW(A499)-1)+COLUMN(ServerHeaderCell) + 1)))","v":""}]
[{"$f":"IF(ISBLANK(INDEX('App Questionnaire'!$10:$10,1,2*(ROW(A500)-1)+COLUMN(AppHeaderCell) + 1)), \"\", (INDEX('App Questionnaire'!$10:$10,1,2*(ROW(A500)-1)+COLUMN(AppHeaderCell) + 1)))","v":""},{"$f":"IF(ISBLANK(INDEX('App Questionnaire'!$6:$6,1,2*(ROW(A500)-1)+COLUMN(AppHeaderCell) + 1)), \"\", (INDEX('App Questionnaire'!$6:$6,1,2*(ROW(A500)-1)+COLUMN(AppHeaderCell) + 1)))","v":""},"",{"$f":"IF(ISBLANK(INDEX('Server Questionnaire'!$6:$6,1,6*(ROW(A500)-1)+COLUMN(ServerHeaderCell) + 1)), \"\", (INDEX('Server Questionnaire'!$6:$6,1,6*(ROW(A500)-1)+COLUMN(ServerHeaderCell) + 1)))","v":""}]
[{"$f":"IF(ISBLANK(INDEX('App Questionnaire'!$10:$10,1,2*(ROW(A501)-1)+COLUMN(AppHeaderCell) + 1)), \"\", (INDEX('App Questionnaire'!$10:$10,1,2*(ROW(A501)-1)+COLUMN(AppHeaderCell) + 1)))","v":""},{"$f":"IF(ISBLANK(INDEX('App Questionnaire'!$6:$6,1,2*(ROW(A501)-1)+COLUMN(AppHeaderCell) + 1)), \"\", (INDEX('App Questionnaire'!$6:$6,1,2*(ROW(A501)-1)+COLUMN(AppHeaderCell) + 1)))","v":""},"",{"$f":"IF(ISBLANK(INDEX('Server Questionnaire'!$6:$6,1,6*(ROW(A501)-1)+COLUMN(ServerHeaderCell) + 1)), \"\", (INDEX('Server Questionnaire'!$6:$6,1,6*(ROW(A501)-1)+COLUMN(ServerHeaderCell) + 1)))","v":""}]
[{"$f":"IF(ISBLANK(INDEX('App Questionnaire'!$10:$10,1,2*(ROW(A502)-1)+COLUMN(AppHeaderCell) + 1)), \"\", (INDEX('App Questionnaire'!$10:$10,1,2*(ROW(A502)-1)+COLUMN(AppHeaderCell) + 1)))","v":""},{"$f":"IF(ISBLANK(INDEX('App Questionnaire'!$6:$6,1,2*(ROW(A502)-1)+COLUMN(AppHeaderCell) + 1)), \"\", (INDEX('App Questionnaire'!$6:$6,1,2*(ROW(A502)-1)+COLUMN(AppHeaderCell) + 1)))","v":""},"",{"$f":"IF(ISBLANK(INDEX('Server Questionnaire'!$6:$6,1,6*(ROW(A502)-1)+COLUMN(ServerHeaderCell) + 1)), \"\", (INDEX('Server Questionnaire'!$6:$6,1,6*(ROW(A502)-1)+COLUMN(ServerHeaderCell) + 1)))","v":""}]
[{"$f":"IF(ISBLANK(INDEX('App Questionnaire'!$10:$10,1,2*(ROW(A503)-1)+COLUMN(AppHeaderCell) + 1)), \"\", (INDEX('App Questionnaire'!$10:$10,1,2*(ROW(A503)-1)+COLUMN(AppHeaderCell) + 1)))","v":""},{"$f":"IF(ISBLANK(INDEX('App Questionnaire'!$6:$6,1,2*(ROW(A503)-1)+COLUMN(AppHeaderCell) + 1)), \"\", (INDEX('App Questionnaire'!$6:$6,1,2*(ROW(A503)-1)+COLUMN(AppHeaderCell) + 1)))","v":""},"",{"$f":"IF(ISBLANK(INDEX('Server Questionnaire'!$6:$6,1,6*(ROW(A503)-1)+COLUMN(ServerHeaderCell) + 1)), \"\", (INDEX('Server Questionnaire'!$6:$6,1,6*(ROW(A503)-1)+COLUMN(ServerHeaderCell) + 1)))","v":""}]
[{"$f":"IF(ISBLANK(INDEX('App Questionnaire'!$10:$10,1,2*(ROW(A504)-1)+COLUMN(AppHeaderCell) + 1)), \"\", (INDEX('App Questionnaire'!$10:$10,1,2*(ROW(A504)-1)+COLUMN(AppHeaderCell) + 1)))","v":""},{"$f":"IF(ISBLANK(INDEX('App Questionnaire'!$6:$6,1,2*(ROW(A504)-1)+COLUMN(AppHeaderCell) + 1)), \"\", (INDEX('App Questionnaire'!$6:$6,1,2*(ROW(A504)-1)+COLUMN(AppHeaderCell) + 1)))","v":""},"",{"$f":"IF(ISBLANK(INDEX('Server Questionnaire'!$6:$6,1,6*(ROW(A504)-1)+COLUMN(ServerHeaderCell) + 1)), \"\", (INDEX('Server Questionnaire'!$6:$6,1,6*(ROW(A504)-1)+COLUMN(ServerHeaderCell) + 1)))","v":""}]
[{"$f":"IF(ISBLANK(INDEX('App Questionnaire'!$10:$10,1,2*(ROW(A505)-1)+COLUMN(AppHeaderCell) + 1)), \"\", (INDEX('App Questionnaire'!$10:$10,1,2*(ROW(A505)-1)+COLUMN(AppHeaderCell) + 1)))","v":""},{"$f":"IF(ISBLANK(INDEX('App Questionnaire'!$6:$6,1,2*(ROW(A505)-1)+COLUMN(AppHeaderCell) + 1)), \"\", (INDEX('App Questionnaire'!$6:$6,1,2*(ROW(A505)-1)+COLUMN(AppHeaderCell) + 1)))","v":""},"",{"$f":"IF(ISBLANK(INDEX('Server Questionnaire'!$6:$6,1,6*(ROW(A505)-1)+COLUMN(ServerHeaderCell) + 1)), \"\", (INDEX('Server Questionnaire'!$6:$6,1,6*(ROW(A505)-1)+COLUMN(ServerHeaderCell) + 1)))","v":""}]
[{"$f":"IF(ISBLANK(INDEX('App Questionnaire'!$10:$10,1,2*(ROW(A506)-1)+COLUMN(AppHeaderCell) + 1)), \"\", (INDEX('App Questionnaire'!$10:$10,1,2*(ROW(A506)-1)+COLUMN(AppHeaderCell) + 1)))","v":""},{"$f":"IF(ISBLANK(INDEX('App Questionnaire'!$6:$6,1,2*(ROW(A506)-1)+COLUMN(AppHeaderCell) + 1)), \"\", (INDEX('App Questionnaire'!$6:$6,1,2*(ROW(A506)-1)+COLUMN(AppHeaderCell) + 1)))","v":""},"",{"$f":"IF(ISBLANK(INDEX('Server Questionnaire'!$6:$6,1,6*(ROW(A506)-1)+COLUMN(ServerHeaderCell) + 1)), \"\", (INDEX('Server Questionnaire'!$6:$6,1,6*(ROW(A506)-1)+COLUMN(ServerHeaderCell) + 1)))","v":""}]
[{"$f":"IF(ISBLANK(INDEX('App Questionnaire'!$10:$10,1,2*(ROW(A507)-1)+COLUMN(AppHeaderCell) + 1)), \"\", (INDEX('App Questionnaire'!$10:$10,1,2*(ROW(A507)-1)+COLUMN(AppHeaderCell) + 1)))","v":""},{"$f":"IF(ISBLANK(INDEX('App Questionnaire'!$6:$6,1,2*(ROW(A507)-1)+COLUMN(AppHeaderCell) + 1)), \"\", (INDEX('App Questionnaire'!$6:$6,1,2*(ROW(A507)-1)+COLUMN(AppHeaderCell) + 1)))","v":""},"",{"$f":"IF(ISBLANK(INDEX('Server Questionnaire'!$6:$6,1,6*(ROW(A507)-1)+COLUMN(ServerHeaderCell) + 1)), \"\", (INDEX('Server Questionnaire'!$6:$6,1,6*(ROW(A507)-1)+COLUMN(ServerHeaderCell) + 1)))","v":""}]
[{"$f":"IF(ISBLANK(INDEX('App Questionnaire'!$10:$10,1,2*(ROW(A508)-1)+COLUMN(AppHeaderCell) + 1)), \"\", (INDEX('App Questionnaire'!$10:$10,1,2*(ROW(A508)-1)+COLUMN(AppHeaderCell) + 1)))","v":""},{"$f":"IF(ISBLANK(INDEX('App Questionnaire'!$6:$6,1,2*(ROW(A508)-1)+COLUMN(AppHeaderCell) + 1)), \"\", (INDEX('App Questionnaire'!$6:$6,1,2*(ROW(A508)-1)+COLUMN(AppHeaderCell) + 1)))","v":""},"",{"$f":"IF(ISBLANK(INDEX('Server Questionnaire'!$6:$6,1,6*(ROW(A508)-1)+COLUMN(ServerHeaderCell) + 1)), \"\", (INDEX('Server Questionnaire'!$6:$6,1,6*(ROW(A508)-1)+COLUMN(ServerHeaderCell) + 1)))","v":""}]
[{"$f":"IF(ISBLANK(INDEX('App Questionnaire'!$10:$10,1,2*(ROW(A509)-1)+COLUMN(AppHeaderCell) + 1)), \"\", (INDEX('App Questionnaire'!$10:$10,1,2*(ROW(A509)-1)+COLUMN(AppHeaderCell) + 1)))","v":""},{"$f":"IF(ISBLANK(INDEX('App Questionnaire'!$6:$6,1,2*(ROW(A509)-1)+COLUMN(AppHeaderCell) + 1)), \"\", (INDEX('App Questionnaire'!$6:$6,1,2*(ROW(A509)-1)+COLUMN(AppHeaderCell) + 1)))","v":""},"",{"$f":"IF(ISBLANK(INDEX('Server Questionnaire'!$6:$6,1,6*(ROW(A509)-1)+COLUMN(ServerHeaderCell) + 1)), \"\", (INDEX('Server Questionnaire'!$6:$6,1,6*(ROW(A509)-1)+COLUMN(ServerHeaderCell) + 1)))","v":""}]
[{"$f":"IF(ISBLANK(INDEX('App Questionnaire'!$10:$10,1,2*(ROW(A510)-1)+COLUMN(AppHeaderCell) + 1)), \"\", (INDEX('App Questionnaire'!$10:$10,1,2*(ROW(A510)-1)+COLUMN(AppHeaderCell) + 1)))","v":""},{"$f":"IF(ISBLANK(INDEX('App Questionnaire'!$6:$6,1,2*(ROW(A510)-1)+COLUMN(AppHeaderCell) + 1)), \"\", (INDEX('App Questionnaire'!$6:$6,1,2*(ROW(A510)-1)+COLUMN(AppHeaderCell) + 1)))","v":""},"",{"$f":"IF(ISBLANK(INDEX('Server Questionnaire'!$6:$6,1,6*(ROW(A510)-1)+COLUMN(ServerHeaderCell) + 1)), \"\", (INDEX('Server Questionnaire'!$6:$6,1,6*(ROW(A510)-1)+COLUMN(ServerHeaderCell) + 1)))","v":""}]
[{"$f":"IF(ISBLANK(INDEX('App Questionnaire'!$10:$10,1,2*(ROW(A511)-1)+COLUMN(AppHeaderCell) + 1)), \"\", (INDEX('App Questionnaire'!$10:$10,1,2*(ROW(A511)-1)+COLUMN(AppHeaderCell) + 1)))","v":""},{"$f":"IF(ISBLANK(INDEX('App Questionnaire'!$6:$6,1,2*(ROW(A511)-1)+COLUMN(AppHeaderCell) + 1)), \"\", (INDEX('App Questionnaire'!$6:$6,1,2*(ROW(A511)-1)+COLUMN(AppHeaderCell) + 1)))","v":""},"",{"$f":"IF(ISBLANK(INDEX('Server Questionnaire'!$6:$6,1,6*(ROW(A511)-1)+COLUMN(ServerHeaderCell) + 1)), \"\", (INDEX('Server Questionnaire'!$6:$6,1,6*(ROW(A511)-1)+COLUMN(ServerHeaderCell) + 1)))","v":""}]
[{"$f":"IF(ISBLANK(INDEX('App Questionnaire'!$10:$10,1,2*(ROW(A512)-1)+COLUMN(AppHeaderCell) + 1)), \"\", (INDEX('App Questionnaire'!$10:$10,1,2*(ROW(A512)-1)+COLUMN(AppHeaderCell) + 1)))","v":""},{"$f":"IF(ISBLANK(INDEX('App Questionnaire'!$6:$6,1,2*(ROW(A512)-1)+COLUMN(AppHeaderCell) + 1)), \"\", (INDEX('App Questionnaire'!$6:$6,1,2*(ROW(A512)-1)+COLUMN(AppHeaderCell) + 1)))","v":""},"",{"$f":"IF(ISBLANK(INDEX('Server Questionnaire'!$6:$6,1,6*(ROW(A512)-1)+COLUMN(ServerHeaderCell) + 1)), \"\", (INDEX('Server Questionnaire'!$6:$6,1,6*(ROW(A512)-1)+COLUMN(ServerHeaderCell) + 1)))","v":""}]
[{"$f":"IF(ISBLANK(INDEX('App Questionnaire'!$10:$10,1,2*(ROW(A513)-1)+COLUMN(AppHeaderCell) + 1)), \"\", (INDEX('App Questionnaire'!$10:$10,1,2*(ROW(A513)-1)+COLUMN(AppHeaderCell) + 1)))","v":""},{"$f":"IF(ISBLANK(INDEX('App Questionnaire'!$6:$6,1,2*(ROW(A513)-1)+COLUMN(AppHeaderCell) + 1)), \"\", (INDEX('App Questionnaire'!$6:$6,1,2*(ROW(A513)-1)+COLUMN(AppHeaderCell) + 1)))","v":""},"",{"$f":"IF(ISBLANK(INDEX('Server Questionnaire'!$6:$6,1,6*(ROW(A513)-1)+COLUMN(ServerHeaderCell) + 1)), \"\", (INDEX('Server Questionnaire'!$6:$6,1,6*(ROW(A513)-1)+COLUMN(ServerHeaderCell) + 1)))","v":""}]
[{"$f":"IF(ISBLANK(INDEX('App Questionnaire'!$10:$10,1,2*(ROW(A514)-1)+COLUMN(AppHeaderCell) + 1)), \"\", (INDEX('App Questionnaire'!$10:$10,1,2*(ROW(A514)-1)+COLUMN(AppHeaderCell) + 1)))","v":""},{"$f":"IF(ISBLANK(INDEX('App Questionnaire'!$6:$6,1,2*(ROW(A514)-1)+COLUMN(AppHeaderCell) + 1)), \"\", (INDEX('App Questionnaire'!$6:$6,1,2*(ROW(A514)-1)+COLUMN(AppHeaderCell) + 1)))","v":""},"",{"$f":"IF(ISBLANK(INDEX('Server Questionnaire'!$6:$6,1,6*(ROW(A514)-1)+COLUMN(ServerHeaderCell) + 1)), \"\", (INDEX('Server Questionnaire'!$6:$6,1,6*(ROW(A514)-1)+COLUMN(ServerHeaderCell) + 1)))","v":""}]
[{"$f":"IF(ISBLANK(INDEX('App Questionnaire'!$10:$10,1,2*(ROW(A515)-1)+COLUMN(AppHeaderCell) + 1)), \"\", (INDEX('App Questionnaire'!$10:$10,1,2*(ROW(A515)-1)+COLUMN(AppHeaderCell) + 1)))","v":""},{"$f":"IF(ISBLANK(INDEX('App Questionnaire'!$6:$6,1,2*(ROW(A515)-1)+COLUMN(AppHeaderCell) + 1)), \"\", (INDEX('App Questionnaire'!$6:$6,1,2*(ROW(A515)-1)+COLUMN(AppHeaderCell) + 1)))","v":""},{"$f":" IF(B515 = \"\", \"\", B515 & \" - \" & A515)","v":""},{"$f":"IF(ISBLANK(INDEX('Server Questionnaire'!$6:$6,1,6*(ROW(A515)-1)+COLUMN(ServerHeaderCell) + 1)), \"\", (INDEX('Server Questionnaire'!$6:$6,1,6*(ROW(A515)-1)+COLUMN(ServerHeaderCell) + 1)))","v":""}]
[{"$f":"IF(ISBLANK(INDEX('App Questionnaire'!$10:$10,1,2*(ROW(A516)-1)+COLUMN(AppHeaderCell) + 1)), \"\", (INDEX('App Questionnaire'!$10:$10,1,2*(ROW(A516)-1)+COLUMN(AppHeaderCell) + 1)))","v":""},{"$f":"IF(ISBLANK(INDEX('App Questionnaire'!$6:$6,1,2*(ROW(A516)-1)+COLUMN(AppHeaderCell) + 1)), \"\", (INDEX('App Questionnaire'!$6:$6,1,2*(ROW(A516)-1)+COLUMN(AppHeaderCell) + 1)))","v":""},"",{"$f":"IF(ISBLANK(INDEX('Server Questionnaire'!$6:$6,1,6*(ROW(A516)-1)+COLUMN(ServerHeaderCell) + 1)), \"\", (INDEX('Server Questionnaire'!$6:$6,1,6*(ROW(A516)-1)+COLUMN(ServerHeaderCell) + 1)))","v":""}]
[{"$f":"IF(ISBLANK(INDEX('App Questionnaire'!$10:$10,1,2*(ROW(A517)-1)+COLUMN(AppHeaderCell) + 1)), \"\", (INDEX('App Questionnaire'!$10:$10,1,2*(ROW(A517)-1)+COLUMN(AppHeaderCell) + 1)))","v":""},{"$f":"IF(ISBLANK(INDEX('App Questionnaire'!$6:$6,1,2*(ROW(A517)-1)+COLUMN(AppHeaderCell) + 1)), \"\", (INDEX('App Questionnaire'!$6:$6,1,2*(ROW(A517)-1)+COLUMN(AppHeaderCell) + 1)))","v":""},"",{"$f":"IF(ISBLANK(INDEX('Server Questionnaire'!$6:$6,1,6*(ROW(A517)-1)+COLUMN(ServerHeaderCell) + 1)), \"\", (INDEX('Server Questionnaire'!$6:$6,1,6*(ROW(A517)-1)+COLUMN(ServerHeaderCell) + 1)))","v":""}]
[{"$f":"IF(ISBLANK(INDEX('App Questionnaire'!$10:$10,1,2*(ROW(A518)-1)+COLUMN(AppHeaderCell) + 1)), \"\", (INDEX('App Questionnaire'!$10:$10,1,2*(ROW(A518)-1)+COLUMN(AppHeaderCell) + 1)))","v":""},{"$f":"IF(ISBLANK(INDEX('App Questionnaire'!$6:$6,1,2*(ROW(A518)-1)+COLUMN(AppHeaderCell) + 1)), \"\", (INDEX('App Questionnaire'!$6:$6,1,2*(ROW(A518)-1)+COLUMN(AppHeaderCell) + 1)))","v":""},"",{"$f":"IF(ISBLANK(INDEX('Server Questionnaire'!$6:$6,1,6*(ROW(A518)-1)+COLUMN(ServerHeaderCell) + 1)), \"\", (INDEX('Server Questionnaire'!$6:$6,1,6*(ROW(A518)-1)+COLUMN(ServerHeaderCell) + 1)))","v":""}]
[{"$f":"IF(ISBLANK(INDEX('App Questionnaire'!$10:$10,1,2*(ROW(A519)-1)+COLUMN(AppHeaderCell) + 1)), \"\", (INDEX('App Questionnaire'!$10:$10,1,2*(ROW(A519)-1)+COLUMN(AppHeaderCell) + 1)))","v":""},{"$f":"IF(ISBLANK(INDEX('App Questionnaire'!$6:$6,1,2*(ROW(A519)-1)+COLUMN(AppHeaderCell) + 1)), \"\", (INDEX('App Questionnaire'!$6:$6,1,2*(ROW(A519)-1)+COLUMN(AppHeaderCell) + 1)))","v":""},"",{"$f":"IF(ISBLANK(INDEX('Server Questionnaire'!$6:$6,1,6*(ROW(A519)-1)+COLUMN(ServerHeaderCell) + 1)), \"\", (INDEX('Server Questionnaire'!$6:$6,1,6*(ROW(A519)-1)+COLUMN(ServerHeaderCell) + 1)))","v":""}]
[{"$f":"IF(ISBLANK(INDEX('App Questionnaire'!$10:$10,1,2*(ROW(A520)-1)+COLUMN(AppHeaderCell) + 1)), \"\", (INDEX('App Questionnaire'!$10:$10,1,2*(ROW(A520)-1)+COLUMN(AppHeaderCell) + 1)))","v":""},{"$f":"IF(ISBLANK(INDEX('App Questionnaire'!$6:$6,1,2*(ROW(A520)-1)+COLUMN(AppHeaderCell) + 1)), \"\", (INDEX('App Questionnaire'!$6:$6,1,2*(ROW(A520)-1)+COLUMN(AppHeaderCell) + 1)))","v":""},"",{"$f":"IF(ISBLANK(INDEX('Server Questionnaire'!$6:$6,1,6*(ROW(A520)-1)+COLUMN(ServerHeaderCell) + 1)), \"\", (INDEX('Server Questionnaire'!$6:$6,1,6*(ROW(A520)-1)+COLUMN(ServerHeaderCell) + 1)))","v":""}]
[{"$f":"IF(ISBLANK(INDEX('App Questionnaire'!$10:$10,1,2*(ROW(A521)-1)+COLUMN(AppHeaderCell) + 1)), \"\", (INDEX('App Questionnaire'!$10:$10,1,2*(ROW(A521)-1)+COLUMN(AppHeaderCell) + 1)))","v":""},{"$f":"IF(ISBLANK(INDEX('App Questionnaire'!$6:$6,1,2*(ROW(A521)-1)+COLUMN(AppHeaderCell) + 1)), \"\", (INDEX('App Questionnaire'!$6:$6,1,2*(ROW(A521)-1)+COLUMN(AppHeaderCell) + 1)))","v":""},"",{"$f":"IF(ISBLANK(INDEX('Server Questionnaire'!$6:$6,1,6*(ROW(A521)-1)+COLUMN(ServerHeaderCell) + 1)), \"\", (INDEX('Server Questionnaire'!$6:$6,1,6*(ROW(A521)-1)+COLUMN(ServerHeaderCell) + 1)))","v":""}]
[{"$f":"IF(ISBLANK(INDEX('App Questionnaire'!$10:$10,1,2*(ROW(A522)-1)+COLUMN(AppHeaderCell) + 1)), \"\", (INDEX('App Questionnaire'!$10:$10,1,2*(ROW(A522)-1)+COLUMN(AppHeaderCell) + 1)))","v":""},{"$f":"IF(ISBLANK(INDEX('App Questionnaire'!$6:$6,1,2*(ROW(A522)-1)+COLUMN(AppHeaderCell) + 1)), \"\", (INDEX('App Questionnaire'!$6:$6,1,2*(ROW(A522)-1)+COLUMN(AppHeaderCell) + 1)))","v":""},"",{"$f":"IF(ISBLANK(INDEX('Server Questionnaire'!$6:$6,1,6*(ROW(A522)-1)+COLUMN(ServerHeaderCell) + 1)), \"\", (INDEX('Server Questionnaire'!$6:$6,1,6*(ROW(A522)-1)+COLUMN(ServerHeaderCell) + 1)))","v":""}]
[{"$f":"IF(ISBLANK(INDEX('App Questionnaire'!$10:$10,1,2*(ROW(A523)-1)+COLUMN(AppHeaderCell) + 1)), \"\", (INDEX('App Questionnaire'!$10:$10,1,2*(ROW(A523)-1)+COLUMN(AppHeaderCell) + 1)))","v":""},{"$f":"IF(ISBLANK(INDEX('App Questionnaire'!$6:$6,1,2*(ROW(A523)-1)+COLUMN(AppHeaderCell) + 1)), \"\", (INDEX('App Questionnaire'!$6:$6,1,2*(ROW(A523)-1)+COLUMN(AppHeaderCell) + 1)))","v":""},"",{"$f":"IF(ISBLANK(INDEX('Server Questionnaire'!$6:$6,1,6*(ROW(A523)-1)+COLUMN(ServerHeaderCell) + 1)), \"\", (INDEX('Server Questionnaire'!$6:$6,1,6*(ROW(A523)-1)+COLUMN(ServerHeaderCell) + 1)))","v":""}]
[{"$f":"IF(ISBLANK(INDEX('App Questionnaire'!$10:$10,1,2*(ROW(A524)-1)+COLUMN(AppHeaderCell) + 1)), \"\", (INDEX('App Questionnaire'!$10:$10,1,2*(ROW(A524)-1)+COLUMN(AppHeaderCell) + 1)))","v":""},{"$f":"IF(ISBLANK(INDEX('App Questionnaire'!$6:$6,1,2*(ROW(A524)-1)+COLUMN(AppHeaderCell) + 1)), \"\", (INDEX('App Questionnaire'!$6:$6,1,2*(ROW(A524)-1)+COLUMN(AppHeaderCell) + 1)))","v":""},"",{"$f":"IF(ISBLANK(INDEX('Server Questionnaire'!$6:$6,1,6*(ROW(A524)-1)+COLUMN(ServerHeaderCell) + 1)), \"\", (INDEX('Server Questionnaire'!$6:$6,1,6*(ROW(A524)-1)+COLUMN(ServerHeaderCell) + 1)))","v":""}]
[{"$f":"IF(ISBLANK(INDEX('App Questionnaire'!$10:$10,1,2*(ROW(A525)-1)+COLUMN(AppHeaderCell) + 1)), \"\", (INDEX('App Questionnaire'!$10:$10,1,2*(ROW(A525)-1)+COLUMN(AppHeaderCell) + 1)))","v":""},{"$f":"IF(ISBLANK(INDEX('App Questionnaire'!$6:$6,1,2*(ROW(A525)-1)+COLUMN(AppHeaderCell) + 1)), \"\", (INDEX('App Questionnaire'!$6:$6,1,2*(ROW(A525)-1)+COLUMN(AppHeaderCell) + 1)))","v":""},"",{"$f":"IF(ISBLANK(INDEX('Server Questionnaire'!$6:$6,1,6*(ROW(A525)-1)+COLUMN(ServerHeaderCell) + 1)), \"\", (INDEX('Server Questionnaire'!$6:$6,1,6*(ROW(A525)-1)+COLUMN(ServerHeaderCell) + 1)))","v":""}]
[{"$f":"IF(ISBLANK(INDEX('App Questionnaire'!$10:$10,1,2*(ROW(A526)-1)+COLUMN(AppHeaderCell) + 1)), \"\", (INDEX('App Questionnaire'!$10:$10,1,2*(ROW(A526)-1)+COLUMN(AppHeaderCell) + 1)))","v":""},{"$f":"IF(ISBLANK(INDEX('App Questionnaire'!$6:$6,1,2*(ROW(A526)-1)+COLUMN(AppHeaderCell) + 1)), \"\", (INDEX('App Questionnaire'!$6:$6,1,2*(ROW(A526)-1)+COLUMN(AppHeaderCell) + 1)))","v":""},"",{"$f":"IF(ISBLANK(INDEX('Server Questionnaire'!$6:$6,1,6*(ROW(A526)-1)+COLUMN(ServerHeaderCell) + 1)), \"\", (INDEX('Server Questionnaire'!$6:$6,1,6*(ROW(A526)-1)+COLUMN(ServerHeaderCell) + 1)))","v":""}]
[{"$f":"IF(ISBLANK(INDEX('App Questionnaire'!$10:$10,1,2*(ROW(A527)-1)+COLUMN(AppHeaderCell) + 1)), \"\", (INDEX('App Questionnaire'!$10:$10,1,2*(ROW(A527)-1)+COLUMN(AppHeaderCell) + 1)))","v":""},{"$f":"IF(ISBLANK(INDEX('App Questionnaire'!$6:$6,1,2*(ROW(A527)-1)+COLUMN(AppHeaderCell) + 1)), \"\", (INDEX('App Questionnaire'!$6:$6,1,2*(ROW(A527)-1)+COLUMN(AppHeaderCell) + 1)))","v":""},"",{"$f":"IF(ISBLANK(INDEX('Server Questionnaire'!$6:$6,1,6*(ROW(A527)-1)+COLUMN(ServerHeaderCell) + 1)), \"\", (INDEX('Server Questionnaire'!$6:$6,1,6*(ROW(A527)-1)+COLUMN(ServerHeaderCell) + 1)))","v":""}]
[{"$f":"IF(ISBLANK(INDEX('App Questionnaire'!$10:$10,1,2*(ROW(A528)-1)+COLUMN(AppHeaderCell) + 1)), \"\", (INDEX('App Questionnaire'!$10:$10,1,2*(ROW(A528)-1)+COLUMN(AppHeaderCell) + 1)))","v":""},{"$f":"IF(ISBLANK(INDEX('App Questionnaire'!$6:$6,1,2*(ROW(A528)-1)+COLUMN(AppHeaderCell) + 1)), \"\", (INDEX('App Questionnaire'!$6:$6,1,2*(ROW(A528)-1)+COLUMN(AppHeaderCell) + 1)))","v":""},"",{"$f":"IF(ISBLANK(INDEX('Server Questionnaire'!$6:$6,1,6*(ROW(A528)-1)+COLUMN(ServerHeaderCell) + 1)), \"\", (INDEX('Server Questionnaire'!$6:$6,1,6*(ROW(A528)-1)+COLUMN(ServerHeaderCell) + 1)))","v":""}]
[{"$f":"IF(ISBLANK(INDEX('App Questionnaire'!$10:$10,1,2*(ROW(A529)-1)+COLUMN(AppHeaderCell) + 1)), \"\", (INDEX('App Questionnaire'!$10:$10,1,2*(ROW(A529)-1)+COLUMN(AppHeaderCell) + 1)))","v":""},{"$f":"IF(ISBLANK(INDEX('App Questionnaire'!$6:$6,1,2*(ROW(A529)-1)+COLUMN(AppHeaderCell) + 1)), \"\", (INDEX('App Questionnaire'!$6:$6,1,2*(ROW(A529)-1)+COLUMN(AppHeaderCell) + 1)))","v":""},"",{"$f":"IF(ISBLANK(INDEX('Server Questionnaire'!$6:$6,1,6*(ROW(A529)-1)+COLUMN(ServerHeaderCell) + 1)), \"\", (INDEX('Server Questionnaire'!$6:$6,1,6*(ROW(A529)-1)+COLUMN(ServerHeaderCell) + 1)))","v":""}]
[{"$f":"IF(ISBLANK(INDEX('App Questionnaire'!$10:$10,1,2*(ROW(A530)-1)+COLUMN(AppHeaderCell) + 1)), \"\", (INDEX('App Questionnaire'!$10:$10,1,2*(ROW(A530)-1)+COLUMN(AppHeaderCell) + 1)))","v":""},{"$f":"IF(ISBLANK(INDEX('App Questionnaire'!$6:$6,1,2*(ROW(A530)-1)+COLUMN(AppHeaderCell) + 1)), \"\", (INDEX('App Questionnaire'!$6:$6,1,2*(ROW(A530)-1)+COLUMN(AppHeaderCell) + 1)))","v":""},"",{"$f":"IF(ISBLANK(INDEX('Server Questionnaire'!$6:$6,1,6*(ROW(A530)-1)+COLUMN(ServerHeaderCell) + 1)), \"\", (INDEX('Server Questionnaire'!$6:$6,1,6*(ROW(A530)-1)+COLUMN(ServerHeaderCell) + 1)))","v":""}]
[{"$f":"IF(ISBLANK(INDEX('App Questionnaire'!$10:$10,1,2*(ROW(A531)-1)+COLUMN(AppHeaderCell) + 1)), \"\", (INDEX('App Questionnaire'!$10:$10,1,2*(ROW(A531)-1)+COLUMN(AppHeaderCell) + 1)))","v":""},{"$f":"IF(ISBLANK(INDEX('App Questionnaire'!$6:$6,1,2*(ROW(A531)-1)+COLUMN(AppHeaderCell) + 1)), \"\", (INDEX('App Questionnaire'!$6:$6,1,2*(ROW(A531)-1)+COLUMN(AppHeaderCell) + 1)))","v":""},"",{"$f":"IF(ISBLANK(INDEX('Server Questionnaire'!$6:$6,1,6*(ROW(A531)-1)+COLUMN(ServerHeaderCell) + 1)), \"\", (INDEX('Server Questionnaire'!$6:$6,1,6*(ROW(A531)-1)+COLUMN(ServerHeaderCell) + 1)))","v":""}]
[{"$f":"IF(ISBLANK(INDEX('App Questionnaire'!$10:$10,1,2*(ROW(A532)-1)+COLUMN(AppHeaderCell) + 1)), \"\", (INDEX('App Questionnaire'!$10:$10,1,2*(ROW(A532)-1)+COLUMN(AppHeaderCell) + 1)))","v":""},{"$f":"IF(ISBLANK(INDEX('App Questionnaire'!$6:$6,1,2*(ROW(A532)-1)+COLUMN(AppHeaderCell) + 1)), \"\", (INDEX('App Questionnaire'!$6:$6,1,2*(ROW(A532)-1)+COLUMN(AppHeaderCell) + 1)))","v":""},"",{"$f":"IF(ISBLANK(INDEX('Server Questionnaire'!$6:$6,1,6*(ROW(A532)-1)+COLUMN(ServerHeaderCell) + 1)), \"\", (INDEX('Server Questionnaire'!$6:$6,1,6*(ROW(A532)-1)+COLUMN(ServerHeaderCell) + 1)))","v":""}]
[{"$f":"IF(ISBLANK(INDEX('App Questionnaire'!$10:$10,1,2*(ROW(A533)-1)+COLUMN(AppHeaderCell) + 1)), \"\", (INDEX('App Questionnaire'!$10:$10,1,2*(ROW(A533)-1)+COLUMN(AppHeaderCell) + 1)))","v":""},{"$f":"IF(ISBLANK(INDEX('App Questionnaire'!$6:$6,1,2*(ROW(A533)-1)+COLUMN(AppHeaderCell) + 1)), \"\", (INDEX('App Questionnaire'!$6:$6,1,2*(ROW(A533)-1)+COLUMN(AppHeaderCell) + 1)))","v":""},"",{"$f":"IF(ISBLANK(INDEX('Server Questionnaire'!$6:$6,1,6*(ROW(A533)-1)+COLUMN(ServerHeaderCell) + 1)), \"\", (INDEX('Server Questionnaire'!$6:$6,1,6*(ROW(A533)-1)+COLUMN(ServerHeaderCell) + 1)))","v":""}]
[{"$f":"IF(ISBLANK(INDEX('App Questionnaire'!$10:$10,1,2*(ROW(A534)-1)+COLUMN(AppHeaderCell) + 1)), \"\", (INDEX('App Questionnaire'!$10:$10,1,2*(ROW(A534)-1)+COLUMN(AppHeaderCell) + 1)))","v":""},{"$f":"IF(ISBLANK(INDEX('App Questionnaire'!$6:$6,1,2*(ROW(A534)-1)+COLUMN(AppHeaderCell) + 1)), \"\", (INDEX('App Questionnaire'!$6:$6,1,2*(ROW(A534)-1)+COLUMN(AppHeaderCell) + 1)))","v":""},"",{"$f":"IF(ISBLANK(INDEX('Server Questionnaire'!$6:$6,1,6*(ROW(A534)-1)+COLUMN(ServerHeaderCell) + 1)), \"\", (INDEX('Server Questionnaire'!$6:$6,1,6*(ROW(A534)-1)+COLUMN(ServerHeaderCell) + 1)))","v":""}]
[{"$f":"IF(ISBLANK(INDEX('App Questionnaire'!$10:$10,1,2*(ROW(A535)-1)+COLUMN(AppHeaderCell) + 1)), \"\", (INDEX('App Questionnaire'!$10:$10,1,2*(ROW(A535)-1)+COLUMN(AppHeaderCell) + 1)))","v":""},{"$f":"IF(ISBLANK(INDEX('App Questionnaire'!$6:$6,1,2*(ROW(A535)-1)+COLUMN(AppHeaderCell) + 1)), \"\", (INDEX('App Questionnaire'!$6:$6,1,2*(ROW(A535)-1)+COLUMN(AppHeaderCell) + 1)))","v":""},"",{"$f":"IF(ISBLANK(INDEX('Server Questionnaire'!$6:$6,1,6*(ROW(A535)-1)+COLUMN(ServerHeaderCell) + 1)), \"\", (INDEX('Server Questionnaire'!$6:$6,1,6*(ROW(A535)-1)+COLUMN(ServerHeaderCell) + 1)))","v":""}]
[{"$f":"IF(ISBLANK(INDEX('App Questionnaire'!$10:$10,1,2*(ROW(A536)-1)+COLUMN(AppHeaderCell) + 1)), \"\", (INDEX('App Questionnaire'!$10:$10,1,2*(ROW(A536)-1)+COLUMN(AppHeaderCell) + 1)))","v":""},{"$f":"IF(ISBLANK(INDEX('App Questionnaire'!$6:$6,1,2*(ROW(A536)-1)+COLUMN(AppHeaderCell) + 1)), \"\", (INDEX('App Questionnaire'!$6:$6,1,2*(ROW(A536)-1)+COLUMN(AppHeaderCell) + 1)))","v":""},"",{"$f":"IF(ISBLANK(INDEX('Server Questionnaire'!$6:$6,1,6*(ROW(A536)-1)+COLUMN(ServerHeaderCell) + 1)), \"\", (INDEX('Server Questionnaire'!$6:$6,1,6*(ROW(A536)-1)+COLUMN(ServerHeaderCell) + 1)))","v":""}]
[{"$f":"IF(ISBLANK(INDEX('App Questionnaire'!$10:$10,1,2*(ROW(A537)-1)+COLUMN(AppHeaderCell) + 1)), \"\", (INDEX('App Questionnaire'!$10:$10,1,2*(ROW(A537)-1)+COLUMN(AppHeaderCell) + 1)))","v":""},{"$f":"IF(ISBLANK(INDEX('App Questionnaire'!$6:$6,1,2*(ROW(A537)-1)+COLUMN(AppHeaderCell) + 1)), \"\", (INDEX('App Questionnaire'!$6:$6,1,2*(ROW(A537)-1)+COLUMN(AppHeaderCell) + 1)))","v":""},"",{"$f":"IF(ISBLANK(INDEX('Server Questionnaire'!$6:$6,1,6*(ROW(A537)-1)+COLUMN(ServerHeaderCell) + 1)), \"\", (INDEX('Server Questionnaire'!$6:$6,1,6*(ROW(A537)-1)+COLUMN(ServerHeaderCell) + 1)))","v":""}]
[{"$f":"IF(ISBLANK(INDEX('App Questionnaire'!$10:$10,1,2*(ROW(A538)-1)+COLUMN(AppHeaderCell) + 1)), \"\", (INDEX('App Questionnaire'!$10:$10,1,2*(ROW(A538)-1)+COLUMN(AppHeaderCell) + 1)))","v":""},{"$f":"IF(ISBLANK(INDEX('App Questionnaire'!$6:$6,1,2*(ROW(A538)-1)+COLUMN(AppHeaderCell) + 1)), \"\", (INDEX('App Questionnaire'!$6:$6,1,2*(ROW(A538)-1)+COLUMN(AppHeaderCell) + 1)))","v":""},"",{"$f":"IF(ISBLANK(INDEX('Server Questionnaire'!$6:$6,1,6*(ROW(A538)-1)+COLUMN(ServerHeaderCell) + 1)), \"\", (INDEX('Server Questionnaire'!$6:$6,1,6*(ROW(A538)-1)+COLUMN(ServerHeaderCell) + 1)))","v":""}]
[{"$f":"IF(ISBLANK(INDEX('App Questionnaire'!$10:$10,1,2*(ROW(A539)-1)+COLUMN(AppHeaderCell) + 1)), \"\", (INDEX('App Questionnaire'!$10:$10,1,2*(ROW(A539)-1)+COLUMN(AppHeaderCell) + 1)))","v":""},{"$f":"IF(ISBLANK(INDEX('App Questionnaire'!$6:$6,1,2*(ROW(A539)-1)+COLUMN(AppHeaderCell) + 1)), \"\", (INDEX('App Questionnaire'!$6:$6,1,2*(ROW(A539)-1)+COLUMN(AppHeaderCell) + 1)))","v":""},"",{"$f":"IF(ISBLANK(INDEX('Server Questionnaire'!$6:$6,1,6*(ROW(A539)-1)+COLUMN(ServerHeaderCell) + 1)), \"\", (INDEX('Server Questionnaire'!$6:$6,1,6*(ROW(A539)-1)+COLUMN(ServerHeaderCell) + 1)))","v":""}]
[{"$f":"IF(ISBLANK(INDEX('App Questionnaire'!$10:$10,1,2*(ROW(A540)-1)+COLUMN(AppHeaderCell) + 1)), \"\", (INDEX('App Questionnaire'!$10:$10,1,2*(ROW(A540)-1)+COLUMN(AppHeaderCell) + 1)))","v":""},{"$f":"IF(ISBLANK(INDEX('App Questionnaire'!$6:$6,1,2*(ROW(A540)-1)+COLUMN(AppHeaderCell) + 1)), \"\", (INDEX('App Questionnaire'!$6:$6,1,2*(ROW(A540)-1)+COLUMN(AppHeaderCell) + 1)))","v":""},"",{"$f":"IF(ISBLANK(INDEX('Server Questionnaire'!$6:$6,1,6*(ROW(A540)-1)+COLUMN(ServerHeaderCell) + 1)), \"\", (INDEX('Server Questionnaire'!$6:$6,1,6*(ROW(A540)-1)+COLUMN(ServerHeaderCell) + 1)))","v":""}]
[{"$f":"IF(ISBLANK(INDEX('App Questionnaire'!$10:$10,1,2*(ROW(A541)-1)+COLUMN(AppHeaderCell) + 1)), \"\", (INDEX('App Questionnaire'!$10:$10,1,2*(ROW(A541)-1)+COLUMN(AppHeaderCell) + 1)))","v":""},{"$f":"IF(ISBLANK(INDEX('App Questionnaire'!$6:$6,1,2*(ROW(A541)-1)+COLUMN(AppHeaderCell) + 1)), \"\", (INDEX('App Questionnaire'!$6:$6,1,2*(ROW(A541)-1)+COLUMN(AppHeaderCell) + 1)))","v":""},"",{"$f":"IF(ISBLANK(INDEX('Server Questionnaire'!$6:$6,1,6*(ROW(A541)-1)+COLUMN(ServerHeaderCell) + 1)), \"\", (INDEX('Server Questionnaire'!$6:$6,1,6*(ROW(A541)-1)+COLUMN(ServerHeaderCell) + 1)))","v":""}]
[{"$f":"IF(ISBLANK(INDEX('App Questionnaire'!$10:$10,1,2*(ROW(A542)-1)+COLUMN(AppHeaderCell) + 1)), \"\", (INDEX('App Questionnaire'!$10:$10,1,2*(ROW(A542)-1)+COLUMN(AppHeaderCell) + 1)))","v":""},{"$f":"IF(ISBLANK(INDEX('App Questionnaire'!$6:$6,1,2*(ROW(A542)-1)+COLUMN(AppHeaderCell) + 1)), \"\", (INDEX('App Questionnaire'!$6:$6,1,2*(ROW(A542)-1)+COLUMN(AppHeaderCell) + 1)))","v":""},"",{"$f":"IF(ISBLANK(INDEX('Server Questionnaire'!$6:$6,1,6*(ROW(A542)-1)+COLUMN(ServerHeaderCell) + 1)), \"\", (INDEX('Server Questionnaire'!$6:$6,1,6*(ROW(A542)-1)+COLUMN(ServerHeaderCell) + 1)))","v":""}]
[{"$f":"IF(ISBLANK(INDEX('App Questionnaire'!$10:$10,1,2*(ROW(A543)-1)+COLUMN(AppHeaderCell) + 1)), \"\", (INDEX('App Questionnaire'!$10:$10,1,2*(ROW(A543)-1)+COLUMN(AppHeaderCell) + 1)))","v":""},{"$f":"IF(ISBLANK(INDEX('App Questionnaire'!$6:$6,1,2*(ROW(A543)-1)+COLUMN(AppHeaderCell) + 1)), \"\", (INDEX('App Questionnaire'!$6:$6,1,2*(ROW(A543)-1)+COLUMN(AppHeaderCell) + 1)))","v":""},"",{"$f":"IF(ISBLANK(INDEX('Server Questionnaire'!$6:$6,1,6*(ROW(A543)-1)+COLUMN(ServerHeaderCell) + 1)), \"\", (INDEX('Server Questionnaire'!$6:$6,1,6*(ROW(A543)-1)+COLUMN(ServerHeaderCell) + 1)))","v":""}]
[{"$f":"IF(ISBLANK(INDEX('App Questionnaire'!$10:$10,1,2*(ROW(A544)-1)+COLUMN(AppHeaderCell) + 1)), \"\", (INDEX('App Questionnaire'!$10:$10,1,2*(ROW(A544)-1)+COLUMN(AppHeaderCell) + 1)))","v":""},{"$f":"IF(ISBLANK(INDEX('App Questionnaire'!$6:$6,1,2*(ROW(A544)-1)+COLUMN(AppHeaderCell) + 1)), \"\", (INDEX('App Questionnaire'!$6:$6,1,2*(ROW(A544)-1)+COLUMN(AppHeaderCell) + 1)))","v":""},"",{"$f":"IF(ISBLANK(INDEX('Server Questionnaire'!$6:$6,1,6*(ROW(A544)-1)+COLUMN(ServerHeaderCell) + 1)), \"\", (INDEX('Server Questionnaire'!$6:$6,1,6*(ROW(A544)-1)+COLUMN(ServerHeaderCell) + 1)))","v":""}]
[{"$f":"IF(ISBLANK(INDEX('App Questionnaire'!$10:$10,1,2*(ROW(A545)-1)+COLUMN(AppHeaderCell) + 1)), \"\", (INDEX('App Questionnaire'!$10:$10,1,2*(ROW(A545)-1)+COLUMN(AppHeaderCell) + 1)))","v":""},{"$f":"IF(ISBLANK(INDEX('App Questionnaire'!$6:$6,1,2*(ROW(A545)-1)+COLUMN(AppHeaderCell) + 1)), \"\", (INDEX('App Questionnaire'!$6:$6,1,2*(ROW(A545)-1)+COLUMN(AppHeaderCell) + 1)))","v":""},"",{"$f":"IF(ISBLANK(INDEX('Server Questionnaire'!$6:$6,1,6*(ROW(A545)-1)+COLUMN(ServerHeaderCell) + 1)), \"\", (INDEX('Server Questionnaire'!$6:$6,1,6*(ROW(A545)-1)+COLUMN(ServerHeaderCell) + 1)))","v":""}]
[{"$f":"IF(ISBLANK(INDEX('App Questionnaire'!$10:$10,1,2*(ROW(A546)-1)+COLUMN(AppHeaderCell) + 1)), \"\", (INDEX('App Questionnaire'!$10:$10,1,2*(ROW(A546)-1)+COLUMN(AppHeaderCell) + 1)))","v":""},{"$f":"IF(ISBLANK(INDEX('App Questionnaire'!$6:$6,1,2*(ROW(A546)-1)+COLUMN(AppHeaderCell) + 1)), \"\", (INDEX('App Questionnaire'!$6:$6,1,2*(ROW(A546)-1)+COLUMN(AppHeaderCell) + 1)))","v":""},"",{"$f":"IF(ISBLANK(INDEX('Server Questionnaire'!$6:$6,1,6*(ROW(A546)-1)+COLUMN(ServerHeaderCell) + 1)), \"\", (INDEX('Server Questionnaire'!$6:$6,1,6*(ROW(A546)-1)+COLUMN(ServerHeaderCell) + 1)))","v":""}]
[{"$f":"IF(ISBLANK(INDEX('App Questionnaire'!$10:$10,1,2*(ROW(A547)-1)+COLUMN(AppHeaderCell) + 1)), \"\", (INDEX('App Questionnaire'!$10:$10,1,2*(ROW(A547)-1)+COLUMN(AppHeaderCell) + 1)))","v":""},{"$f":"IF(ISBLANK(INDEX('App Questionnaire'!$6:$6,1,2*(ROW(A547)-1)+COLUMN(AppHeaderCell) + 1)), \"\", (INDEX('App Questionnaire'!$6:$6,1,2*(ROW(A547)-1)+COLUMN(AppHeaderCell) + 1)))","v":""},"",{"$f":"IF(ISBLANK(INDEX('Server Questionnaire'!$6:$6,1,6*(ROW(A547)-1)+COLUMN(ServerHeaderCell) + 1)), \"\", (INDEX('Server Questionnaire'!$6:$6,1,6*(ROW(A547)-1)+COLUMN(ServerHeaderCell) + 1)))","v":""}]
[{"$f":"IF(ISBLANK(INDEX('App Questionnaire'!$10:$10,1,2*(ROW(A548)-1)+COLUMN(AppHeaderCell) + 1)), \"\", (INDEX('App Questionnaire'!$10:$10,1,2*(ROW(A548)-1)+COLUMN(AppHeaderCell) + 1)))","v":""},{"$f":"IF(ISBLANK(INDEX('App Questionnaire'!$6:$6,1,2*(ROW(A548)-1)+COLUMN(AppHeaderCell) + 1)), \"\", (INDEX('App Questionnaire'!$6:$6,1,2*(ROW(A548)-1)+COLUMN(AppHeaderCell) + 1)))","v":""},"",{"$f":"IF(ISBLANK(INDEX('Server Questionnaire'!$6:$6,1,6*(ROW(A548)-1)+COLUMN(ServerHeaderCell) + 1)), \"\", (INDEX('Server Questionnaire'!$6:$6,1,6*(ROW(A548)-1)+COLUMN(ServerHeaderCell) + 1)))","v":""}]
[{"$f":"IF(ISBLANK(INDEX('App Questionnaire'!$10:$10,1,2*(ROW(A549)-1)+COLUMN(AppHeaderCell) + 1)), \"\", (INDEX('App Questionnaire'!$10:$10,1,2*(ROW(A549)-1)+COLUMN(AppHeaderCell) + 1)))","v":""},{"$f":"IF(ISBLANK(INDEX('App Questionnaire'!$6:$6,1,2*(ROW(A549)-1)+COLUMN(AppHeaderCell) + 1)), \"\", (INDEX('App Questionnaire'!$6:$6,1,2*(ROW(A549)-1)+COLUMN(AppHeaderCell) + 1)))","v":""},"",{"$f":"IF(ISBLANK(INDEX('Server Questionnaire'!$6:$6,1,6*(ROW(A549)-1)+COLUMN(ServerHeaderCell) + 1)), \"\", (INDEX('Server Questionnaire'!$6:$6,1,6*(ROW(A549)-1)+COLUMN(ServerHeaderCell) + 1)))","v":""}]
[{"$f":"IF(ISBLANK(INDEX('App Questionnaire'!$10:$10,1,2*(ROW(A550)-1)+COLUMN(AppHeaderCell) + 1)), \"\", (INDEX('App Questionnaire'!$10:$10,1,2*(ROW(A550)-1)+COLUMN(AppHeaderCell) + 1)))","v":""},{"$f":"IF(ISBLANK(INDEX('App Questionnaire'!$6:$6,1,2*(ROW(A550)-1)+COLUMN(AppHeaderCell) + 1)), \"\", (INDEX('App Questionnaire'!$6:$6,1,2*(ROW(A550)-1)+COLUMN(AppHeaderCell) + 1)))","v":""},"",{"$f":"IF(ISBLANK(INDEX('Server Questionnaire'!$6:$6,1,6*(ROW(A550)-1)+COLUMN(ServerHeaderCell) + 1)), \"\", (INDEX('Server Questionnaire'!$6:$6,1,6*(ROW(A550)-1)+COLUMN(ServerHeaderCell) + 1)))","v":""}]
[{"$f":"IF(ISBLANK(INDEX('App Questionnaire'!$10:$10,1,2*(ROW(A551)-1)+COLUMN(AppHeaderCell) + 1)), \"\", (INDEX('App Questionnaire'!$10:$10,1,2*(ROW(A551)-1)+COLUMN(AppHeaderCell) + 1)))","v":""},{"$f":"IF(ISBLANK(INDEX('App Questionnaire'!$6:$6,1,2*(ROW(A551)-1)+COLUMN(AppHeaderCell) + 1)), \"\", (INDEX('App Questionnaire'!$6:$6,1,2*(ROW(A551)-1)+COLUMN(AppHeaderCell) + 1)))","v":""},"",{"$f":"IF(ISBLANK(INDEX('Server Questionnaire'!$6:$6,1,6*(ROW(A551)-1)+COLUMN(ServerHeaderCell) + 1)), \"\", (INDEX('Server Questionnaire'!$6:$6,1,6*(ROW(A551)-1)+COLUMN(ServerHeaderCell) + 1)))","v":""}]
[{"$f":"IF(ISBLANK(INDEX('App Questionnaire'!$10:$10,1,2*(ROW(A552)-1)+COLUMN(AppHeaderCell) + 1)), \"\", (INDEX('App Questionnaire'!$10:$10,1,2*(ROW(A552)-1)+COLUMN(AppHeaderCell) + 1)))","v":""},{"$f":"IF(ISBLANK(INDEX('App Questionnaire'!$6:$6,1,2*(ROW(A552)-1)+COLUMN(AppHeaderCell) + 1)), \"\", (INDEX('App Questionnaire'!$6:$6,1,2*(ROW(A552)-1)+COLUMN(AppHeaderCell) + 1)))","v":""},"",{"$f":"IF(ISBLANK(INDEX('Server Questionnaire'!$6:$6,1,6*(ROW(A552)-1)+COLUMN(ServerHeaderCell) + 1)), \"\", (INDEX('Server Questionnaire'!$6:$6,1,6*(ROW(A552)-1)+COLUMN(ServerHeaderCell) + 1)))","v":""}]
[{"$f":"IF(ISBLANK(INDEX('App Questionnaire'!$10:$10,1,2*(ROW(A553)-1)+COLUMN(AppHeaderCell) + 1)), \"\", (INDEX('App Questionnaire'!$10:$10,1,2*(ROW(A553)-1)+COLUMN(AppHeaderCell) + 1)))","v":""},{"$f":"IF(ISBLANK(INDEX('App Questionnaire'!$6:$6,1,2*(ROW(A553)-1)+COLUMN(AppHeaderCell) + 1)), \"\", (INDEX('App Questionnaire'!$6:$6,1,2*(ROW(A553)-1)+COLUMN(AppHeaderCell) + 1)))","v":""},"",{"$f":"IF(ISBLANK(INDEX('Server Questionnaire'!$6:$6,1,6*(ROW(A553)-1)+COLUMN(ServerHeaderCell) + 1)), \"\", (INDEX('Server Questionnaire'!$6:$6,1,6*(ROW(A553)-1)+COLUMN(ServerHeaderCell) + 1)))","v":""}]
[{"$f":"IF(ISBLANK(INDEX('App Questionnaire'!$10:$10,1,2*(ROW(A554)-1)+COLUMN(AppHeaderCell) + 1)), \"\", (INDEX('App Questionnaire'!$10:$10,1,2*(ROW(A554)-1)+COLUMN(AppHeaderCell) + 1)))","v":""},{"$f":"IF(ISBLANK(INDEX('App Questionnaire'!$6:$6,1,2*(ROW(A554)-1)+COLUMN(AppHeaderCell) + 1)), \"\", (INDEX('App Questionnaire'!$6:$6,1,2*(ROW(A554)-1)+COLUMN(AppHeaderCell) + 1)))","v":""},"",{"$f":"IF(ISBLANK(INDEX('Server Questionnaire'!$6:$6,1,6*(ROW(A554)-1)+COLUMN(ServerHeaderCell) + 1)), \"\", (INDEX('Server Questionnaire'!$6:$6,1,6*(ROW(A554)-1)+COLUMN(ServerHeaderCell) + 1)))","v":""}]
[{"$f":"IF(ISBLANK(INDEX('App Questionnaire'!$10:$10,1,2*(ROW(A555)-1)+COLUMN(AppHeaderCell) + 1)), \"\", (INDEX('App Questionnaire'!$10:$10,1,2*(ROW(A555)-1)+COLUMN(AppHeaderCell) + 1)))","v":""},{"$f":"IF(ISBLANK(INDEX('App Questionnaire'!$6:$6,1,2*(ROW(A555)-1)+COLUMN(AppHeaderCell) + 1)), \"\", (INDEX('App Questionnaire'!$6:$6,1,2*(ROW(A555)-1)+COLUMN(AppHeaderCell) + 1)))","v":""},"",{"$f":"IF(ISBLANK(INDEX('Server Questionnaire'!$6:$6,1,6*(ROW(A555)-1)+COLUMN(ServerHeaderCell) + 1)), \"\", (INDEX('Server Questionnaire'!$6:$6,1,6*(ROW(A555)-1)+COLUMN(ServerHeaderCell) + 1)))","v":""}]
[{"$f":"IF(ISBLANK(INDEX('App Questionnaire'!$10:$10,1,2*(ROW(A556)-1)+COLUMN(AppHeaderCell) + 1)), \"\", (INDEX('App Questionnaire'!$10:$10,1,2*(ROW(A556)-1)+COLUMN(AppHeaderCell) + 1)))","v":""},{"$f":"IF(ISBLANK(INDEX('App Questionnaire'!$6:$6,1,2*(ROW(A556)-1)+COLUMN(AppHeaderCell) + 1)), \"\", (INDEX('App Questionnaire'!$6:$6,1,2*(ROW(A556)-1)+COLUMN(AppHeaderCell) + 1)))","v":""},"",{"$f":"IF(ISBLANK(INDEX('Server Questionnaire'!$6:$6,1,6*(ROW(A556)-1)+COLUMN(ServerHeaderCell) + 1)), \"\", (INDEX('Server Questionnaire'!$6:$6,1,6*(ROW(A556)-1)+COLUMN(ServerHeaderCell) + 1)))","v":""}]
[{"$f":"IF(ISBLANK(INDEX('App Questionnaire'!$10:$10,1,2*(ROW(A557)-1)+COLUMN(AppHeaderCell) + 1)), \"\", (INDEX('App Questionnaire'!$10:$10,1,2*(ROW(A557)-1)+COLUMN(AppHeaderCell) + 1)))","v":""},{"$f":"IF(ISBLANK(INDEX('App Questionnaire'!$6:$6,1,2*(ROW(A557)-1)+COLUMN(AppHeaderCell) + 1)), \"\", (INDEX('App Questionnaire'!$6:$6,1,2*(ROW(A557)-1)+COLUMN(AppHeaderCell) + 1)))","v":""},"",{"$f":"IF(ISBLANK(INDEX('Server Questionnaire'!$6:$6,1,6*(ROW(A557)-1)+COLUMN(ServerHeaderCell) + 1)), \"\", (INDEX('Server Questionnaire'!$6:$6,1,6*(ROW(A557)-1)+COLUMN(ServerHeaderCell) + 1)))","v":""}]
[{"$f":"IF(ISBLANK(INDEX('App Questionnaire'!$10:$10,1,2*(ROW(A558)-1)+COLUMN(AppHeaderCell) + 1)), \"\", (INDEX('App Questionnaire'!$10:$10,1,2*(ROW(A558)-1)+COLUMN(AppHeaderCell) + 1)))","v":""},{"$f":"IF(ISBLANK(INDEX('App Questionnaire'!$6:$6,1,2*(ROW(A558)-1)+COLUMN(AppHeaderCell) + 1)), \"\", (INDEX('App Questionnaire'!$6:$6,1,2*(ROW(A558)-1)+COLUMN(AppHeaderCell) + 1)))","v":""},"",{"$f":"IF(ISBLANK(INDEX('Server Questionnaire'!$6:$6,1,6*(ROW(A558)-1)+COLUMN(ServerHeaderCell) + 1)), \"\", (INDEX('Server Questionnaire'!$6:$6,1,6*(ROW(A558)-1)+COLUMN(ServerHeaderCell) + 1)))","v":""}]
[{"$f":"IF(ISBLANK(INDEX('App Questionnaire'!$10:$10,1,2*(ROW(A559)-1)+COLUMN(AppHeaderCell) + 1)), \"\", (INDEX('App Questionnaire'!$10:$10,1,2*(ROW(A559)-1)+COLUMN(AppHeaderCell) + 1)))","v":""},{"$f":"IF(ISBLANK(INDEX('App Questionnaire'!$6:$6,1,2*(ROW(A559)-1)+COLUMN(AppHeaderCell) + 1)), \"\", (INDEX('App Questionnaire'!$6:$6,1,2*(ROW(A559)-1)+COLUMN(AppHeaderCell) + 1)))","v":""},"",{"$f":"IF(ISBLANK(INDEX('Server Questionnaire'!$6:$6,1,6*(ROW(A559)-1)+COLUMN(ServerHeaderCell) + 1)), \"\", (INDEX('Server Questionnaire'!$6:$6,1,6*(ROW(A559)-1)+COLUMN(ServerHeaderCell) + 1)))","v":""}]
[{"$f":"IF(ISBLANK(INDEX('App Questionnaire'!$10:$10,1,2*(ROW(A560)-1)+COLUMN(AppHeaderCell) + 1)), \"\", (INDEX('App Questionnaire'!$10:$10,1,2*(ROW(A560)-1)+COLUMN(AppHeaderCell) + 1)))","v":""},{"$f":"IF(ISBLANK(INDEX('App Questionnaire'!$6:$6,1,2*(ROW(A560)-1)+COLUMN(AppHeaderCell) + 1)), \"\", (INDEX('App Questionnaire'!$6:$6,1,2*(ROW(A560)-1)+COLUMN(AppHeaderCell) + 1)))","v":""},"",{"$f":"IF(ISBLANK(INDEX('Server Questionnaire'!$6:$6,1,6*(ROW(A560)-1)+COLUMN(ServerHeaderCell) + 1)), \"\", (INDEX('Server Questionnaire'!$6:$6,1,6*(ROW(A560)-1)+COLUMN(ServerHeaderCell) + 1)))","v":""}]
[{"$f":"IF(ISBLANK(INDEX('App Questionnaire'!$10:$10,1,2*(ROW(A561)-1)+COLUMN(AppHeaderCell) + 1)), \"\", (INDEX('App Questionnaire'!$10:$10,1,2*(ROW(A561)-1)+COLUMN(AppHeaderCell) + 1)))","v":""},{"$f":"IF(ISBLANK(INDEX('App Questionnaire'!$6:$6,1,2*(ROW(A561)-1)+COLUMN(AppHeaderCell) + 1)), \"\", (INDEX('App Questionnaire'!$6:$6,1,2*(ROW(A561)-1)+COLUMN(AppHeaderCell) + 1)))","v":""},"",{"$f":"IF(ISBLANK(INDEX('Server Questionnaire'!$6:$6,1,6*(ROW(A561)-1)+COLUMN(ServerHeaderCell) + 1)), \"\", (INDEX('Server Questionnaire'!$6:$6,1,6*(ROW(A561)-1)+COLUMN(ServerHeaderCell) + 1)))","v":""}]
[{"$f":"IF(ISBLANK(INDEX('App Questionnaire'!$10:$10,1,2*(ROW(A562)-1)+COLUMN(AppHeaderCell) + 1)), \"\", (INDEX('App Questionnaire'!$10:$10,1,2*(ROW(A562)-1)+COLUMN(AppHeaderCell) + 1)))","v":""},{"$f":"IF(ISBLANK(INDEX('App Questionnaire'!$6:$6,1,2*(ROW(A562)-1)+COLUMN(AppHeaderCell) + 1)), \"\", (INDEX('App Questionnaire'!$6:$6,1,2*(ROW(A562)-1)+COLUMN(AppHeaderCell) + 1)))","v":""},"",{"$f":"IF(ISBLANK(INDEX('Server Questionnaire'!$6:$6,1,6*(ROW(A562)-1)+COLUMN(ServerHeaderCell) + 1)), \"\", (INDEX('Server Questionnaire'!$6:$6,1,6*(ROW(A562)-1)+COLUMN(ServerHeaderCell) + 1)))","v":""}]
[{"$f":"IF(ISBLANK(INDEX('App Questionnaire'!$10:$10,1,2*(ROW(A563)-1)+COLUMN(AppHeaderCell) + 1)), \"\", (INDEX('App Questionnaire'!$10:$10,1,2*(ROW(A563)-1)+COLUMN(AppHeaderCell) + 1)))","v":""},{"$f":"IF(ISBLANK(INDEX('App Questionnaire'!$6:$6,1,2*(ROW(A563)-1)+COLUMN(AppHeaderCell) + 1)), \"\", (INDEX('App Questionnaire'!$6:$6,1,2*(ROW(A563)-1)+COLUMN(AppHeaderCell) + 1)))","v":""},"",{"$f":"IF(ISBLANK(INDEX('Server Questionnaire'!$6:$6,1,6*(ROW(A563)-1)+COLUMN(ServerHeaderCell) + 1)), \"\", (INDEX('Server Questionnaire'!$6:$6,1,6*(ROW(A563)-1)+COLUMN(ServerHeaderCell) + 1)))","v":""}]
[{"$f":"IF(ISBLANK(INDEX('App Questionnaire'!$10:$10,1,2*(ROW(A564)-1)+COLUMN(AppHeaderCell) + 1)), \"\", (INDEX('App Questionnaire'!$10:$10,1,2*(ROW(A564)-1)+COLUMN(AppHeaderCell) + 1)))","v":""},{"$f":"IF(ISBLANK(INDEX('App Questionnaire'!$6:$6,1,2*(ROW(A564)-1)+COLUMN(AppHeaderCell) + 1)), \"\", (INDEX('App Questionnaire'!$6:$6,1,2*(ROW(A564)-1)+COLUMN(AppHeaderCell) + 1)))","v":""},"",{"$f":"IF(ISBLANK(INDEX('Server Questionnaire'!$6:$6,1,6*(ROW(A564)-1)+COLUMN(ServerHeaderCell) + 1)), \"\", (INDEX('Server Questionnaire'!$6:$6,1,6*(ROW(A564)-1)+COLUMN(ServerHeaderCell) + 1)))","v":""}]
[{"$f":"IF(ISBLANK(INDEX('App Questionnaire'!$10:$10,1,2*(ROW(A565)-1)+COLUMN(AppHeaderCell) + 1)), \"\", (INDEX('App Questionnaire'!$10:$10,1,2*(ROW(A565)-1)+COLUMN(AppHeaderCell) + 1)))","v":""},{"$f":"IF(ISBLANK(INDEX('App Questionnaire'!$6:$6,1,2*(ROW(A565)-1)+COLUMN(AppHeaderCell) + 1)), \"\", (INDEX('App Questionnaire'!$6:$6,1,2*(ROW(A565)-1)+COLUMN(AppHeaderCell) + 1)))","v":""},"",{"$f":"IF(ISBLANK(INDEX('Server Questionnaire'!$6:$6,1,6*(ROW(A565)-1)+COLUMN(ServerHeaderCell) + 1)), \"\", (INDEX('Server Questionnaire'!$6:$6,1,6*(ROW(A565)-1)+COLUMN(ServerHeaderCell) + 1)))","v":""}]
[{"$f":"IF(ISBLANK(INDEX('App Questionnaire'!$10:$10,1,2*(ROW(A566)-1)+COLUMN(AppHeaderCell) + 1)), \"\", (INDEX('App Questionnaire'!$10:$10,1,2*(ROW(A566)-1)+COLUMN(AppHeaderCell) + 1)))","v":""},{"$f":"IF(ISBLANK(INDEX('App Questionnaire'!$6:$6,1,2*(ROW(A566)-1)+COLUMN(AppHeaderCell) + 1)), \"\", (INDEX('App Questionnaire'!$6:$6,1,2*(ROW(A566)-1)+COLUMN(AppHeaderCell) + 1)))","v":""},"",{"$f":"IF(ISBLANK(INDEX('Server Questionnaire'!$6:$6,1,6*(ROW(A566)-1)+COLUMN(ServerHeaderCell) + 1)), \"\", (INDEX('Server Questionnaire'!$6:$6,1,6*(ROW(A566)-1)+COLUMN(ServerHeaderCell) + 1)))","v":""}]
[{"$f":"IF(ISBLANK(INDEX('App Questionnaire'!$10:$10,1,2*(ROW(A567)-1)+COLUMN(AppHeaderCell) + 1)), \"\", (INDEX('App Questionnaire'!$10:$10,1,2*(ROW(A567)-1)+COLUMN(AppHeaderCell) + 1)))","v":""},{"$f":"IF(ISBLANK(INDEX('App Questionnaire'!$6:$6,1,2*(ROW(A567)-1)+COLUMN(AppHeaderCell) + 1)), \"\", (INDEX('App Questionnaire'!$6:$6,1,2*(ROW(A567)-1)+COLUMN(AppHeaderCell) + 1)))","v":""},"",{"$f":"IF(ISBLANK(INDEX('Server Questionnaire'!$6:$6,1,6*(ROW(A567)-1)+COLUMN(ServerHeaderCell) + 1)), \"\", (INDEX('Server Questionnaire'!$6:$6,1,6*(ROW(A567)-1)+COLUMN(ServerHeaderCell) + 1)))","v":""}]
[{"$f":"IF(ISBLANK(INDEX('App Questionnaire'!$10:$10,1,2*(ROW(A568)-1)+COLUMN(AppHeaderCell) + 1)), \"\", (INDEX('App Questionnaire'!$10:$10,1,2*(ROW(A568)-1)+COLUMN(AppHeaderCell) + 1)))","v":""},{"$f":"IF(ISBLANK(INDEX('App Questionnaire'!$6:$6,1,2*(ROW(A568)-1)+COLUMN(AppHeaderCell) + 1)), \"\", (INDEX('App Questionnaire'!$6:$6,1,2*(ROW(A568)-1)+COLUMN(AppHeaderCell) + 1)))","v":""},"",{"$f":"IF(ISBLANK(INDEX('Server Questionnaire'!$6:$6,1,6*(ROW(A568)-1)+COLUMN(ServerHeaderCell) + 1)), \"\", (INDEX('Server Questionnaire'!$6:$6,1,6*(ROW(A568)-1)+COLUMN(ServerHeaderCell) + 1)))","v":""}]
[{"$f":"IF(ISBLANK(INDEX('App Questionnaire'!$10:$10,1,2*(ROW(A569)-1)+COLUMN(AppHeaderCell) + 1)), \"\", (INDEX('App Questionnaire'!$10:$10,1,2*(ROW(A569)-1)+COLUMN(AppHeaderCell) + 1)))","v":""},{"$f":"IF(ISBLANK(INDEX('App Questionnaire'!$6:$6,1,2*(ROW(A569)-1)+COLUMN(AppHeaderCell) + 1)), \"\", (INDEX('App Questionnaire'!$6:$6,1,2*(ROW(A569)-1)+COLUMN(AppHeaderCell) + 1)))","v":""},"",{"$f":"IF(ISBLANK(INDEX('Server Questionnaire'!$6:$6,1,6*(ROW(A569)-1)+COLUMN(ServerHeaderCell) + 1)), \"\", (INDEX('Server Questionnaire'!$6:$6,1,6*(ROW(A569)-1)+COLUMN(ServerHeaderCell) + 1)))","v":""}]
[{"$f":"IF(ISBLANK(INDEX('App Questionnaire'!$10:$10,1,2*(ROW(A570)-1)+COLUMN(AppHeaderCell) + 1)), \"\", (INDEX('App Questionnaire'!$10:$10,1,2*(ROW(A570)-1)+COLUMN(AppHeaderCell) + 1)))","v":""},{"$f":"IF(ISBLANK(INDEX('App Questionnaire'!$6:$6,1,2*(ROW(A570)-1)+COLUMN(AppHeaderCell) + 1)), \"\", (INDEX('App Questionnaire'!$6:$6,1,2*(ROW(A570)-1)+COLUMN(AppHeaderCell) + 1)))","v":""},"",{"$f":"IF(ISBLANK(INDEX('Server Questionnaire'!$6:$6,1,6*(ROW(A570)-1)+COLUMN(ServerHeaderCell) + 1)), \"\", (INDEX('Server Questionnaire'!$6:$6,1,6*(ROW(A570)-1)+COLUMN(ServerHeaderCell) + 1)))","v":""}]
[{"$f":"IF(ISBLANK(INDEX('App Questionnaire'!$10:$10,1,2*(ROW(A571)-1)+COLUMN(AppHeaderCell) + 1)), \"\", (INDEX('App Questionnaire'!$10:$10,1,2*(ROW(A571)-1)+COLUMN(AppHeaderCell) + 1)))","v":""},{"$f":"IF(ISBLANK(INDEX('App Questionnaire'!$6:$6,1,2*(ROW(A571)-1)+COLUMN(AppHeaderCell) + 1)), \"\", (INDEX('App Questionnaire'!$6:$6,1,2*(ROW(A571)-1)+COLUMN(AppHeaderCell) + 1)))","v":""},"",{"$f":"IF(ISBLANK(INDEX('Server Questionnaire'!$6:$6,1,6*(ROW(A571)-1)+COLUMN(ServerHeaderCell) + 1)), \"\", (INDEX('Server Questionnaire'!$6:$6,1,6*(ROW(A571)-1)+COLUMN(ServerHeaderCell) + 1)))","v":""}]
[{"$f":"IF(ISBLANK(INDEX('App Questionnaire'!$10:$10,1,2*(ROW(A572)-1)+COLUMN(AppHeaderCell) + 1)), \"\", (INDEX('App Questionnaire'!$10:$10,1,2*(ROW(A572)-1)+COLUMN(AppHeaderCell) + 1)))","v":""},{"$f":"IF(ISBLANK(INDEX('App Questionnaire'!$6:$6,1,2*(ROW(A572)-1)+COLUMN(AppHeaderCell) + 1)), \"\", (INDEX('App Questionnaire'!$6:$6,1,2*(ROW(A572)-1)+COLUMN(AppHeaderCell) + 1)))","v":""},"",{"$f":"IF(ISBLANK(INDEX('Server Questionnaire'!$6:$6,1,6*(ROW(A572)-1)+COLUMN(ServerHeaderCell) + 1)), \"\", (INDEX('Server Questionnaire'!$6:$6,1,6*(ROW(A572)-1)+COLUMN(ServerHeaderCell) + 1)))","v":""}]
[{"$f":"IF(ISBLANK(INDEX('App Questionnaire'!$10:$10,1,2*(ROW(A573)-1)+COLUMN(AppHeaderCell) + 1)), \"\", (INDEX('App Questionnaire'!$10:$10,1,2*(ROW(A573)-1)+COLUMN(AppHeaderCell) + 1)))","v":""},{"$f":"IF(ISBLANK(INDEX('App Questionnaire'!$6:$6,1,2*(ROW(A573)-1)+COLUMN(AppHeaderCell) + 1)), \"\", (INDEX('App Questionnaire'!$6:$6,1,2*(ROW(A573)-1)+COLUMN(AppHeaderCell) + 1)))","v":""},"",{"$f":"IF(ISBLANK(INDEX('Server Questionnaire'!$6:$6,1,6*(ROW(A573)-1)+COLUMN(ServerHeaderCell) + 1)), \"\", (INDEX('Server Questionnaire'!$6:$6,1,6*(ROW(A573)-1)+COLUMN(ServerHeaderCell) + 1)))","v":""}]
[{"$f":"IF(ISBLANK(INDEX('App Questionnaire'!$10:$10,1,2*(ROW(A574)-1)+COLUMN(AppHeaderCell) + 1)), \"\", (INDEX('App Questionnaire'!$10:$10,1,2*(ROW(A574)-1)+COLUMN(AppHeaderCell) + 1)))","v":""},{"$f":"IF(ISBLANK(INDEX('App Questionnaire'!$6:$6,1,2*(ROW(A574)-1)+COLUMN(AppHeaderCell) + 1)), \"\", (INDEX('App Questionnaire'!$6:$6,1,2*(ROW(A574)-1)+COLUMN(AppHeaderCell) + 1)))","v":""},"",{"$f":"IF(ISBLANK(INDEX('Server Questionnaire'!$6:$6,1,6*(ROW(A574)-1)+COLUMN(ServerHeaderCell) + 1)), \"\", (INDEX('Server Questionnaire'!$6:$6,1,6*(ROW(A574)-1)+COLUMN(ServerHeaderCell) + 1)))","v":""}]
[{"$f":"IF(ISBLANK(INDEX('App Questionnaire'!$10:$10,1,2*(ROW(A575)-1)+COLUMN(AppHeaderCell) + 1)), \"\", (INDEX('App Questionnaire'!$10:$10,1,2*(ROW(A575)-1)+COLUMN(AppHeaderCell) + 1)))","v":""},{"$f":"IF(ISBLANK(INDEX('App Questionnaire'!$6:$6,1,2*(ROW(A575)-1)+COLUMN(AppHeaderCell) + 1)), \"\", (INDEX('App Questionnaire'!$6:$6,1,2*(ROW(A575)-1)+COLUMN(AppHeaderCell) + 1)))","v":""},"",{"$f":"IF(ISBLANK(INDEX('Server Questionnaire'!$6:$6,1,6*(ROW(A575)-1)+COLUMN(ServerHeaderCell) + 1)), \"\", (INDEX('Server Questionnaire'!$6:$6,1,6*(ROW(A575)-1)+COLUMN(ServerHeaderCell) + 1)))","v":""}]
[{"$f":"IF(ISBLANK(INDEX('App Questionnaire'!$10:$10,1,2*(ROW(A576)-1)+COLUMN(AppHeaderCell) + 1)), \"\", (INDEX('App Questionnaire'!$10:$10,1,2*(ROW(A576)-1)+COLUMN(AppHeaderCell) + 1)))","v":""},{"$f":"IF(ISBLANK(INDEX('App Questionnaire'!$6:$6,1,2*(ROW(A576)-1)+COLUMN(AppHeaderCell) + 1)), \"\", (INDEX('App Questionnaire'!$6:$6,1,2*(ROW(A576)-1)+COLUMN(AppHeaderCell) + 1)))","v":""},"",{"$f":"IF(ISBLANK(INDEX('Server Questionnaire'!$6:$6,1,6*(ROW(A576)-1)+COLUMN(ServerHeaderCell) + 1)), \"\", (INDEX('Server Questionnaire'!$6:$6,1,6*(ROW(A576)-1)+COLUMN(ServerHeaderCell) + 1)))","v":""}]
[{"$f":"IF(ISBLANK(INDEX('App Questionnaire'!$10:$10,1,2*(ROW(A577)-1)+COLUMN(AppHeaderCell) + 1)), \"\", (INDEX('App Questionnaire'!$10:$10,1,2*(ROW(A577)-1)+COLUMN(AppHeaderCell) + 1)))","v":""},{"$f":"IF(ISBLANK(INDEX('App Questionnaire'!$6:$6,1,2*(ROW(A577)-1)+COLUMN(AppHeaderCell) + 1)), \"\", (INDEX('App Questionnaire'!$6:$6,1,2*(ROW(A577)-1)+COLUMN(AppHeaderCell) + 1)))","v":""},"",{"$f":"IF(ISBLANK(INDEX('Server Questionnaire'!$6:$6,1,6*(ROW(A577)-1)+COLUMN(ServerHeaderCell) + 1)), \"\", (INDEX('Server Questionnaire'!$6:$6,1,6*(ROW(A577)-1)+COLUMN(ServerHeaderCell) + 1)))","v":""}]
[{"$f":"IF(ISBLANK(INDEX('App Questionnaire'!$10:$10,1,2*(ROW(A578)-1)+COLUMN(AppHeaderCell) + 1)), \"\", (INDEX('App Questionnaire'!$10:$10,1,2*(ROW(A578)-1)+COLUMN(AppHeaderCell) + 1)))","v":""},{"$f":"IF(ISBLANK(INDEX('App Questionnaire'!$6:$6,1,2*(ROW(A578)-1)+COLUMN(AppHeaderCell) + 1)), \"\", (INDEX('App Questionnaire'!$6:$6,1,2*(ROW(A578)-1)+COLUMN(AppHeaderCell) + 1)))","v":""},"",{"$f":"IF(ISBLANK(INDEX('Server Questionnaire'!$6:$6,1,6*(ROW(A578)-1)+COLUMN(ServerHeaderCell) + 1)), \"\", (INDEX('Server Questionnaire'!$6:$6,1,6*(ROW(A578)-1)+COLUMN(ServerHeaderCell) + 1)))","v":""}]
[{"$f":"IF(ISBLANK(INDEX('App Questionnaire'!$10:$10,1,2*(ROW(A579)-1)+COLUMN(AppHeaderCell) + 1)), \"\", (INDEX('App Questionnaire'!$10:$10,1,2*(ROW(A579)-1)+COLUMN(AppHeaderCell) + 1)))","v":""},{"$f":"IF(ISBLANK(INDEX('App Questionnaire'!$6:$6,1,2*(ROW(A579)-1)+COLUMN(AppHeaderCell) + 1)), \"\", (INDEX('App Questionnaire'!$6:$6,1,2*(ROW(A579)-1)+COLUMN(AppHeaderCell) + 1)))","v":""},{"$f":" IF(B579 = \"\", \"\", B579 & \" - \" & A579)","v":""},{"$f":"IF(ISBLANK(INDEX('Server Questionnaire'!$6:$6,1,6*(ROW(A579)-1)+COLUMN(ServerHeaderCell) + 1)), \"\", (INDEX('Server Questionnaire'!$6:$6,1,6*(ROW(A579)-1)+COLUMN(ServerHeaderCell) + 1)))","v":""}]
[{"$f":"IF(ISBLANK(INDEX('App Questionnaire'!$10:$10,1,2*(ROW(A580)-1)+COLUMN(AppHeaderCell) + 1)), \"\", (INDEX('App Questionnaire'!$10:$10,1,2*(ROW(A580)-1)+COLUMN(AppHeaderCell) + 1)))","v":""},{"$f":"IF(ISBLANK(INDEX('App Questionnaire'!$6:$6,1,2*(ROW(A580)-1)+COLUMN(AppHeaderCell) + 1)), \"\", (INDEX('App Questionnaire'!$6:$6,1,2*(ROW(A580)-1)+COLUMN(AppHeaderCell) + 1)))","v":""},"",{"$f":"IF(ISBLANK(INDEX('Server Questionnaire'!$6:$6,1,6*(ROW(A580)-1)+COLUMN(ServerHeaderCell) + 1)), \"\", (INDEX('Server Questionnaire'!$6:$6,1,6*(ROW(A580)-1)+COLUMN(ServerHeaderCell) + 1)))","v":""}]
[{"$f":"IF(ISBLANK(INDEX('App Questionnaire'!$10:$10,1,2*(ROW(A581)-1)+COLUMN(AppHeaderCell) + 1)), \"\", (INDEX('App Questionnaire'!$10:$10,1,2*(ROW(A581)-1)+COLUMN(AppHeaderCell) + 1)))","v":""},{"$f":"IF(ISBLANK(INDEX('App Questionnaire'!$6:$6,1,2*(ROW(A581)-1)+COLUMN(AppHeaderCell) + 1)), \"\", (INDEX('App Questionnaire'!$6:$6,1,2*(ROW(A581)-1)+COLUMN(AppHeaderCell) + 1)))","v":""},"",{"$f":"IF(ISBLANK(INDEX('Server Questionnaire'!$6:$6,1,6*(ROW(A581)-1)+COLUMN(ServerHeaderCell) + 1)), \"\", (INDEX('Server Questionnaire'!$6:$6,1,6*(ROW(A581)-1)+COLUMN(ServerHeaderCell) + 1)))","v":""}]
[{"$f":"IF(ISBLANK(INDEX('App Questionnaire'!$10:$10,1,2*(ROW(A582)-1)+COLUMN(AppHeaderCell) + 1)), \"\", (INDEX('App Questionnaire'!$10:$10,1,2*(ROW(A582)-1)+COLUMN(AppHeaderCell) + 1)))","v":""},{"$f":"IF(ISBLANK(INDEX('App Questionnaire'!$6:$6,1,2*(ROW(A582)-1)+COLUMN(AppHeaderCell) + 1)), \"\", (INDEX('App Questionnaire'!$6:$6,1,2*(ROW(A582)-1)+COLUMN(AppHeaderCell) + 1)))","v":""},"",{"$f":"IF(ISBLANK(INDEX('Server Questionnaire'!$6:$6,1,6*(ROW(A582)-1)+COLUMN(ServerHeaderCell) + 1)), \"\", (INDEX('Server Questionnaire'!$6:$6,1,6*(ROW(A582)-1)+COLUMN(ServerHeaderCell) + 1)))","v":""}]
[{"$f":"IF(ISBLANK(INDEX('App Questionnaire'!$10:$10,1,2*(ROW(A583)-1)+COLUMN(AppHeaderCell) + 1)), \"\", (INDEX('App Questionnaire'!$10:$10,1,2*(ROW(A583)-1)+COLUMN(AppHeaderCell) + 1)))","v":""},{"$f":"IF(ISBLANK(INDEX('App Questionnaire'!$6:$6,1,2*(ROW(A583)-1)+COLUMN(AppHeaderCell) + 1)), \"\", (INDEX('App Questionnaire'!$6:$6,1,2*(ROW(A583)-1)+COLUMN(AppHeaderCell) + 1)))","v":""},"",{"$f":"IF(ISBLANK(INDEX('Server Questionnaire'!$6:$6,1,6*(ROW(A583)-1)+COLUMN(ServerHeaderCell) + 1)), \"\", (INDEX('Server Questionnaire'!$6:$6,1,6*(ROW(A583)-1)+COLUMN(ServerHeaderCell) + 1)))","v":""}]
[{"$f":"IF(ISBLANK(INDEX('App Questionnaire'!$10:$10,1,2*(ROW(A584)-1)+COLUMN(AppHeaderCell) + 1)), \"\", (INDEX('App Questionnaire'!$10:$10,1,2*(ROW(A584)-1)+COLUMN(AppHeaderCell) + 1)))","v":""},{"$f":"IF(ISBLANK(INDEX('App Questionnaire'!$6:$6,1,2*(ROW(A584)-1)+COLUMN(AppHeaderCell) + 1)), \"\", (INDEX('App Questionnaire'!$6:$6,1,2*(ROW(A584)-1)+COLUMN(AppHeaderCell) + 1)))","v":""},"",{"$f":"IF(ISBLANK(INDEX('Server Questionnaire'!$6:$6,1,6*(ROW(A584)-1)+COLUMN(ServerHeaderCell) + 1)), \"\", (INDEX('Server Questionnaire'!$6:$6,1,6*(ROW(A584)-1)+COLUMN(ServerHeaderCell) + 1)))","v":""}]
[{"$f":"IF(ISBLANK(INDEX('App Questionnaire'!$10:$10,1,2*(ROW(A585)-1)+COLUMN(AppHeaderCell) + 1)), \"\", (INDEX('App Questionnaire'!$10:$10,1,2*(ROW(A585)-1)+COLUMN(AppHeaderCell) + 1)))","v":""},{"$f":"IF(ISBLANK(INDEX('App Questionnaire'!$6:$6,1,2*(ROW(A585)-1)+COLUMN(AppHeaderCell) + 1)), \"\", (INDEX('App Questionnaire'!$6:$6,1,2*(ROW(A585)-1)+COLUMN(AppHeaderCell) + 1)))","v":""},"",{"$f":"IF(ISBLANK(INDEX('Server Questionnaire'!$6:$6,1,6*(ROW(A585)-1)+COLUMN(ServerHeaderCell) + 1)), \"\", (INDEX('Server Questionnaire'!$6:$6,1,6*(ROW(A585)-1)+COLUMN(ServerHeaderCell) + 1)))","v":""}]
[{"$f":"IF(ISBLANK(INDEX('App Questionnaire'!$10:$10,1,2*(ROW(A586)-1)+COLUMN(AppHeaderCell) + 1)), \"\", (INDEX('App Questionnaire'!$10:$10,1,2*(ROW(A586)-1)+COLUMN(AppHeaderCell) + 1)))","v":""},{"$f":"IF(ISBLANK(INDEX('App Questionnaire'!$6:$6,1,2*(ROW(A586)-1)+COLUMN(AppHeaderCell) + 1)), \"\", (INDEX('App Questionnaire'!$6:$6,1,2*(ROW(A586)-1)+COLUMN(AppHeaderCell) + 1)))","v":""},"",{"$f":"IF(ISBLANK(INDEX('Server Questionnaire'!$6:$6,1,6*(ROW(A586)-1)+COLUMN(ServerHeaderCell) + 1)), \"\", (INDEX('Server Questionnaire'!$6:$6,1,6*(ROW(A586)-1)+COLUMN(ServerHeaderCell) + 1)))","v":""}]
[{"$f":"IF(ISBLANK(INDEX('App Questionnaire'!$10:$10,1,2*(ROW(A587)-1)+COLUMN(AppHeaderCell) + 1)), \"\", (INDEX('App Questionnaire'!$10:$10,1,2*(ROW(A587)-1)+COLUMN(AppHeaderCell) + 1)))","v":""},{"$f":"IF(ISBLANK(INDEX('App Questionnaire'!$6:$6,1,2*(ROW(A587)-1)+COLUMN(AppHeaderCell) + 1)), \"\", (INDEX('App Questionnaire'!$6:$6,1,2*(ROW(A587)-1)+COLUMN(AppHeaderCell) + 1)))","v":""},"",{"$f":"IF(ISBLANK(INDEX('Server Questionnaire'!$6:$6,1,6*(ROW(A587)-1)+COLUMN(ServerHeaderCell) + 1)), \"\", (INDEX('Server Questionnaire'!$6:$6,1,6*(ROW(A587)-1)+COLUMN(ServerHeaderCell) + 1)))","v":""}]
[{"$f":"IF(ISBLANK(INDEX('App Questionnaire'!$10:$10,1,2*(ROW(A588)-1)+COLUMN(AppHeaderCell) + 1)), \"\", (INDEX('App Questionnaire'!$10:$10,1,2*(ROW(A588)-1)+COLUMN(AppHeaderCell) + 1)))","v":""},{"$f":"IF(ISBLANK(INDEX('App Questionnaire'!$6:$6,1,2*(ROW(A588)-1)+COLUMN(AppHeaderCell) + 1)), \"\", (INDEX('App Questionnaire'!$6:$6,1,2*(ROW(A588)-1)+COLUMN(AppHeaderCell) + 1)))","v":""},"",{"$f":"IF(ISBLANK(INDEX('Server Questionnaire'!$6:$6,1,6*(ROW(A588)-1)+COLUMN(ServerHeaderCell) + 1)), \"\", (INDEX('Server Questionnaire'!$6:$6,1,6*(ROW(A588)-1)+COLUMN(ServerHeaderCell) + 1)))","v":""}]
[{"$f":"IF(ISBLANK(INDEX('App Questionnaire'!$10:$10,1,2*(ROW(A589)-1)+COLUMN(AppHeaderCell) + 1)), \"\", (INDEX('App Questionnaire'!$10:$10,1,2*(ROW(A589)-1)+COLUMN(AppHeaderCell) + 1)))","v":""},{"$f":"IF(ISBLANK(INDEX('App Questionnaire'!$6:$6,1,2*(ROW(A589)-1)+COLUMN(AppHeaderCell) + 1)), \"\", (INDEX('App Questionnaire'!$6:$6,1,2*(ROW(A589)-1)+COLUMN(AppHeaderCell) + 1)))","v":""},"",{"$f":"IF(ISBLANK(INDEX('Server Questionnaire'!$6:$6,1,6*(ROW(A589)-1)+COLUMN(ServerHeaderCell) + 1)), \"\", (INDEX('Server Questionnaire'!$6:$6,1,6*(ROW(A589)-1)+COLUMN(ServerHeaderCell) + 1)))","v":""}]
[{"$f":"IF(ISBLANK(INDEX('App Questionnaire'!$10:$10,1,2*(ROW(A590)-1)+COLUMN(AppHeaderCell) + 1)), \"\", (INDEX('App Questionnaire'!$10:$10,1,2*(ROW(A590)-1)+COLUMN(AppHeaderCell) + 1)))","v":""},{"$f":"IF(ISBLANK(INDEX('App Questionnaire'!$6:$6,1,2*(ROW(A590)-1)+COLUMN(AppHeaderCell) + 1)), \"\", (INDEX('App Questionnaire'!$6:$6,1,2*(ROW(A590)-1)+COLUMN(AppHeaderCell) + 1)))","v":""},"",{"$f":"IF(ISBLANK(INDEX('Server Questionnaire'!$6:$6,1,6*(ROW(A590)-1)+COLUMN(ServerHeaderCell) + 1)), \"\", (INDEX('Server Questionnaire'!$6:$6,1,6*(ROW(A590)-1)+COLUMN(ServerHeaderCell) + 1)))","v":""}]
[{"$f":"IF(ISBLANK(INDEX('App Questionnaire'!$10:$10,1,2*(ROW(A591)-1)+COLUMN(AppHeaderCell) + 1)), \"\", (INDEX('App Questionnaire'!$10:$10,1,2*(ROW(A591)-1)+COLUMN(AppHeaderCell) + 1)))","v":""},{"$f":"IF(ISBLANK(INDEX('App Questionnaire'!$6:$6,1,2*(ROW(A591)-1)+COLUMN(AppHeaderCell) + 1)), \"\", (INDEX('App Questionnaire'!$6:$6,1,2*(ROW(A591)-1)+COLUMN(AppHeaderCell) + 1)))","v":""},"",{"$f":"IF(ISBLANK(INDEX('Server Questionnaire'!$6:$6,1,6*(ROW(A591)-1)+COLUMN(ServerHeaderCell) + 1)), \"\", (INDEX('Server Questionnaire'!$6:$6,1,6*(ROW(A591)-1)+COLUMN(ServerHeaderCell) + 1)))","v":""}]
[{"$f":"IF(ISBLANK(INDEX('App Questionnaire'!$10:$10,1,2*(ROW(A592)-1)+COLUMN(AppHeaderCell) + 1)), \"\", (INDEX('App Questionnaire'!$10:$10,1,2*(ROW(A592)-1)+COLUMN(AppHeaderCell) + 1)))","v":""},{"$f":"IF(ISBLANK(INDEX('App Questionnaire'!$6:$6,1,2*(ROW(A592)-1)+COLUMN(AppHeaderCell) + 1)), \"\", (INDEX('App Questionnaire'!$6:$6,1,2*(ROW(A592)-1)+COLUMN(AppHeaderCell) + 1)))","v":""},"",{"$f":"IF(ISBLANK(INDEX('Server Questionnaire'!$6:$6,1,6*(ROW(A592)-1)+COLUMN(ServerHeaderCell) + 1)), \"\", (INDEX('Server Questionnaire'!$6:$6,1,6*(ROW(A592)-1)+COLUMN(ServerHeaderCell) + 1)))","v":""}]
[{"$f":"IF(ISBLANK(INDEX('App Questionnaire'!$10:$10,1,2*(ROW(A593)-1)+COLUMN(AppHeaderCell) + 1)), \"\", (INDEX('App Questionnaire'!$10:$10,1,2*(ROW(A593)-1)+COLUMN(AppHeaderCell) + 1)))","v":""},{"$f":"IF(ISBLANK(INDEX('App Questionnaire'!$6:$6,1,2*(ROW(A593)-1)+COLUMN(AppHeaderCell) + 1)), \"\", (INDEX('App Questionnaire'!$6:$6,1,2*(ROW(A593)-1)+COLUMN(AppHeaderCell) + 1)))","v":""},"",{"$f":"IF(ISBLANK(INDEX('Server Questionnaire'!$6:$6,1,6*(ROW(A593)-1)+COLUMN(ServerHeaderCell) + 1)), \"\", (INDEX('Server Questionnaire'!$6:$6,1,6*(ROW(A593)-1)+COLUMN(ServerHeaderCell) + 1)))","v":""}]
[{"$f":"IF(ISBLANK(INDEX('App Questionnaire'!$10:$10,1,2*(ROW(A594)-1)+COLUMN(AppHeaderCell) + 1)), \"\", (INDEX('App Questionnaire'!$10:$10,1,2*(ROW(A594)-1)+COLUMN(AppHeaderCell) + 1)))","v":""},{"$f":"IF(ISBLANK(INDEX('App Questionnaire'!$6:$6,1,2*(ROW(A594)-1)+COLUMN(AppHeaderCell) + 1)), \"\", (INDEX('App Questionnaire'!$6:$6,1,2*(ROW(A594)-1)+COLUMN(AppHeaderCell) + 1)))","v":""},"",{"$f":"IF(ISBLANK(INDEX('Server Questionnaire'!$6:$6,1,6*(ROW(A594)-1)+COLUMN(ServerHeaderCell) + 1)), \"\", (INDEX('Server Questionnaire'!$6:$6,1,6*(ROW(A594)-1)+COLUMN(ServerHeaderCell) + 1)))","v":""}]
[{"$f":"IF(ISBLANK(INDEX('App Questionnaire'!$10:$10,1,2*(ROW(A595)-1)+COLUMN(AppHeaderCell) + 1)), \"\", (INDEX('App Questionnaire'!$10:$10,1,2*(ROW(A595)-1)+COLUMN(AppHeaderCell) + 1)))","v":""},{"$f":"IF(ISBLANK(INDEX('App Questionnaire'!$6:$6,1,2*(ROW(A595)-1)+COLUMN(AppHeaderCell) + 1)), \"\", (INDEX('App Questionnaire'!$6:$6,1,2*(ROW(A595)-1)+COLUMN(AppHeaderCell) + 1)))","v":""},"",{"$f":"IF(ISBLANK(INDEX('Server Questionnaire'!$6:$6,1,6*(ROW(A595)-1)+COLUMN(ServerHeaderCell) + 1)), \"\", (INDEX('Server Questionnaire'!$6:$6,1,6*(ROW(A595)-1)+COLUMN(ServerHeaderCell) + 1)))","v":""}]
[{"$f":"IF(ISBLANK(INDEX('App Questionnaire'!$10:$10,1,2*(ROW(A596)-1)+COLUMN(AppHeaderCell) + 1)), \"\", (INDEX('App Questionnaire'!$10:$10,1,2*(ROW(A596)-1)+COLUMN(AppHeaderCell) + 1)))","v":""},{"$f":"IF(ISBLANK(INDEX('App Questionnaire'!$6:$6,1,2*(ROW(A596)-1)+COLUMN(AppHeaderCell) + 1)), \"\", (INDEX('App Questionnaire'!$6:$6,1,2*(ROW(A596)-1)+COLUMN(AppHeaderCell) + 1)))","v":""},"",{"$f":"IF(ISBLANK(INDEX('Server Questionnaire'!$6:$6,1,6*(ROW(A596)-1)+COLUMN(ServerHeaderCell) + 1)), \"\", (INDEX('Server Questionnaire'!$6:$6,1,6*(ROW(A596)-1)+COLUMN(ServerHeaderCell) + 1)))","v":""}]
[{"$f":"IF(ISBLANK(INDEX('App Questionnaire'!$10:$10,1,2*(ROW(A597)-1)+COLUMN(AppHeaderCell) + 1)), \"\", (INDEX('App Questionnaire'!$10:$10,1,2*(ROW(A597)-1)+COLUMN(AppHeaderCell) + 1)))","v":""},{"$f":"IF(ISBLANK(INDEX('App Questionnaire'!$6:$6,1,2*(ROW(A597)-1)+COLUMN(AppHeaderCell) + 1)), \"\", (INDEX('App Questionnaire'!$6:$6,1,2*(ROW(A597)-1)+COLUMN(AppHeaderCell) + 1)))","v":""},"",{"$f":"IF(ISBLANK(INDEX('Server Questionnaire'!$6:$6,1,6*(ROW(A597)-1)+COLUMN(ServerHeaderCell) + 1)), \"\", (INDEX('Server Questionnaire'!$6:$6,1,6*(ROW(A597)-1)+COLUMN(ServerHeaderCell) + 1)))","v":""}]
[{"$f":"IF(ISBLANK(INDEX('App Questionnaire'!$10:$10,1,2*(ROW(A598)-1)+COLUMN(AppHeaderCell) + 1)), \"\", (INDEX('App Questionnaire'!$10:$10,1,2*(ROW(A598)-1)+COLUMN(AppHeaderCell) + 1)))","v":""},{"$f":"IF(ISBLANK(INDEX('App Questionnaire'!$6:$6,1,2*(ROW(A598)-1)+COLUMN(AppHeaderCell) + 1)), \"\", (INDEX('App Questionnaire'!$6:$6,1,2*(ROW(A598)-1)+COLUMN(AppHeaderCell) + 1)))","v":""},"",{"$f":"IF(ISBLANK(INDEX('Server Questionnaire'!$6:$6,1,6*(ROW(A598)-1)+COLUMN(ServerHeaderCell) + 1)), \"\", (INDEX('Server Questionnaire'!$6:$6,1,6*(ROW(A598)-1)+COLUMN(ServerHeaderCell) + 1)))","v":""}]
[{"$f":"IF(ISBLANK(INDEX('App Questionnaire'!$10:$10,1,2*(ROW(A599)-1)+COLUMN(AppHeaderCell) + 1)), \"\", (INDEX('App Questionnaire'!$10:$10,1,2*(ROW(A599)-1)+COLUMN(AppHeaderCell) + 1)))","v":""},{"$f":"IF(ISBLANK(INDEX('App Questionnaire'!$6:$6,1,2*(ROW(A599)-1)+COLUMN(AppHeaderCell) + 1)), \"\", (INDEX('App Questionnaire'!$6:$6,1,2*(ROW(A599)-1)+COLUMN(AppHeaderCell) + 1)))","v":""},"",{"$f":"IF(ISBLANK(INDEX('Server Questionnaire'!$6:$6,1,6*(ROW(A599)-1)+COLUMN(ServerHeaderCell) + 1)), \"\", (INDEX('Server Questionnaire'!$6:$6,1,6*(ROW(A599)-1)+COLUMN(ServerHeaderCell) + 1)))","v":""}]
[{"$f":"IF(ISBLANK(INDEX('App Questionnaire'!$10:$10,1,2*(ROW(A600)-1)+COLUMN(AppHeaderCell) + 1)), \"\", (INDEX('App Questionnaire'!$10:$10,1,2*(ROW(A600)-1)+COLUMN(AppHeaderCell) + 1)))","v":""},{"$f":"IF(ISBLANK(INDEX('App Questionnaire'!$6:$6,1,2*(ROW(A600)-1)+COLUMN(AppHeaderCell) + 1)), \"\", (INDEX('App Questionnaire'!$6:$6,1,2*(ROW(A600)-1)+COLUMN(AppHeaderCell) + 1)))","v":""},"",{"$f":"IF(ISBLANK(INDEX('Server Questionnaire'!$6:$6,1,6*(ROW(A600)-1)+COLUMN(ServerHeaderCell) + 1)), \"\", (INDEX('Server Questionnaire'!$6:$6,1,6*(ROW(A600)-1)+COLUMN(ServerHeaderCell) + 1)))","v":""}]
[{"$f":"IF(ISBLANK(INDEX('App Questionnaire'!$10:$10,1,2*(ROW(A601)-1)+COLUMN(AppHeaderCell) + 1)), \"\", (INDEX('App Questionnaire'!$10:$10,1,2*(ROW(A601)-1)+COLUMN(AppHeaderCell) + 1)))","v":""},{"$f":"IF(ISBLANK(INDEX('App Questionnaire'!$6:$6,1,2*(ROW(A601)-1)+COLUMN(AppHeaderCell) + 1)), \"\", (INDEX('App Questionnaire'!$6:$6,1,2*(ROW(A601)-1)+COLUMN(AppHeaderCell) + 1)))","v":""},"",{"$f":"IF(ISBLANK(INDEX('Server Questionnaire'!$6:$6,1,6*(ROW(A601)-1)+COLUMN(ServerHeaderCell) + 1)), \"\", (INDEX('Server Questionnaire'!$6:$6,1,6*(ROW(A601)-1)+COLUMN(ServerHeaderCell) + 1)))","v":""}]
[{"$f":"IF(ISBLANK(INDEX('App Questionnaire'!$10:$10,1,2*(ROW(A602)-1)+COLUMN(AppHeaderCell) + 1)), \"\", (INDEX('App Questionnaire'!$10:$10,1,2*(ROW(A602)-1)+COLUMN(AppHeaderCell) + 1)))","v":""},{"$f":"IF(ISBLANK(INDEX('App Questionnaire'!$6:$6,1,2*(ROW(A602)-1)+COLUMN(AppHeaderCell) + 1)), \"\", (INDEX('App Questionnaire'!$6:$6,1,2*(ROW(A602)-1)+COLUMN(AppHeaderCell) + 1)))","v":""},"",{"$f":"IF(ISBLANK(INDEX('Server Questionnaire'!$6:$6,1,6*(ROW(A602)-1)+COLUMN(ServerHeaderCell) + 1)), \"\", (INDEX('Server Questionnaire'!$6:$6,1,6*(ROW(A602)-1)+COLUMN(ServerHeaderCell) + 1)))","v":""}]
[{"$f":"IF(ISBLANK(INDEX('App Questionnaire'!$10:$10,1,2*(ROW(A603)-1)+COLUMN(AppHeaderCell) + 1)), \"\", (INDEX('App Questionnaire'!$10:$10,1,2*(ROW(A603)-1)+COLUMN(AppHeaderCell) + 1)))","v":""},{"$f":"IF(ISBLANK(INDEX('App Questionnaire'!$6:$6,1,2*(ROW(A603)-1)+COLUMN(AppHeaderCell) + 1)), \"\", (INDEX('App Questionnaire'!$6:$6,1,2*(ROW(A603)-1)+COLUMN(AppHeaderCell) + 1)))","v":""},"",{"$f":"IF(ISBLANK(INDEX('Server Questionnaire'!$6:$6,1,6*(ROW(A603)-1)+COLUMN(ServerHeaderCell) + 1)), \"\", (INDEX('Server Questionnaire'!$6:$6,1,6*(ROW(A603)-1)+COLUMN(ServerHeaderCell) + 1)))","v":""}]
[{"$f":"IF(ISBLANK(INDEX('App Questionnaire'!$10:$10,1,2*(ROW(A604)-1)+COLUMN(AppHeaderCell) + 1)), \"\", (INDEX('App Questionnaire'!$10:$10,1,2*(ROW(A604)-1)+COLUMN(AppHeaderCell) + 1)))","v":""},{"$f":"IF(ISBLANK(INDEX('App Questionnaire'!$6:$6,1,2*(ROW(A604)-1)+COLUMN(AppHeaderCell) + 1)), \"\", (INDEX('App Questionnaire'!$6:$6,1,2*(ROW(A604)-1)+COLUMN(AppHeaderCell) + 1)))","v":""},"",{"$f":"IF(ISBLANK(INDEX('Server Questionnaire'!$6:$6,1,6*(ROW(A604)-1)+COLUMN(ServerHeaderCell) + 1)), \"\", (INDEX('Server Questionnaire'!$6:$6,1,6*(ROW(A604)-1)+COLUMN(ServerHeaderCell) + 1)))","v":""}]
[{"$f":"IF(ISBLANK(INDEX('App Questionnaire'!$10:$10,1,2*(ROW(A605)-1)+COLUMN(AppHeaderCell) + 1)), \"\", (INDEX('App Questionnaire'!$10:$10,1,2*(ROW(A605)-1)+COLUMN(AppHeaderCell) + 1)))","v":""},{"$f":"IF(ISBLANK(INDEX('App Questionnaire'!$6:$6,1,2*(ROW(A605)-1)+COLUMN(AppHeaderCell) + 1)), \"\", (INDEX('App Questionnaire'!$6:$6,1,2*(ROW(A605)-1)+COLUMN(AppHeaderCell) + 1)))","v":""},"",{"$f":"IF(ISBLANK(INDEX('Server Questionnaire'!$6:$6,1,6*(ROW(A605)-1)+COLUMN(ServerHeaderCell) + 1)), \"\", (INDEX('Server Questionnaire'!$6:$6,1,6*(ROW(A605)-1)+COLUMN(ServerHeaderCell) + 1)))","v":""}]
[{"$f":"IF(ISBLANK(INDEX('App Questionnaire'!$10:$10,1,2*(ROW(A606)-1)+COLUMN(AppHeaderCell) + 1)), \"\", (INDEX('App Questionnaire'!$10:$10,1,2*(ROW(A606)-1)+COLUMN(AppHeaderCell) + 1)))","v":""},{"$f":"IF(ISBLANK(INDEX('App Questionnaire'!$6:$6,1,2*(ROW(A606)-1)+COLUMN(AppHeaderCell) + 1)), \"\", (INDEX('App Questionnaire'!$6:$6,1,2*(ROW(A606)-1)+COLUMN(AppHeaderCell) + 1)))","v":""},"",{"$f":"IF(ISBLANK(INDEX('Server Questionnaire'!$6:$6,1,6*(ROW(A606)-1)+COLUMN(ServerHeaderCell) + 1)), \"\", (INDEX('Server Questionnaire'!$6:$6,1,6*(ROW(A606)-1)+COLUMN(ServerHeaderCell) + 1)))","v":""}]
[{"$f":"IF(ISBLANK(INDEX('App Questionnaire'!$10:$10,1,2*(ROW(A607)-1)+COLUMN(AppHeaderCell) + 1)), \"\", (INDEX('App Questionnaire'!$10:$10,1,2*(ROW(A607)-1)+COLUMN(AppHeaderCell) + 1)))","v":""},{"$f":"IF(ISBLANK(INDEX('App Questionnaire'!$6:$6,1,2*(ROW(A607)-1)+COLUMN(AppHeaderCell) + 1)), \"\", (INDEX('App Questionnaire'!$6:$6,1,2*(ROW(A607)-1)+COLUMN(AppHeaderCell) + 1)))","v":""},"",{"$f":"IF(ISBLANK(INDEX('Server Questionnaire'!$6:$6,1,6*(ROW(A607)-1)+COLUMN(ServerHeaderCell) + 1)), \"\", (INDEX('Server Questionnaire'!$6:$6,1,6*(ROW(A607)-1)+COLUMN(ServerHeaderCell) + 1)))","v":""}]
[{"$f":"IF(ISBLANK(INDEX('App Questionnaire'!$10:$10,1,2*(ROW(A608)-1)+COLUMN(AppHeaderCell) + 1)), \"\", (INDEX('App Questionnaire'!$10:$10,1,2*(ROW(A608)-1)+COLUMN(AppHeaderCell) + 1)))","v":""},{"$f":"IF(ISBLANK(INDEX('App Questionnaire'!$6:$6,1,2*(ROW(A608)-1)+COLUMN(AppHeaderCell) + 1)), \"\", (INDEX('App Questionnaire'!$6:$6,1,2*(ROW(A608)-1)+COLUMN(AppHeaderCell) + 1)))","v":""},"",{"$f":"IF(ISBLANK(INDEX('Server Questionnaire'!$6:$6,1,6*(ROW(A608)-1)+COLUMN(ServerHeaderCell) + 1)), \"\", (INDEX('Server Questionnaire'!$6:$6,1,6*(ROW(A608)-1)+COLUMN(ServerHeaderCell) + 1)))","v":""}]
[{"$f":"IF(ISBLANK(INDEX('App Questionnaire'!$10:$10,1,2*(ROW(A609)-1)+COLUMN(AppHeaderCell) + 1)), \"\", (INDEX('App Questionnaire'!$10:$10,1,2*(ROW(A609)-1)+COLUMN(AppHeaderCell) + 1)))","v":""},{"$f":"IF(ISBLANK(INDEX('App Questionnaire'!$6:$6,1,2*(ROW(A609)-1)+COLUMN(AppHeaderCell) + 1)), \"\", (INDEX('App Questionnaire'!$6:$6,1,2*(ROW(A609)-1)+COLUMN(AppHeaderCell) + 1)))","v":""},"",{"$f":"IF(ISBLANK(INDEX('Server Questionnaire'!$6:$6,1,6*(ROW(A609)-1)+COLUMN(ServerHeaderCell) + 1)), \"\", (INDEX('Server Questionnaire'!$6:$6,1,6*(ROW(A609)-1)+COLUMN(ServerHeaderCell) + 1)))","v":""}]
[{"$f":"IF(ISBLANK(INDEX('App Questionnaire'!$10:$10,1,2*(ROW(A610)-1)+COLUMN(AppHeaderCell) + 1)), \"\", (INDEX('App Questionnaire'!$10:$10,1,2*(ROW(A610)-1)+COLUMN(AppHeaderCell) + 1)))","v":""},{"$f":"IF(ISBLANK(INDEX('App Questionnaire'!$6:$6,1,2*(ROW(A610)-1)+COLUMN(AppHeaderCell) + 1)), \"\", (INDEX('App Questionnaire'!$6:$6,1,2*(ROW(A610)-1)+COLUMN(AppHeaderCell) + 1)))","v":""},"",{"$f":"IF(ISBLANK(INDEX('Server Questionnaire'!$6:$6,1,6*(ROW(A610)-1)+COLUMN(ServerHeaderCell) + 1)), \"\", (INDEX('Server Questionnaire'!$6:$6,1,6*(ROW(A610)-1)+COLUMN(ServerHeaderCell) + 1)))","v":""}]
[{"$f":"IF(ISBLANK(INDEX('App Questionnaire'!$10:$10,1,2*(ROW(A611)-1)+COLUMN(AppHeaderCell) + 1)), \"\", (INDEX('App Questionnaire'!$10:$10,1,2*(ROW(A611)-1)+COLUMN(AppHeaderCell) + 1)))","v":""},{"$f":"IF(ISBLANK(INDEX('App Questionnaire'!$6:$6,1,2*(ROW(A611)-1)+COLUMN(AppHeaderCell) + 1)), \"\", (INDEX('App Questionnaire'!$6:$6,1,2*(ROW(A611)-1)+COLUMN(AppHeaderCell) + 1)))","v":""},"",{"$f":"IF(ISBLANK(INDEX('Server Questionnaire'!$6:$6,1,6*(ROW(A611)-1)+COLUMN(ServerHeaderCell) + 1)), \"\", (INDEX('Server Questionnaire'!$6:$6,1,6*(ROW(A611)-1)+COLUMN(ServerHeaderCell) + 1)))","v":""}]
[{"$f":"IF(ISBLANK(INDEX('App Questionnaire'!$10:$10,1,2*(ROW(A612)-1)+COLUMN(AppHeaderCell) + 1)), \"\", (INDEX('App Questionnaire'!$10:$10,1,2*(ROW(A612)-1)+COLUMN(AppHeaderCell) + 1)))","v":""},{"$f":"IF(ISBLANK(INDEX('App Questionnaire'!$6:$6,1,2*(ROW(A612)-1)+COLUMN(AppHeaderCell) + 1)), \"\", (INDEX('App Questionnaire'!$6:$6,1,2*(ROW(A612)-1)+COLUMN(AppHeaderCell) + 1)))","v":""},"",{"$f":"IF(ISBLANK(INDEX('Server Questionnaire'!$6:$6,1,6*(ROW(A612)-1)+COLUMN(ServerHeaderCell) + 1)), \"\", (INDEX('Server Questionnaire'!$6:$6,1,6*(ROW(A612)-1)+COLUMN(ServerHeaderCell) + 1)))","v":""}]
[{"$f":"IF(ISBLANK(INDEX('App Questionnaire'!$10:$10,1,2*(ROW(A613)-1)+COLUMN(AppHeaderCell) + 1)), \"\", (INDEX('App Questionnaire'!$10:$10,1,2*(ROW(A613)-1)+COLUMN(AppHeaderCell) + 1)))","v":""},{"$f":"IF(ISBLANK(INDEX('App Questionnaire'!$6:$6,1,2*(ROW(A613)-1)+COLUMN(AppHeaderCell) + 1)), \"\", (INDEX('App Questionnaire'!$6:$6,1,2*(ROW(A613)-1)+COLUMN(AppHeaderCell) + 1)))","v":""},"",{"$f":"IF(ISBLANK(INDEX('Server Questionnaire'!$6:$6,1,6*(ROW(A613)-1)+COLUMN(ServerHeaderCell) + 1)), \"\", (INDEX('Server Questionnaire'!$6:$6,1,6*(ROW(A613)-1)+COLUMN(ServerHeaderCell) + 1)))","v":""}]
[{"$f":"IF(ISBLANK(INDEX('App Questionnaire'!$10:$10,1,2*(ROW(A614)-1)+COLUMN(AppHeaderCell) + 1)), \"\", (INDEX('App Questionnaire'!$10:$10,1,2*(ROW(A614)-1)+COLUMN(AppHeaderCell) + 1)))","v":""},{"$f":"IF(ISBLANK(INDEX('App Questionnaire'!$6:$6,1,2*(ROW(A614)-1)+COLUMN(AppHeaderCell) + 1)), \"\", (INDEX('App Questionnaire'!$6:$6,1,2*(ROW(A614)-1)+COLUMN(AppHeaderCell) + 1)))","v":""},"",{"$f":"IF(ISBLANK(INDEX('Server Questionnaire'!$6:$6,1,6*(ROW(A614)-1)+COLUMN(ServerHeaderCell) + 1)), \"\", (INDEX('Server Questionnaire'!$6:$6,1,6*(ROW(A614)-1)+COLUMN(ServerHeaderCell) + 1)))","v":""}]
[{"$f":"IF(ISBLANK(INDEX('App Questionnaire'!$10:$10,1,2*(ROW(A615)-1)+COLUMN(AppHeaderCell) + 1)), \"\", (INDEX('App Questionnaire'!$10:$10,1,2*(ROW(A615)-1)+COLUMN(AppHeaderCell) + 1)))","v":""},{"$f":"IF(ISBLANK(INDEX('App Questionnaire'!$6:$6,1,2*(ROW(A615)-1)+COLUMN(AppHeaderCell) + 1)), \"\", (INDEX('App Questionnaire'!$6:$6,1,2*(ROW(A615)-1)+COLUMN(AppHeaderCell) + 1)))","v":""},"",{"$f":"IF(ISBLANK(INDEX('Server Questionnaire'!$6:$6,1,6*(ROW(A615)-1)+COLUMN(ServerHeaderCell) + 1)), \"\", (INDEX('Server Questionnaire'!$6:$6,1,6*(ROW(A615)-1)+COLUMN(ServerHeaderCell) + 1)))","v":""}]
[{"$f":"IF(ISBLANK(INDEX('App Questionnaire'!$10:$10,1,2*(ROW(A616)-1)+COLUMN(AppHeaderCell) + 1)), \"\", (INDEX('App Questionnaire'!$10:$10,1,2*(ROW(A616)-1)+COLUMN(AppHeaderCell) + 1)))","v":""},{"$f":"IF(ISBLANK(INDEX('App Questionnaire'!$6:$6,1,2*(ROW(A616)-1)+COLUMN(AppHeaderCell) + 1)), \"\", (INDEX('App Questionnaire'!$6:$6,1,2*(ROW(A616)-1)+COLUMN(AppHeaderCell) + 1)))","v":""},"",{"$f":"IF(ISBLANK(INDEX('Server Questionnaire'!$6:$6,1,6*(ROW(A616)-1)+COLUMN(ServerHeaderCell) + 1)), \"\", (INDEX('Server Questionnaire'!$6:$6,1,6*(ROW(A616)-1)+COLUMN(ServerHeaderCell) + 1)))","v":""}]
[{"$f":"IF(ISBLANK(INDEX('App Questionnaire'!$10:$10,1,2*(ROW(A617)-1)+COLUMN(AppHeaderCell) + 1)), \"\", (INDEX('App Questionnaire'!$10:$10,1,2*(ROW(A617)-1)+COLUMN(AppHeaderCell) + 1)))","v":""},{"$f":"IF(ISBLANK(INDEX('App Questionnaire'!$6:$6,1,2*(ROW(A617)-1)+COLUMN(AppHeaderCell) + 1)), \"\", (INDEX('App Questionnaire'!$6:$6,1,2*(ROW(A617)-1)+COLUMN(AppHeaderCell) + 1)))","v":""},"",{"$f":"IF(ISBLANK(INDEX('Server Questionnaire'!$6:$6,1,6*(ROW(A617)-1)+COLUMN(ServerHeaderCell) + 1)), \"\", (INDEX('Server Questionnaire'!$6:$6,1,6*(ROW(A617)-1)+COLUMN(ServerHeaderCell) + 1)))","v":""}]
[{"$f":"IF(ISBLANK(INDEX('App Questionnaire'!$10:$10,1,2*(ROW(A618)-1)+COLUMN(AppHeaderCell) + 1)), \"\", (INDEX('App Questionnaire'!$10:$10,1,2*(ROW(A618)-1)+COLUMN(AppHeaderCell) + 1)))","v":""},{"$f":"IF(ISBLANK(INDEX('App Questionnaire'!$6:$6,1,2*(ROW(A618)-1)+COLUMN(AppHeaderCell) + 1)), \"\", (INDEX('App Questionnaire'!$6:$6,1,2*(ROW(A618)-1)+COLUMN(AppHeaderCell) + 1)))","v":""},"",{"$f":"IF(ISBLANK(INDEX('Server Questionnaire'!$6:$6,1,6*(ROW(A618)-1)+COLUMN(ServerHeaderCell) + 1)), \"\", (INDEX('Server Questionnaire'!$6:$6,1,6*(ROW(A618)-1)+COLUMN(ServerHeaderCell) + 1)))","v":""}]
[{"$f":"IF(ISBLANK(INDEX('App Questionnaire'!$10:$10,1,2*(ROW(A619)-1)+COLUMN(AppHeaderCell) + 1)), \"\", (INDEX('App Questionnaire'!$10:$10,1,2*(ROW(A619)-1)+COLUMN(AppHeaderCell) + 1)))","v":""},{"$f":"IF(ISBLANK(INDEX('App Questionnaire'!$6:$6,1,2*(ROW(A619)-1)+COLUMN(AppHeaderCell) + 1)), \"\", (INDEX('App Questionnaire'!$6:$6,1,2*(ROW(A619)-1)+COLUMN(AppHeaderCell) + 1)))","v":""},"",{"$f":"IF(ISBLANK(INDEX('Server Questionnaire'!$6:$6,1,6*(ROW(A619)-1)+COLUMN(ServerHeaderCell) + 1)), \"\", (INDEX('Server Questionnaire'!$6:$6,1,6*(ROW(A619)-1)+COLUMN(ServerHeaderCell) + 1)))","v":""}]
[{"$f":"IF(ISBLANK(INDEX('App Questionnaire'!$10:$10,1,2*(ROW(A620)-1)+COLUMN(AppHeaderCell) + 1)), \"\", (INDEX('App Questionnaire'!$10:$10,1,2*(ROW(A620)-1)+COLUMN(AppHeaderCell) + 1)))","v":""},{"$f":"IF(ISBLANK(INDEX('App Questionnaire'!$6:$6,1,2*(ROW(A620)-1)+COLUMN(AppHeaderCell) + 1)), \"\", (INDEX('App Questionnaire'!$6:$6,1,2*(ROW(A620)-1)+COLUMN(AppHeaderCell) + 1)))","v":""},"",{"$f":"IF(ISBLANK(INDEX('Server Questionnaire'!$6:$6,1,6*(ROW(A620)-1)+COLUMN(ServerHeaderCell) + 1)), \"\", (INDEX('Server Questionnaire'!$6:$6,1,6*(ROW(A620)-1)+COLUMN(ServerHeaderCell) + 1)))","v":""}]
[{"$f":"IF(ISBLANK(INDEX('App Questionnaire'!$10:$10,1,2*(ROW(A621)-1)+COLUMN(AppHeaderCell) + 1)), \"\", (INDEX('App Questionnaire'!$10:$10,1,2*(ROW(A621)-1)+COLUMN(AppHeaderCell) + 1)))","v":""},{"$f":"IF(ISBLANK(INDEX('App Questionnaire'!$6:$6,1,2*(ROW(A621)-1)+COLUMN(AppHeaderCell) + 1)), \"\", (INDEX('App Questionnaire'!$6:$6,1,2*(ROW(A621)-1)+COLUMN(AppHeaderCell) + 1)))","v":""},"",{"$f":"IF(ISBLANK(INDEX('Server Questionnaire'!$6:$6,1,6*(ROW(A621)-1)+COLUMN(ServerHeaderCell) + 1)), \"\", (INDEX('Server Questionnaire'!$6:$6,1,6*(ROW(A621)-1)+COLUMN(ServerHeaderCell) + 1)))","v":""}]
[{"$f":"IF(ISBLANK(INDEX('App Questionnaire'!$10:$10,1,2*(ROW(A622)-1)+COLUMN(AppHeaderCell) + 1)), \"\", (INDEX('App Questionnaire'!$10:$10,1,2*(ROW(A622)-1)+COLUMN(AppHeaderCell) + 1)))","v":""},{"$f":"IF(ISBLANK(INDEX('App Questionnaire'!$6:$6,1,2*(ROW(A622)-1)+COLUMN(AppHeaderCell) + 1)), \"\", (INDEX('App Questionnaire'!$6:$6,1,2*(ROW(A622)-1)+COLUMN(AppHeaderCell) + 1)))","v":""},"",{"$f":"IF(ISBLANK(INDEX('Server Questionnaire'!$6:$6,1,6*(ROW(A622)-1)+COLUMN(ServerHeaderCell) + 1)), \"\", (INDEX('Server Questionnaire'!$6:$6,1,6*(ROW(A622)-1)+COLUMN(ServerHeaderCell) + 1)))","v":""}]
[{"$f":"IF(ISBLANK(INDEX('App Questionnaire'!$10:$10,1,2*(ROW(A623)-1)+COLUMN(AppHeaderCell) + 1)), \"\", (INDEX('App Questionnaire'!$10:$10,1,2*(ROW(A623)-1)+COLUMN(AppHeaderCell) + 1)))","v":""},{"$f":"IF(ISBLANK(INDEX('App Questionnaire'!$6:$6,1,2*(ROW(A623)-1)+COLUMN(AppHeaderCell) + 1)), \"\", (INDEX('App Questionnaire'!$6:$6,1,2*(ROW(A623)-1)+COLUMN(AppHeaderCell) + 1)))","v":""},"",{"$f":"IF(ISBLANK(INDEX('Server Questionnaire'!$6:$6,1,6*(ROW(A623)-1)+COLUMN(ServerHeaderCell) + 1)), \"\", (INDEX('Server Questionnaire'!$6:$6,1,6*(ROW(A623)-1)+COLUMN(ServerHeaderCell) + 1)))","v":""}]
[{"$f":"IF(ISBLANK(INDEX('App Questionnaire'!$10:$10,1,2*(ROW(A624)-1)+COLUMN(AppHeaderCell) + 1)), \"\", (INDEX('App Questionnaire'!$10:$10,1,2*(ROW(A624)-1)+COLUMN(AppHeaderCell) + 1)))","v":""},{"$f":"IF(ISBLANK(INDEX('App Questionnaire'!$6:$6,1,2*(ROW(A624)-1)+COLUMN(AppHeaderCell) + 1)), \"\", (INDEX('App Questionnaire'!$6:$6,1,2*(ROW(A624)-1)+COLUMN(AppHeaderCell) + 1)))","v":""},"",{"$f":"IF(ISBLANK(INDEX('Server Questionnaire'!$6:$6,1,6*(ROW(A624)-1)+COLUMN(ServerHeaderCell) + 1)), \"\", (INDEX('Server Questionnaire'!$6:$6,1,6*(ROW(A624)-1)+COLUMN(ServerHeaderCell) + 1)))","v":""}]
[{"$f":"IF(ISBLANK(INDEX('App Questionnaire'!$10:$10,1,2*(ROW(A625)-1)+COLUMN(AppHeaderCell) + 1)), \"\", (INDEX('App Questionnaire'!$10:$10,1,2*(ROW(A625)-1)+COLUMN(AppHeaderCell) + 1)))","v":""},{"$f":"IF(ISBLANK(INDEX('App Questionnaire'!$6:$6,1,2*(ROW(A625)-1)+COLUMN(AppHeaderCell) + 1)), \"\", (INDEX('App Questionnaire'!$6:$6,1,2*(ROW(A625)-1)+COLUMN(AppHeaderCell) + 1)))","v":""},"",{"$f":"IF(ISBLANK(INDEX('Server Questionnaire'!$6:$6,1,6*(ROW(A625)-1)+COLUMN(ServerHeaderCell) + 1)), \"\", (INDEX('Server Questionnaire'!$6:$6,1,6*(ROW(A625)-1)+COLUMN(ServerHeaderCell) + 1)))","v":""}]
[{"$f":"IF(ISBLANK(INDEX('App Questionnaire'!$10:$10,1,2*(ROW(A626)-1)+COLUMN(AppHeaderCell) + 1)), \"\", (INDEX('App Questionnaire'!$10:$10,1,2*(ROW(A626)-1)+COLUMN(AppHeaderCell) + 1)))","v":""},{"$f":"IF(ISBLANK(INDEX('App Questionnaire'!$6:$6,1,2*(ROW(A626)-1)+COLUMN(AppHeaderCell) + 1)), \"\", (INDEX('App Questionnaire'!$6:$6,1,2*(ROW(A626)-1)+COLUMN(AppHeaderCell) + 1)))","v":""},"",{"$f":"IF(ISBLANK(INDEX('Server Questionnaire'!$6:$6,1,6*(ROW(A626)-1)+COLUMN(ServerHeaderCell) + 1)), \"\", (INDEX('Server Questionnaire'!$6:$6,1,6*(ROW(A626)-1)+COLUMN(ServerHeaderCell) + 1)))","v":""}]
[{"$f":"IF(ISBLANK(INDEX('App Questionnaire'!$10:$10,1,2*(ROW(A627)-1)+4)), \"\", (INDEX('App Questionnaire'!$10:$10,1,2*(ROW(A627)-1)+4)))","v":""},{"$f":"IF(ISBLANK(INDEX('App Questionnaire'!$6:$6,1,2*(ROW(A627)-1)+COLUMN(AppHeaderCell) + 1)), \"\", (INDEX('App Questionnaire'!$6:$6,1,2*(ROW(A627)-1)+COLUMN(AppHeaderCell) + 1)))","v":""},"",{"$f":"IF(ISBLANK(INDEX('Server Questionnaire'!$6:$6,1,6*(ROW(A627)-1)+COLUMN(ServerHeaderCell) + 1)), \"\", (INDEX('Server Questionnaire'!$6:$6,1,6*(ROW(A627)-1)+COLUMN(ServerHeaderCell) + 1)))","v":""}]
[{"$f":"IF(ISBLANK(INDEX('App Questionnaire'!$10:$10,1,2*(ROW(A628)-1)+4)), \"\", (INDEX('App Questionnaire'!$10:$10,1,2*(ROW(A628)-1)+4)))","v":""},{"$f":"IF(ISBLANK(INDEX('App Questionnaire'!$6:$6,1,2*(ROW(A628)-1)+COLUMN(AppHeaderCell) + 1)), \"\", (INDEX('App Questionnaire'!$6:$6,1,2*(ROW(A628)-1)+COLUMN(AppHeaderCell) + 1)))","v":""},"",{"$f":"IF(ISBLANK(INDEX('Server Questionnaire'!$6:$6,1,6*(ROW(A628)-1)+COLUMN(ServerHeaderCell) + 1)), \"\", (INDEX('Server Questionnaire'!$6:$6,1,6*(ROW(A628)-1)+COLUMN(ServerHeaderCell) + 1)))","v":""}]
[{"$f":"IF(ISBLANK(INDEX('App Questionnaire'!$10:$10,1,2*(ROW(A629)-1)+4)), \"\", (INDEX('App Questionnaire'!$10:$10,1,2*(ROW(A629)-1)+4)))","v":""},{"$f":"IF(ISBLANK(INDEX('App Questionnaire'!$6:$6,1,2*(ROW(A629)-1)+COLUMN(AppHeaderCell) + 1)), \"\", (INDEX('App Questionnaire'!$6:$6,1,2*(ROW(A629)-1)+COLUMN(AppHeaderCell) + 1)))","v":""},"",{"$f":"IF(ISBLANK(INDEX('Server Questionnaire'!$6:$6,1,6*(ROW(A629)-1)+COLUMN(ServerHeaderCell) + 1)), \"\", (INDEX('Server Questionnaire'!$6:$6,1,6*(ROW(A629)-1)+COLUMN(ServerHeaderCell) + 1)))","v":""}]
[{"$f":"IF(ISBLANK(INDEX('App Questionnaire'!$10:$10,1,2*(ROW(A630)-1)+4)), \"\", (INDEX('App Questionnaire'!$10:$10,1,2*(ROW(A630)-1)+4)))","v":""},{"$f":"IF(ISBLANK(INDEX('App Questionnaire'!$6:$6,1,2*(ROW(A630)-1)+COLUMN(AppHeaderCell) + 1)), \"\", (INDEX('App Questionnaire'!$6:$6,1,2*(ROW(A630)-1)+COLUMN(AppHeaderCell) + 1)))","v":""},"",{"$f":"IF(ISBLANK(INDEX('Server Questionnaire'!$6:$6,1,6*(ROW(A630)-1)+COLUMN(ServerHeaderCell) + 1)), \"\", (INDEX('Server Questionnaire'!$6:$6,1,6*(ROW(A630)-1)+COLUMN(ServerHeaderCell) + 1)))","v":""}]
[{"$f":"IF(ISBLANK(INDEX('App Questionnaire'!$10:$10,1,2*(ROW(A631)-1)+4)), \"\", (INDEX('App Questionnaire'!$10:$10,1,2*(ROW(A631)-1)+4)))","v":""},{"$f":"IF(ISBLANK(INDEX('App Questionnaire'!$6:$6,1,2*(ROW(A631)-1)+COLUMN(AppHeaderCell) + 1)), \"\", (INDEX('App Questionnaire'!$6:$6,1,2*(ROW(A631)-1)+COLUMN(AppHeaderCell) + 1)))","v":""},"",{"$f":"IF(ISBLANK(INDEX('Server Questionnaire'!$6:$6,1,6*(ROW(A631)-1)+COLUMN(ServerHeaderCell) + 1)), \"\", (INDEX('Server Questionnaire'!$6:$6,1,6*(ROW(A631)-1)+COLUMN(ServerHeaderCell) + 1)))","v":""}]
[{"$f":"IF(ISBLANK(INDEX('App Questionnaire'!$10:$10,1,2*(ROW(A632)-1)+4)), \"\", (INDEX('App Questionnaire'!$10:$10,1,2*(ROW(A632)-1)+4)))","v":""},{"$f":"IF(ISBLANK(INDEX('App Questionnaire'!$6:$6,1,2*(ROW(A632)-1)+COLUMN(AppHeaderCell) + 1)), \"\", (INDEX('App Questionnaire'!$6:$6,1,2*(ROW(A632)-1)+COLUMN(AppHeaderCell) + 1)))","v":""},"",{"$f":"IF(ISBLANK(INDEX('Server Questionnaire'!$6:$6,1,6*(ROW(A632)-1)+COLUMN(ServerHeaderCell) + 1)), \"\", (INDEX('Server Questionnaire'!$6:$6,1,6*(ROW(A632)-1)+COLUMN(ServerHeaderCell) + 1)))","v":""}]
[{"$f":"IF(ISBLANK(INDEX('App Questionnaire'!$10:$10,1,2*(ROW(A633)-1)+4)), \"\", (INDEX('App Questionnaire'!$10:$10,1,2*(ROW(A633)-1)+4)))","v":""},{"$f":"IF(ISBLANK(INDEX('App Questionnaire'!$6:$6,1,2*(ROW(A633)-1)+COLUMN(AppHeaderCell) + 1)), \"\", (INDEX('App Questionnaire'!$6:$6,1,2*(ROW(A633)-1)+COLUMN(AppHeaderCell) + 1)))","v":""},null,{"$f":"IF(ISBLANK(INDEX('Server Questionnaire'!$6:$6,1,6*(ROW(A633)-1)+COLUMN(ServerHeaderCell) + 1)), \"\", (INDEX('Server Questionnaire'!$6:$6,1,6*(ROW(A633)-1)+COLUMN(ServerHeaderCell) + 1)))","v":""}]
[{"$f":"IF(ISBLANK(INDEX('App Questionnaire'!$10:$10,1,2*(ROW(A634)-1)+4)), \"\", (INDEX('App Questionnaire'!$10:$10,1,2*(ROW(A634)-1)+4)))","v":""},{"$f":"IF(ISBLANK(INDEX('App Questionnaire'!$6:$6,1,2*(ROW(A634)-1)+COLUMN(AppHeaderCell) + 1)), \"\", (INDEX('App Questionnaire'!$6:$6,1,2*(ROW(A634)-1)+COLUMN(AppHeaderCell) + 1)))","v":""},null,{"$f":"IF(ISBLANK(INDEX('Server Questionnaire'!$6:$6,1,6*(ROW(A634)-1)+COLUMN(ServerHeaderCell) + 1)), \"\", (INDEX('Server Questionnaire'!$6:$6,1,6*(ROW(A634)-1)+COLUMN(ServerHeaderCell) + 1)))","v":""}]
[{"$f":"IF(ISBLANK(INDEX('App Questionnaire'!$10:$10,1,2*(ROW(A635)-1)+4)), \"\", (INDEX('App Questionnaire'!$10:$10,1,2*(ROW(A635)-1)+4)))","v":""},{"$f":"IF(ISBLANK(INDEX('App Questionnaire'!$6:$6,1,2*(ROW(A635)-1)+COLUMN(AppHeaderCell) + 1)), \"\", (INDEX('App Questionnaire'!$6:$6,1,2*(ROW(A635)-1)+COLUMN(AppHeaderCell) + 1)))","v":""},null,{"$f":"IF(ISBLANK(INDEX('Server Questionnaire'!$6:$6,1,6*(ROW(A635)-1)+COLUMN(ServerHeaderCell) + 1)), \"\", (INDEX('Server Questionnaire'!$6:$6,1,6*(ROW(A635)-1)+COLUMN(ServerHeaderCell) + 1)))","v":""}]
[{"$f":"IF(ISBLANK(INDEX('App Questionnaire'!$10:$10,1,2*(ROW(A636)-1)+4)), \"\", (INDEX('App Questionnaire'!$10:$10,1,2*(ROW(A636)-1)+4)))","v":""},{"$f":"IF(ISBLANK(INDEX('App Questionnaire'!$6:$6,1,2*(ROW(A636)-1)+COLUMN(AppHeaderCell) + 1)), \"\", (INDEX('App Questionnaire'!$6:$6,1,2*(ROW(A636)-1)+COLUMN(AppHeaderCell) + 1)))","v":""},null,{"$f":"IF(ISBLANK(INDEX('Server Questionnaire'!$6:$6,1,6*(ROW(A636)-1)+COLUMN(ServerHeaderCell) + 1)), \"\", (INDEX('Server Questionnaire'!$6:$6,1,6*(ROW(A636)-1)+COLUMN(ServerHeaderCell) + 1)))","v":""}]
[{"$f":"IF(ISBLANK(INDEX('App Questionnaire'!$10:$10,1,2*(ROW(A637)-1)+4)), \"\", (INDEX('App Questionnaire'!$10:$10,1,2*(ROW(A637)-1)+4)))","v":""},{"$f":"IF(ISBLANK(INDEX('App Questionnaire'!$6:$6,1,2*(ROW(A637)-1)+COLUMN(AppHeaderCell) + 1)), \"\", (INDEX('App Questionnaire'!$6:$6,1,2*(ROW(A637)-1)+COLUMN(AppHeaderCell) + 1)))","v":""},null,{"$f":"IF(ISBLANK(INDEX('Server Questionnaire'!$6:$6,1,6*(ROW(A637)-1)+COLUMN(ServerHeaderCell) + 1)), \"\", (INDEX('Server Questionnaire'!$6:$6,1,6*(ROW(A637)-1)+COLUMN(ServerHeaderCell) + 1)))","v":""}]
[{"$f":"IF(ISBLANK(INDEX('App Questionnaire'!$10:$10,1,2*(ROW(A638)-1)+4)), \"\", (INDEX('App Questionnaire'!$10:$10,1,2*(ROW(A638)-1)+4)))","v":""},{"$f":"IF(ISBLANK(INDEX('App Questionnaire'!$6:$6,1,2*(ROW(A638)-1)+COLUMN(AppHeaderCell) + 1)), \"\", (INDEX('App Questionnaire'!$6:$6,1,2*(ROW(A638)-1)+COLUMN(AppHeaderCell) + 1)))","v":""},null,{"$f":"IF(ISBLANK(INDEX('Server Questionnaire'!$6:$6,1,6*(ROW(A638)-1)+COLUMN(ServerHeaderCell) + 1)), \"\", (INDEX('Server Questionnaire'!$6:$6,1,6*(ROW(A638)-1)+COLUMN(ServerHeaderCell) + 1)))","v":""}]
[{"$f":"IF(ISBLANK(INDEX('App Questionnaire'!$10:$10,1,2*(ROW(A639)-1)+4)), \"\", (INDEX('App Questionnaire'!$10:$10,1,2*(ROW(A639)-1)+4)))","v":""},{"$f":"IF(ISBLANK(INDEX('App Questionnaire'!$6:$6,1,2*(ROW(A639)-1)+COLUMN(AppHeaderCell) + 1)), \"\", (INDEX('App Questionnaire'!$6:$6,1,2*(ROW(A639)-1)+COLUMN(AppHeaderCell) + 1)))","v":""},null,{"$f":"IF(ISBLANK(INDEX('Server Questionnaire'!$6:$6,1,6*(ROW(A639)-1)+COLUMN(ServerHeaderCell) + 1)), \"\", (INDEX('Server Questionnaire'!$6:$6,1,6*(ROW(A639)-1)+COLUMN(ServerHeaderCell) + 1)))","v":""}]
[{"$f":"IF(ISBLANK(INDEX('App Questionnaire'!$10:$10,1,2*(ROW(A640)-1)+4)), \"\", (INDEX('App Questionnaire'!$10:$10,1,2*(ROW(A640)-1)+4)))","v":""},{"$f":"IF(ISBLANK(INDEX('App Questionnaire'!$6:$6,1,2*(ROW(A640)-1)+COLUMN(AppHeaderCell) + 1)), \"\", (INDEX('App Questionnaire'!$6:$6,1,2*(ROW(A640)-1)+COLUMN(AppHeaderCell) + 1)))","v":""},null,{"$f":"IF(ISBLANK(INDEX('Server Questionnaire'!$6:$6,1,6*(ROW(A640)-1)+COLUMN(ServerHeaderCell) + 1)), \"\", (INDEX('Server Questionnaire'!$6:$6,1,6*(ROW(A640)-1)+COLUMN(ServerHeaderCell) + 1)))","v":""}]
[{"$f":"IF(ISBLANK(INDEX('App Questionnaire'!$10:$10,1,2*(ROW(A641)-1)+4)), \"\", (INDEX('App Questionnaire'!$10:$10,1,2*(ROW(A641)-1)+4)))","v":""},{"$f":"IF(ISBLANK(INDEX('App Questionnaire'!$6:$6,1,2*(ROW(A641)-1)+COLUMN(AppHeaderCell) + 1)), \"\", (INDEX('App Questionnaire'!$6:$6,1,2*(ROW(A641)-1)+COLUMN(AppHeaderCell) + 1)))","v":""},null,{"$f":"IF(ISBLANK(INDEX('Server Questionnaire'!$6:$6,1,6*(ROW(A641)-1)+COLUMN(ServerHeaderCell) + 1)), \"\", (INDEX('Server Questionnaire'!$6:$6,1,6*(ROW(A641)-1)+COLUMN(ServerHeaderCell) + 1)))","v":""}]
[{"$f":"IF(ISBLANK(INDEX('App Questionnaire'!$10:$10,1,2*(ROW(A642)-1)+4)), \"\", (INDEX('App Questionnaire'!$10:$10,1,2*(ROW(A642)-1)+4)))","v":""},{"$f":"IF(ISBLANK(INDEX('App Questionnaire'!$6:$6,1,2*(ROW(A642)-1)+COLUMN(AppHeaderCell) + 1)), \"\", (INDEX('App Questionnaire'!$6:$6,1,2*(ROW(A642)-1)+COLUMN(AppHeaderCell) + 1)))","v":""},null,{"$f":"IF(ISBLANK(INDEX('Server Questionnaire'!$6:$6,1,6*(ROW(A642)-1)+COLUMN(ServerHeaderCell) + 1)), \"\", (INDEX('Server Questionnaire'!$6:$6,1,6*(ROW(A642)-1)+COLUMN(ServerHeaderCell) + 1)))","v":""}]
[{"$f":"IF(ISBLANK(INDEX('App Questionnaire'!$10:$10,1,2*(ROW(A643)-1)+4)), \"\", (INDEX('App Questionnaire'!$10:$10,1,2*(ROW(A643)-1)+4)))","v":""},{"$f":"IF(ISBLANK(INDEX('App Questionnaire'!$6:$6,1,2*(ROW(A643)-1)+4)), \"\", (INDEX('App Questionnaire'!$6:$6,1,2*(ROW(A643)-1)+4)))","v":""},null,{"$f":"IF(ISBLANK(INDEX('Server Questionnaire'!$6:$6,1,6*(ROW(A643)-1)+COLUMN(ServerHeaderCell) + 1)), \"\", (INDEX('Server Questionnaire'!$6:$6,1,6*(ROW(A643)-1)+COLUMN(ServerHeaderCell) + 1)))","v":""}]
[{"$f":"IF(ISBLANK(INDEX('App Questionnaire'!$10:$10,1,2*(ROW(A644)-1)+4)), \"\", (INDEX('App Questionnaire'!$10:$10,1,2*(ROW(A644)-1)+4)))","v":""}]

{"sheet":"User Information","index":9,"n_rows":58,"n_cols":5,"rows_kept":58,"cut":false,"hidden":true,"merged":[[4,5,4,8],[4,9,4,13],[1,1,1,10],[2,1,2,3],[3,1,3,3],[4,1,4,4]]}
[]
[null,"Customer Workbook\nUser Info"]
[]
[]
[null,"Basic User Information"]
[null,"#","First Name","Last Name","UPN"]
[null,"1."]
[null,"2."]
[null,"3."]
[null,"4."]
[null,"5."]
[null,"6."]
[null,"7."]
[null,"8."]
[null,"9."]
[null,"10."]
[null,"11."]
[null,"12."]
[null,"13."]
[null,"14."]
[null,"15."]
[null,"16."]
[null,"17."]
[null,"18."]
[null,"19."]
[null,"20."]
[null,"21."]
[null,"22."]
[null,"23."]
[null,"24."]
[null,"25."]
[null,"26."]
[null,"27."]
[null,"28."]
[null,"29."]
[null,"30."]
[null,"31."]
[null,"32."]
[null,"33."]
[null,"34."]
[null,"35."]
[null,"36."]
[null,"37."]
[null,"38."]
[null,"39."]
[null,"40."]
[null,"41."]
[null,"42."]
[null,"43."]
[null,"44."]
[null,"45."]
[null,"46."]
[null,"47."]
[null,"48."]
[null,"49."]
[null,"50."]
[null,"51."]
[null,"52."]

{"sheet":"Order Summary","index":10,"n_rows":123,"n_cols":12,"rows_kept":123,"cut":false,"hidden":true,"merged":[[14,3,14,5],[13,3,13,5],[13,6,13,8],[14,6,14,8],[111,4,111,6],[15,1,15,8],[17,1,17,2],[1,1,1,8],[9,3,9,5],[12,3,12,5],[11,3,11,5],[8,5,8,6],[9,6,9,8],[10,6,10,8],[11,6,11,8],[12,6,12,8],[10,3,10,5],[5,1,5,8],[6,2,6,6],[7,2,7,8],[8,2,8,3],[122,6,122,8],[117,1,117,8],[118,1,118,8],[119,2,119,3],[119,5,119,8],[112,1,112,8],[16,1,16,2],[120,2,120,3],[120,5,120,8],[113,1,116,8]]}
[]
[null,"Order Form"]
[]
[null,null,null,null,"Out of Sync"]
[]
[null,"Customer Information"]
[null,"Company Name:",null,null,null,null,null,"Existing Account?: "]
[null,"Company Address:"]
[null,"City:",null,null,"ST:",null,null,"Zip:"]
[null,"Contact Type","Contact Name","Email",null,null,"Phone"]
[null,"Company Main"]
[null,"Primary Contact"]
[null,"Technical Contact"]
[null,"Authorized Admin 1",null,null,null,null,null,null,null,null,null,{"$f":"SUMPRODUCT(('App Questionnaire'!15:15=\"Application - Client (No Server Needed)\")*(MOD(COLUMN('App Questionnaire'!15:15)-COLUMN(AppHeaderCell),2)=1)) + SUMPRODUCT(('App Questionnaire'!15:15=\"Application - Client/Storage (No Server Needed)\")*(MOD(COLUMN('App Questionnaire'!15:15)-COLUMN(AppHeaderCell),2)=1)) + SUMPRODUCT(('App Questionnaire'!15:15=\"Application - Client/Server(s)\")*(MOD(COLUMN('App Questionnaire'!15:15)-COLUMN(AppHeaderCell),2)=1))","v":0}]
[null,"Authorized Admin 2",null,null,null,null,null,null,null,null,null,{"$f":"SUMPRODUCT(('App Questionnaire'!15:15=\"Plug-in - Client\")*(MOD(COLUMN('App Questionnaire'!15:15)-COLUMN(AppHeaderCell),2)=1))","v":0}]
[null,"Services & Rates",null,null,null,null,null,null,null,null,null,{"$f":"SUMPRODUCT(('App Questionnaire'!15:15=\"Server-Side Application\")*(MOD(COLUMN('App Questionnaire'!15:15)-COLUMN(AppHeaderCell),2)=1)) + SUMPRODUCT((LEN('App Questionnaire'!29:29)-LEN(SUBSTITUTE('App Questionnaire'!29:29,CHAR(10),\"\")))*(MOD(COLUMN('App Questionnaire'!29:29)-COLUMN(AppHeaderCell),2)=1)) + SUMPRODUCT((IF('App Questionnaire'!29:29 = \"\", 0, 1))*(MOD(COLUMN('App Questionnaire'!29:29)-COLUMN(AppHeaderCell),2)=1))","v":0}]
[null,"Term (select from drop down):",null,null,null,null,null,null,null,null,null,{"$f":"SUMPRODUCT(('Server Questionnaire'!18:18=\"Economy\")*(MOD(COLUMN('Server Questionnaire'!18:18)-COLUMN(ProposedDesign),6)=1)) + SUMPRODUCT(('Server Questionnaire'!18:18=\"Economy + Storage\")*(MOD(COLUMN('Server Questionnaire'!18:18)-COLUMN(ProposedDesign),6)=1))","v":0}]
[null,"Service",null,"Per","QTY","Unit Setup Fee","Unit Monthly Fee","Setup Fee","Monthly Fee",null,null,{"$f":"SUMPRODUCT(('Server Questionnaire'!18:18=\"Standard\")*(MOD(COLUMN('Server Questionnaire'!18:18)-COLUMN(ProposedDesign),6)=1)) + SUMPRODUCT(('Server Questionnaire'!18:18=\"Standard + Storage\")*(MOD(COLUMN('Server Questionnaire'!18:18)-COLUMN(ProposedDesign),6)=1))","v":0}]
[null,null,null,null,null,null,null,{"$f":"IF(E19=0, \"\", F19*E19)","v":""},{"$f":"IF(E19=0, \"\", G19*E19)","v":""},null,null,{"$f":"SUMPRODUCT(('Server Questionnaire'!18:18=\"Professional\")*(MOD(COLUMN('Server Questionnaire'!18:18)-COLUMN(ProposedDesign),6)=1)) + SUMPRODUCT(('Server Questionnaire'!18:18=\"Professional + Storage\")*(MOD(COLUMN('Server Questionnaire'!18:18)-COLUMN(ProposedDesign),6)=1))","v":0}]
[null,null,null,null,null,null,null,{"$f":"IF(E20=0, \"\", F20*E20)","v":""},{"$f":"IF(E20=0, \"\", G20*E20)","v":""},null,null,{"$f":"SUMPRODUCT(('Server Questionnaire'!18:18=\"Enterprise\")*(MOD(COLUMN('Server Questionnaire'!18:18)-COLUMN(ProposedDesign),6)=1)) + SUMPRODUCT(('Server Questionnaire'!18:18=\"Enterprise + Storage\")*(MOD(COLUMN('Server Questionnaire'!18:18)-COLUMN(ProposedDesign),6)=1)) + SUMPRODUCT(('Server Questionnaire'!18:18=\"Custom - Enterprise Plus\")*(MOD(COLUMN('Server Questionnaire'!18:18)-COLUMN(ProposedDesign),6)=1))","v":0}]
[null,null,null,null,null,null,null,"","",null,null,{"$f":"SUM(IF(MOD(COLUMN('Server Questionnaire'!19:19)-COLUMN(ProposedDesign),6)=2, 'Server Questionnaire'!19:19, 0))","v":0}]
[null,null,null,null,null,null,null,"","",null,null,{"$f":"SUM(IF(MOD(COLUMN('Server Questionnaire'!19:19)-COLUMN(ProposedDesign),6)=3, 'Server Questionnaire'!19:19, 0))","v":0}]
[null,null,null,null,null,null,null,"","",null,null,{"$f":"SUM(IF(MOD(COLUMN('Server Questionnaire'!19:19)-COLUMN(ProposedDesign),6)=4, 'Server Questionnaire'!19:19, 0), IF(MOD(COLUMN('Server Questionnaire'!19:19)-COLUMN(ProposedDesign),6)=5, 'Server Questionnaire'!19:19, 0), IF(MOD(COLUMN('Server Questionnaire'!22:22)-COLUMN(ProposedDesign),6)=2, 'Server Questionnaire'!22:22, 0), IF(MOD(COLUMN('Server Questionnaire'!22:22)-COLUMN(ProposedDesign),6)=3, 'Server Questionnaire'!22:22, 0), IF(MOD(COLUMN('Server Questionnaire'!22:22)-COLUMN(ProposedDesign),6)=4, 'Server Questionnaire'!22:22, 0), IF(MOD(COLUMN('Server Questionnaire'!22:22)-COLUMN(ProposedDesign),6)=5, 'Server Questionnaire'!22:22, 0), IF(MOD(COLUMN('App Questionnaire'!16:16)-COLUMN(AppHeaderCell),2)=1, 'App Questionnaire'!16:16, 0))","v":0}]
[null,null,null,null,null,null,null,"",""]
[null,null,null,null,null,null,null,"",""]
[null,null,null,null,null,null,null,"",""]
[null,null,null,null,null,null,null,"",""]
[null,null,null,null,null,null,null,"",""]
[null,null,null,null,null,null,null,"",""]
[null,null,null,null,null,null,null,"",""]
[null,null,null,null,null,null,null,"",""]
[null,null,null,null,null,null,null,"",""]
[null,null,null,null,null,null,null,"",""]
[null,null,null,null,null,null,null,"",""]
[null,null,null,null,null,null,null,"",""]
[null,null,null,null,null,null,null,"",""]
[null,null,null,null,null,null,null,"",""]
[null,null,null,null,null,null,null,"",""]
[null,null,null,null,null,null,null,"",""]
[null,null,null,null,null,null,null,"",""]
[null,null,null,null,null,null,null,"",""]
[null,null,null,null,null,null,null,"",""]
[null,null,null,null,null,null,null,"",""]
[null,null,null,null,null,null,null,"",""]
[null,null,null,null,null,null,null,"",""]
[null,null,null,null,null,null,null,"",""]
[null,null,null,null,null,null,null,"",""]
[null,null,null,null,null,null,null,"",""]
[null,null,null,null,null,null,null,"",""]
[null,null,null,null,null,null,null,"",""]
[null,null,null,null,null,null,null,"",""]
[null,null,null,null,null,null,null,"",""]
[null,null,null,null,null,null,null,"",""]
[null,null,null,null,null,null,null,"",""]
[null,null,null,null,null,null,null,"",""]
[null,null,null,null,null,null,null,"",""]
[null,null,null,null,null,null,null,"",""]
[null,null,null,null,null,null,null,"",""]
[null,null,null,null,null,null,null,"",""]
[null,null,null,null,null,null,null,"",""]
[null,null,null,null,null,null,null,"",""]
[null,null,null,null,null,null,null,"",""]
[null,null,null,null,null,null,null,"",""]
[null,null,null,null,null,null,null,"",""]
[null,null,null,null,null,null,null,"",""]
[null,null,null,null,null,null,null,"",""]
[null,null,null,null,null,null,null,"",""]
[null,null,null,null,null,null,null,"",""]
[null,null,null,null,null,null,null,"",""]
[null,null,null,null,null,null,null,"",""]
[null,null,null,null,null,null,null,"",""]
[null,null,null,null,null,null,null,"",""]
[null,null,null,null,null,null,null,"",""]
[null,null,null,null,null,null,null,"",""]
[null,null,null,null,null,null,null,"",""]
[null,null,null,null,null,null,null,"",""]
[null,null,null,null,null,null,null,"",""]
[null,null,null,null,null,null,null,"",""]
[null,null,null,null,null,null,null,"",""]
[null,null,null,null,null,null,null,"",""]
[null,null,null,null,null,null,null,"",""]
[null,null,null,null,null,null,null,"",""]
[null,null,null,null,null,null,null,"",""]
[null,null,null,null,null,null,null,{"$f":"IF(E84=0, \"\", F84*E84)","v":""},{"$f":"IF(E84=0, \"\", G84*E84)","v":""}]
[null,null,null,null,null,null,null,"",""]
[null,null,null,null,null,null,null,"",""]
[null,null,null,null,null,null,null,"",""]
[null,null,null,null,null,null,null,"",""]
[null,null,null,null,null,null,null,"",""]
[null,null,null,null,null,null,null,"",""]
[null,null,null,null,null,null,null,"",""]
[null,null,null,null,null,null,null,"",""]
[null,null,null,null,null,null,null,"",""]
[null,null,null,null,null,null,null,"",""]
[null,null,null,null,null,null,null,"",""]
[null,null,null,null,null,null,null,"",""]
[null,null,null,null,null,null,null,"",""]
[null,null,null,null,null,null,null,"",""]
[null,null,null,null,null,null,null,"",""]
[null,null,null,null,null,null,null,"",""]
[null,null,null,null,null,null,null,"",""]
[null,null,null,null,null,null,null,"",""]
[null,null,null,null,null,null,null,"",""]
[null,null,null,null,null,null,null,"",""]
[null,null,null,null,null,null,null,"",""]
[null,null,null,null,null,null,null,"",""]
[null,null,null,null,null,null,null,"",""]
[null,null,null,null,null,null,null,"",""]
[null,null,null,null,null,null,null,"",""]
[null,null,null,null,null,null,null,"",""]
[null,null,null,null,null,null,null,"",""]
[null,null,null,null,"Total Charges:",null,null,{"$f":"SUM(H19:H111)","v":0},{"$f":"SUM(I19:I111)","v":0}]
[null,"Account Comments & Additional Information"]
[]
[]
[]
[]
[null,"Service Authorization"]
[null,"I have read and agree to be bound by all terms and conditions as listed on the applicable terms and conditions documents."]
[null,"Printed Name",null,null,"Signature"]
[null,"Title",null,null,"Date"]
[]
[null,"revised 05.14.14"]

{"sheet":"Instructions","index":11,"n_rows":31,"n_cols":5,"rows_kept":31,"cut":false,"hidden":true,"merged":[[11,2,11,4],[2,1,2,5]]}
[]
[]
[null,"Workbook Instructions"]
[]
[null,null,"Before you begin…"]
[]
[null,null,null,"Question","Answer"]
[null,null,null,"Are you using the latest version?","Make sure that you are using the latest version of this Workbook.  The most current version can be found in the Process folder of the Portal.  Non-current versions will NOT be accepted for processing."]
[null,null,null,"About this Workbook…","This Workbook contains multiple worksheets.  The worksheets are tabbed in the bottom-left corner of the window.  Click on a tab to show its worksheet.  Generally, you will want to work through the worksheets in this Workbook from left to right."]
[null,null,null,"When to use this Workbook?","This Workbook should be used for pre-sales Discovery.  This Workbook must also be completed and submitted with any order that includes anything that cannot be provisioned without nGenx assistance.  An Order will be rejected if the General Questionnaire, App Questionnaire (if applicable), or Server Questionnaire (if applicable) worksheets are not completed, or the Order Summary is \"Out of Sync\"."]
[]
[null,null,"Filling out the Workbook…"]
[]
[null,null,null,"Question","Answer"]
[null,null,null,"How to fill out the General Questionnaire…","The General Questionnaire is broken up into different sections which can be expanded/collapsed by checking/unchecking the associated checkbox.  Work through each section and fill in the quantities as necessary.  For Yes/No questions, check the box to answer \"Yes\" and leave it unchecked to answer \"No\".  "]
[null,null,null,"Summarizing the order…","The Order Summary pulls information from the General Questionnaire, App Questionnaire and Server Questionnaire, summarizing it into products/quanitites whenever you click \"Generate Order Summary from Discovery\".  If any of the questionnaires are modified, the Order Summary will be \"Out of Sync\" until you generate the summary again.  Make sure that the Order Summary is \"Current\" before submitting an order."]
[null,null,null,"What do red cells mean?","WHEN A CELL TURNS RED, YOU MUST ENGAGE YOUR ACCOUNT MANAGER FOR APPROVAL. "]
[null,null,null,"What do gray cells mean?","When a cell turns gray, the associated question does not apply based on information that was previously provided.  Make sure not to fill in grayed-out cells.  "]
[null,null,null,"Selecting from dropdowns…","Many dropdowns have multi-selection and deselection functionality.  To select multiple options, click an option from the dropdown and repeat as many times as needed.  To deselect one option at a time, click the option again and it will be removed from the cell.  You can clear the entire cell, as usual, by deleting or clicking \"clear contents\"."]
[null,null,null,"Messages…","When answering each question, pay attention to the messages that appear when you select each cell.  These will indicate which fields are required, and will give you additional guidance and examples to help you accurately answer each question."]
[null,null,null,"Notes…","Each sheet has a column to input notes to the right of your answers.  Whenever necessary, use the notes fields to elaborate on answers.  Notes are required for certain dropdown selections. "]
[null,null,null,"Adding custom services…","When adding services specific to an application, you may need to input a custom service that is not in the dropdown list.  You must select the \"- Add/Remove Custom Service -\" option and follow the instructions on the form that appears. "]
[null,null,null,"Navigation…","On the App Questionnaire and Server Questionnaire worksheets there is a navigation section in the upper-left corner.  You can use the controls in these sections to add an App or Server, go to a specific App or Server, remove a specific App or Server, or to quickly toggle between Apps or Servers.  "]
[null,null,null,"Filling out server-side applications…","When filling out an App Questionnaire for a Server-side Application, make sure not to list the Application itself as a Server-side Service.  This will produce a redundancy in the Order Summary, quantifying two Server-side Services."]
[null,null,null,"Cut, Copy and Paste…","1.  Cut has been DISABLED.\n2.  Copy and Paste have been modified to help protect the integrity of this workbook.  \n3.  If you are intending to paste into a new application, make sure to add the new application before copying the source content."]
[]
[null,null,"Tips…"]
[]
[null,null,null,"Question","Answer"]
[null,null,null,"What to do when the vendor recommends multiple servers for an App…","The Vendor Recommendations section in the App Questionnaire is NOT designed to intake multi-server recommendations.  This section is meant to help guide you through the backend server design.  The values entered into this section will auto-populate into the Server Questionnaire when the associated App is selected to run on that server.  This section was developed with the most common client/server scenario in mind, which is a single backend server.  If multiple servers are required for an application, it's recommended to NOT enter specs into these fields.  Instead, describe the server requirements in the notes and fill out the Server Questionnaire accordingly.  "]
[null,null,null,"Navigation arrows…","An Excel bug has been discovered with the navigation arrows on the App Questionnaire and Server Questionnaire.  This has been very rare, occurring only a couple times.  It's also been difficult to reproduce, but it has been determined that the bug is triggered by desktop resolution changes (i.e. plugging into an external monitor or projector, or resizing the window of a hosted dekstop).   If you experience this bug, it is recommended that you transfer your work into a fresh Workbook."]

{"sheet":"Price Quote - Manual","index":12,"n_rows":145,"n_cols":25,"rows_kept":145,"cut":false,"hidden":true,"merged":[[4,0,4,3],[4,4,4,26],[5,1,5,12],[5,14,5,21],[5,23,5,26],[0,10,0,26],[1,0,1,26],[2,0,2,26],[3,0,3,3],[3,4,3,20],[3,21,3,23],[3,24,3,26],[6,0,6,3],[6,4,6,9],[6,10,6,17],[6,18,6,22],[6,23,6,26],[7,0,7,3],[7,4,7,9],[7,10,7,17],[7,18,7,22],[7,23,7,26],[8,0,8,3],[8,4,8,9],[8,10,8,17],[8,18,8,22],[8,23,8,26],[9,0,9,3],[9,4,9,9],[9,10,9,17],[9,18,9,22],[9,23,9,26],[12,0,12,3],[12,4,12,9],[12,10,12,17],[12,18,12,22],[12,23,12,26],[13,0,13,26],[10,0,10,3],[10,4,10,9],[10,10,10,17],[10,18,10,22],[10,23,10,26],[11,0,11,3],[11,4,11,9],[11,10,11,17],[11,18,11,22],[11,23,11,26],[14,0,14,26],[15,0,15,6],[15,7,15,9],[15,10,15,26],[16,0,16,12],[16,13,16,14],[16,15,16,17],[16,18,16,20],[16,21,16,23],[16,24,16,26],[18,0,18,12],[18,13,18,14],[18,15,18,17],[18,18,18,20],[18,21,18,23],[18,24,18,26],[17,0,17,12],[17,13,17,14],[17,15,17,17],[17,18,17,20],[17,21,17,23],[17,24,17,26],[20,0,20,12],[20,13,20,14],[20,15,20,17],[20,18,20,20],[20,21,20,23],[20,24,20,26],[19,0,19,12],[19,13,19,14],[19,15,19,17],[19,18,19,20],[19,21,19,23],[19,24,19,26],[22,0,22,12],[22,13,22,14],[22,15,22,17],[22,18,22,20],[22,21,22,23],[22,24,22,26],[21,0,21,12],[21,13,21,14],[21,15,21,17],[21,18,21,20],[21,21,21,23],[21,24,21,26],[24,0,24,12],[24,13,24,14],[24,15,24,17],[24,18,24,20],[24,21,24,23],[24,24,24,26],[23,0,23,12],[23,13,23,14],[23,15,23,17],[23,18,23,20],[23,21,23,23],[23,24,23,26],[26,0,26,12],[26,13,26,14],[26,15,26,17],[26,18,26,20],[26,21,26,23],[26,24,26,26],[25,0,25,12],[25,13,25,14],[25,15,25,17],[25,18,25,20],[25,21,25,23],[25,24,25,26],[28,0,28,12],[28,13,28,14],[28,15,28,17],[28,18,28,20],[28,21,28,23],[28,24,28,26],[27,0,27,12],[27,13,27,14],[27,15,27,17],[27,18,27,20],[27,21,27,23],[27,24,27,26],[30,0,30,12],[30,13,30,14],[30,15,30,17],[30,18,30,20],[30,21,30,23],[30,24,30,26],[29,0,29,12],[29,13,29,14],[29,15,29,17],[29,18,29,20],[29,21,29,23],[29,24,29,26],[32,0,32,12],[32,13,32,14],[32,15,32,17],[32,18,32,20],[32,21,32,23],[32,24,32,26],[31,0,31,12],[31,13,31,14],[31,15,31,17],[31,18,31,20],[31,21,31,23],[31,24,31,26],[34,0,34,12],[34,13,34,14],[34,15,34,17],[34,18,34,20],[34,21,34,23],[34,24,34,26],[33,0,33,12],[33,13,33,14],[33,15,33,17],[33,18,33,20],[33,21,33,23],[33,24,33,26],[36,0,36,12],[36,13,36,14],[36,15,36,17],[36,18,36,20],[36,21,36,23],[36,24,36,26],[35,0,35,12],[35,13,35,14],[35,15,35,17],[35,18,35,20],[35,21,35,23],[35,24,35,26],[38,0,38,12],[38,13,38,14],[38,15,38,17],[38,18,38,20],[38,21,38,23],[38,24,38,26],[37,0,37,12],[37,13,37,14],[37,15,37,17],[37,18,37,20],[37,21,37,23],[37,24,37,26],[40,0,40,12],[40,13,40,14],[40,15,40,17],[40,18,40,20],[40,21,40,23],[40,24,40,26],[39,0,39,12],[39,13,39,14],[39,15,39,17],[39,18,39,20],[39,21,39,23],[39,24,39,26],[42,0,42,12],[42,13,42,14],[42,15,42,17],[42,18,42,20],[42,21,42,23],[42,24,42,26],[41,0,41,12],[41,13,41,14],[41,15,41,17],[41,18,41,20],[41,21,41,23],[41,24,41,26],[44,0,44,12],[44,13,44,14],[44,15,44,17],[44,18,44,20],[44,21,44,23],[44,24,44,26],[43,0,43,12],[43,13,43,14],[43,15,43,17],[43,18,43,20],[43,21,43,23],[43,24,43,26],[46,0,46,12],[46,13,46,14],[46,15,46,17],[46,18,46,20],[46,21,46,23],[46,24,46,26],[45,0,45,12],[45,13,45,14],[45,15,45,17],[45,18,45,20],[45,21,45,23],[45,24,45,26],[48,0,48,12],[48,13,48,14],[48,15,48,17],[48,18,48,20],[48,21,48,23],[48,24,48,26],[47,0,47,12],[47,13,47,14],[47,15,47,17],[47,18,47,20],[47,21,47,23],[47,24,47,26],[50,0,50,12],[50,13,50,14],[50,15,50,17],[50,18,50,20],[50,21,50,23],[50,24,50,26],[49,0,49,12],[49,13,49,14],[49,15,49,17],[49,18,49,20],[49,21,49,23],[49,24,49,26],[52,0,52,12],[52,13,52,14],[52,15,52,17],[52,18,52,20],[52,21,52,23],[52,24,52,26],[51,0,51,12],[51,13,51,14],[51,15,51,17],[51,18,51,20],[51,21,51,23],[51,24,51,26],[54,0,54,12],[54,13,54,14],[54,15,54,17],[54,18,54,20],[54,21,54,23],[54,24,54,26],[53,0,53,12],[53,13,53,14],[53,15,53,17],[53,18,53,20],[53,21,53,23],[53,24,53,26],[56,0,56,12],[96,13,96,14],[96,15,96,17],[96,18,96,20],[96,21,96,23],[96,24,96,26],[55,0,55,12],[95,13,95,14],[95,15,95,17],[95,18,95,20],[95,21,95,23],[95,24,95,26],[58,0,58,12],[55,15,55,17],[56,15,56,17],[55,18,55,20],[56,18,56,20],[55,21,55,23],[56,21,56,23],[55,24,55,26],[56,24,56,26],[57,0,57,12],[60,0,60,12],[57,15,57,17],[59,0,59,12],[63,0,63,12],[62,15,62,17],[61,18,61,20],[62,18,62,20],[61,21,61,23],[62,21,62,23],[74,18,74,20],[63,15,63,17],[64,15,64,17],[63,18,63,20],[64,18,64,20],[63,21,63,23],[64,21,64,23],[67,0,67,12],[66,0,66,12],[65,0,65,12],[67,15,67,17],[67,18,67,20],[67,21,67,23],[62,0,62,12],[59,15,59,17],[60,15,60,17],[59,18,59,20],[58,15,58,17],[57,18,57,20],[58,18,58,20],[57,21,57,23],[58,21,58,23],[57,24,57,26],[58,24,58,26],[67,24,67,26],[73,21,73,23],[61,24,61,26],[62,24,62,26],[60,18,60,20],[59,21,59,23],[60,21,60,23],[59,24,59,26],[60,24,60,26],[64,24,64,26],[65,15,65,17],[66,15,66,17],[65,18,65,20],[66,18,66,20],[65,21,65,23],[66,21,66,23],[65,24,65,26],[61,0,61,12],[61,15,61,17],[100,21,100,23],[100,24,100,26],[97,21,97,23],[97,24,97,26],[90,0,90,12],[89,0,89,12],[91,0,91,12],[99,13,99,14],[99,15,99,17],[99,18,99,20],[99,21,99,23],[99,24,99,26],[98,13,98,14],[98,15,98,17],[98,18,98,20],[98,21,98,23],[64,0,64,12],[98,24,98,26],[97,13,97,14],[97,15,97,17],[97,18,97,20],[63,24,63,26],[66,24,66,26],[102,21,102,23],[102,24,102,26],[68,0,68,12],[68,15,68,17],[68,18,68,20],[68,21,68,23],[101,13,101,14],[101,15,101,17],[101,18,101,20],[101,21,101,23],[101,24,101,26],[68,24,68,26],[88,0,88,12],[87,0,87,12],[74,15,74,17],[76,0,76,12],[73,15,73,17],[77,21,77,23],[77,24,77,26],[100,13,100,14],[100,15,100,17],[100,18,100,20],[76,18,76,20],[79,0,79,12],[107,13,107,14],[107,15,107,17],[107,18,107,20],[107,21,107,23],[74,0,74,12],[82,0,82,12],[81,0,81,12],[84,0,84,12],[83,0,83,12],[86,0,86,12],[85,0,85,12],[106,13,106,14],[106,15,106,17],[106,18,106,20],[105,13,105,14],[105,15,105,17],[105,18,105,20],[104,0,104,12],[90,21,90,23],[90,18,90,20],[105,21,105,23],[78,0,78,12],[77,0,77,12],[72,0,72,12],[69,15,69,17],[70,15,70,17],[69,18,69,20],[70,18,70,20],[69,21,69,23],[70,21,70,23],[69,24,69,26],[70,24,70,26],[70,0,70,12],[69,0,69,12],[71,15,71,17],[72,15,72,17],[71,18,71,20],[72,18,72,20],[71,21,71,23],[72,21,72,23],[71,24,71,26],[72,24,72,26],[71,0,71,12],[80,0,80,12],[74,24,74,26],[73,0,73,12],[75,15,75,17],[76,15,76,17],[77,18,77,20],[77,15,77,17],[75,0,75,12],[75,24,75,26],[76,24,76,26],[73,24,73,26],[75,18,75,20],[73,18,73,20],[75,21,75,23],[76,21,76,23],[74,21,74,23],[78,24,78,26],[79,24,79,26],[79,15,79,17],[79,18,79,20],[79,21,79,23],[78,15,78,17],[78,18,78,20],[78,21,78,23],[118,24,118,26],[117,13,117,14],[117,15,117,17],[117,18,117,20],[117,21,117,23],[117,24,117,26],[113,18,113,20],[113,21,113,23],[113,24,113,26],[116,13,116,14],[116,15,116,17],[116,18,116,20],[116,21,116,23],[116,24,116,26],[115,24,115,26],[114,21,114,23],[114,24,114,26],[113,13,113,14],[113,15,113,17],[109,13,109,14],[111,21,111,23],[111,24,111,26],[110,13,110,14],[112,13,112,14],[91,18,91,20],[91,15,91,17],[109,15,109,17],[109,18,109,20],[109,21,109,23],[109,24,109,26],[108,13,108,14],[103,15,103,17],[103,24,103,26],[104,24,104,26],[103,13,103,14],[108,21,108,23],[108,24,108,26],[105,24,105,26],[107,24,107,26],[106,21,106,23],[106,24,106,26],[83,15,83,17],[84,15,84,17],[83,18,83,20],[110,21,110,23],[110,24,110,26],[87,18,87,20],[88,18,88,20],[89,18,89,20],[87,15,87,17],[88,15,88,17],[80,24,80,26],[81,24,81,26],[120,24,120,26],[82,24,82,26],[94,15,94,17],[92,18,92,20],[93,18,93,20],[91,24,91,26],[92,24,92,26],[80,15,80,17],[80,18,80,20],[80,21,80,23],[89,21,89,23],[85,18,85,20],[86,18,86,20],[85,15,85,17],[89,15,89,17],[90,15,90,17],[90,24,90,26],[86,24,86,26],[87,24,87,26],[88,24,88,26],[89,24,89,26],[85,21,85,23],[119,13,119,14],[119,15,119,17],[119,18,119,20],[119,21,119,23],[119,24,119,26],[81,15,81,17],[82,15,82,17],[94,21,94,23],[83,24,83,26],[84,24,84,26],[85,24,85,26],[93,24,93,26],[94,24,94,26],[108,15,108,17],[108,18,108,20],[81,18,81,20],[82,18,82,20],[81,21,81,23],[82,21,82,23],[83,21,83,23],[84,21,84,23],[118,21,118,23],[112,24,112,26],[84,18,84,20],[121,21,121,23],[86,21,86,23],[87,21,87,23],[88,21,88,23],[92,21,92,23],[93,21,93,23],[120,13,120,14],[120,15,120,17],[120,18,120,20],[120,21,120,23],[91,21,91,23],[112,21,112,23],[115,13,115,14],[115,15,115,17],[115,18,115,20],[115,21,115,23],[103,18,103,20],[103,21,103,23],[104,13,104,14],[104,15,104,17],[104,18,104,20],[104,21,104,23],[86,15,86,17],[111,13,111,14],[126,21,126,23],[125,13,125,14],[125,15,125,17],[125,18,125,20],[125,21,125,23],[124,13,124,14],[124,15,124,17],[124,18,124,20],[124,21,124,23],[122,0,122,12],[121,13,121,14],[121,15,121,17],[121,18,121,20],[92,15,92,17],[93,15,93,17],[126,15,126,17],[126,18,126,20],[118,15,118,17],[118,18,118,20],[114,13,114,14],[114,15,114,17],[114,18,114,20],[112,15,112,17],[112,18,112,20],[110,15,110,17],[110,18,110,20],[102,13,102,14],[102,15,102,17],[102,18,102,20],[94,18,94,20],[103,0,103,12],[111,15,111,17],[111,18,111,20],[128,15,128,17],[128,18,128,20],[128,21,128,23],[128,24,128,26],[128,0,128,12],[127,13,127,14],[127,15,127,17],[121,24,121,26],[126,24,126,26],[125,24,125,26],[124,24,124,26],[123,21,123,23],[123,24,123,26],[122,13,122,14],[122,15,122,17],[122,18,122,20],[122,21,122,23],[122,24,122,26],[123,13,123,14],[123,15,123,17],[123,18,123,20],[126,0,126,12],[127,0,127,12],[126,13,126,14],[131,13,131,14],[130,13,130,14],[123,0,123,12],[124,0,124,12],[125,0,125,12],[105,0,105,12],[106,0,106,12],[107,0,107,12],[108,0,108,12],[109,0,109,12],[110,0,110,12],[111,0,111,12],[112,0,112,12],[113,0,113,12],[114,0,114,12],[115,0,115,12],[116,0,116,12],[128,13,128,14],[118,13,118,14],[117,0,117,12],[118,0,118,12],[119,0,119,12],[120,0,120,12],[121,0,121,12],[134,0,134,12],[134,21,134,23],[134,24,134,26],[135,0,135,26],[136,0,136,26],[137,0,137,26],[134,13,134,20],[127,18,127,20],[127,21,127,23],[127,24,127,26],[132,18,132,20],[132,21,132,23],[132,24,132,26],[131,15,131,17],[131,18,131,20],[131,21,131,23],[131,24,131,26],[130,24,130,26],[129,24,129,26],[129,21,129,23],[133,21,133,23],[133,24,133,26],[132,13,132,14],[132,15,132,17],[142,0,142,2],[142,3,142,12],[142,13,142,14],[142,15,142,26],[144,17,144,26],[138,0,138,26],[139,0,139,26],[140,0,140,26],[141,0,141,2],[141,3,141,12],[141,13,141,14],[141,15,141,26],[130,21,130,23],[93,0,93,12],[94,0,94,12],[95,0,95,12],[96,0,96,12],[92,0,92,12],[133,13,133,14],[133,15,133,17],[133,18,133,20],[129,0,129,12],[130,0,130,12],[131,0,131,12],[132,0,132,12],[133,0,133,12],[129,15,129,17],[129,18,129,20],[130,15,130,17],[130,18,130,20],[97,0,97,12],[98,0,98,12],[99,0,99,12],[100,0,100,12],[101,0,101,12],[102,0,102,12]]}
[null,null,null,null,null,null,null,null,null,null,"Price Quote"]
[]
["Customer Information"]
["Company Name:",null,null,null,null,null,null,null,null,null,null,null,null,null,null,null,null,null,null,null,null,"Existing Account?: "]
["Company Address:"]
["City:",null,null,null,null,null,null,null,null,null,null,null,null,"ST:",null,null,null,null,null,null,null,null,"Zip:"]
["Contact Type",null,null,null,"Contact Name",null,null,null,null,null,"Email",null,null,null,null,null,null,null,"Phone",null,null,null,null,"Fax"]
["Company Main"]
["Primary Contact"]
["Technical Contact"]
["Authorized Admin 1"]
["Authorized Admin 2"]
["Authorized Admin 3"]
[]
["Services & Rates"]
["Term (select from drop down):"]
["Service",null,null,null,null,null,null,null,null,null,null,null,null,"QTY",null,"Unit Setup Fee",null,null,"Unit Monthly Fee",null,null,"Setup Fee",null,null,"Monthly Fee"]
["nFinity Quick Launch™",null,null,null,null,null,null,null,null,null,null,null,null,null,null,0,null,null,0,null,null,{"$f":"N18*P18","v":0},null,null,{"$f":"N18*S18","v":0}]
["nFinity Advanced Desktop™",null,null,null,null,null,null,null,null,null,null,null,null,null,null,0,null,null,0,null,null,{"$f":"N19*P19","v":0},null,null,{"$f":"N19*S19","v":0}]
["nFinity Advanced Desktop + Quick Launch™",null,null,null,null,null,null,null,null,null,null,null,null,null,null,0,null,null,0,null,null,0,null,null,0]
[]
["MS Office Standard",null,null,null,null,null,null,null,null,null,null,null,null,null,null,0,null,null,0,null,null,0,null,null,0]
["MS Office Pro",null,null,null,null,null,null,null,null,null,null,null,null,null,null,0,null,null,0,null,null,0,null,null,0]
["MS Visio Standard",null,null,null,null,null,null,null,null,null,null,null,null,null,null,0,null,null,0,null,null,0,null,null,0]
["MS Visio Professional",null,null,null,null,null,null,null,null,null,null,null,null,null,null,0,null,null,0,null,null,0,null,null,0]
["MS Visio Premium",null,null,null,null,null,null,null,null,null,null,null,null,null,null,0,null,null,0,null,null,0,null,null,0]
["MS Project Standard",null,null,null,null,null,null,null,null,null,null,null,null,null,null,0,null,null,0,null,null,0,null,null,0]
["MS Project Professional ",null,null,null,null,null,null,null,null,null,null,null,null,null,null,0,null,null,0,null,null,0,null,null,0]
["MS SQL Standard - SAL",null,null,null,null,null,null,null,null,null,null,null,null,null,null,0,null,null,0,null,null,0,null,null,0]
["MS SQL Enterprise - SAL",null,null,null,null,null,null,null,null,null,null,null,null,null,null,0,null,null,0,null,null,0,null,null,0]
["QuickBooks Pro",null,null,null,null,null,null,null,null,null,null,null,null,null,null,0,null,null,0,null,null,0,null,null,0]
["QuickBooks Premier",null,null,null,null,null,null,null,null,null,null,null,null,null,null,0,null,null,0,null,null,0,null,null,0]
["Quickbooks Premier Accountant",null,null,null,null,null,null,null,null,null,null,null,null,null,null,0,null,null,0,null,null,0,null,null,0]
["Quickbooks Hosting Fee",null,null,null,null,null,null,null,null,null,null,null,null,null,null,0,null,null,0,null,null,0,null,null,0]
["Quickbooks Multi-user Mode",null,null,null,null,null,null,null,null,null,null,null,null,null,null,0,null,null,0,null,null,0,null,null,0]
[]
["Application Maintenance",null,null,null,null,null,null,null,null,null,null,null,null,null,null,0,null,null,0,null,null,0,null,null,0]
["Application Presentation",null,null,null,null,null,null,null,null,null,null,null,null,null,null,0,null,null,0,null,null,0,null,null,0]
["Add-on/Plug-in - Client Side",null,null,null,null,null,null,null,null,null,null,null,null,null,null,0,null,null,0,null,null,0,null,null,0]
["Add-on/Services - Server Side",null,null,null,null,null,null,null,null,null,null,null,null,null,null,0,null,null,0,null,null,0,null,null,0]
["Standard Server",null,null,null,null,null,null,null,null,null,null,null,null,null,null,0,null,null,0,null,null,0,null,null,0]
["Professional Server",null,null,null,null,null,null,null,null,null,null,null,null,null,null,0,null,null,0,null,null,0,null,null,0]
["Enterprise Server",null,null,null,null,null,null,null,null,null,null,null,null,null,null,0,null,null,0,null,null,0,null,null,0]
[]
["Storage (1 GB)",null,null,null,null,null,null,null,null,null,null,null,null,null,null,0,null,null,0,null,null,0,null,null,0]
["Storage (10 GB)",null,null,null,null,null,null,null,null,null,null,null,null,null,null,0,null,null,0,null,null,0,null,null,0]
["Storage (20 GB)",null,null,null,null,null,null,null,null,null,null,null,null,null,null,0,null,null,0,null,null,0,null,null,0]
["Storage (50 GB)",null,null,null,null,null,null,null,null,null,null,null,null,null,null,0,null,null,0,null,null,0,null,null,0]
["Storage (100 GB)",null,null,null,null,null,null,null,null,null,null,null,null,null,null,0,null,null,0,null,null,0,null,null,0]
["Storage (200 GB)",null,null,null,null,null,null,null,null,null,null,null,null,null,null,0,null,null,0,null,null,0,null,null,0]
["Storage (500 GB)",null,null,null,null,null,null,null,null,null,null,null,null,null,null,0,null,null,0,null,null,0,null,null,0]
[]
["Hosted Exchange - web mail (1 GB)",null,null,null,null,null,null,null,null,null,null,null,null,null,null,0,null,null,0,null,null,0,null,null,0]
["Hosted Exchange - web mail (2 GB)",null,null,null,null,null,null,null,null,null,null,null,null,null,null,0,null,null,0,null,null,0,null,null,0]
["Hosted Exchange - web mail (3 GB)",null,null,null,null,null,null,null,null,null,null,null,null,null,null,0,null,null,0,null,null,0,null,null,0]
["Hosted Exchange - web mail (4 GB)",null,null,null,null,null,null,null,null,null,null,null,null,null,null,0,null,null,0,null,null,0,null,null,0]
["Hosted Exchange - web mail (5 GB)",null,null,null,null,null,null,null,null,null,null,null,null,null,null,0,null,null,0,null,null,0,null,null,0]
["Hosted Exchange - Standard (1 GB)",null,null,null,null,null,null,null,null,null,null,null,null,null,null,0,null,null,0,null,null,0,null,null,0]
["Hosted Exchange - Standard (2 GB)",null,null,null,null,null,null,null,null,null,null,null,null,null,null,0,null,null,0,null,null,0,null,null,0]
["Hosted Exchange - Standard (3 GB)",null,null,null,null,null,null,null,null,null,null,null,null,null,null,0,null,null,0,null,null,0,null,null,0]
["Hosted Exchange - Standard (4 GB)",null,null,null,null,null,null,null,null,null,null,null,null,null,null,0,null,null,0,null,null,0,null,null,0]
["Hosted Exchange - Standard (5 GB)",null,null,null,null,null,null,null,null,null,null,null,null,null,null,0,null,null,0,null,null,0,null,null,0]
["Hosted Exchange - Standard (10 GB)",null,null,null,null,null,null,null,null,null,null,null,null,null,null,0,null,null,0,null,null,0,null,null,0]
["Hosted Exchange - Standard (20 GB)",null,null,null,null,null,null,null,null,null,null,null,null,null,null,0,null,null,0,null,null,0,null,null,0]
["Hosted Exchange - Professional (1 GB)",null,null,null,null,null,null,null,null,null,null,null,null,null,null,0,null,null,0,null,null,0,null,null,0]
["Hosted Exchange - Professional (2 GB)",null,null,null,null,null,null,null,null,null,null,null,null,null,null,0,null,null,0,null,null,0,null,null,0]
["Hosted Exchange - Professional (3 GB)",null,null,null,null,null,null,null,null,null,null,null,null,null,null,0,null,null,0,null,null,0,null,null,0]
["Hosted Exchange - Professional (4 GB)",null,null,null,null,null,null,null,null,null,null,null,null,null,null,0,null,null,0,null,null,0,null,null,0]
["Hosted Exchange - Professional (5 GB)",null,null,null,null,null,null,null,null,null,null,null,null,null,null,0,null,null,0,null,null,0,null,null,0]
["Hosted Exchange - Professional (10 GB)",null,null,null,null,null,null,null,null,null,null,null,null,null,null,0,null,null,0,null,null,0,null,null,0]
["Hosted Exchange - Professional (20 GB)",null,null,null,null,null,null,null,null,null,null,null,null,null,null,0,null,null,0,null,null,0,null,null,0]
["Archiving Setup (0-100 users)",null,null,null,null,null,null,null,null,null,null,null,null,null,null,0,null,null,0,null,null,0,null,null,0]
["Archiving Setup (101+ users)",null,null,null,null,null,null,null,null,null,null,null,null,null,null,0,null,null,0,null,null,0,null,null,0]
["Archiving Retention (1 year/user)",null,null,null,null,null,null,null,null,null,null,null,null,null,null,0,null,null,0,null,null,0,null,null,0]
["Archiving Retention (3 year/user)",null,null,null,null,null,null,null,null,null,null,null,null,null,null,0,null,null,0,null,null,0,null,null,0]
["Archiving Retention (5 year/user)",null,null,null,null,null,null,null,null,null,null,null,null,null,null,0,null,null,0,null,null,0,null,null,0]
["Archiving Retention (7 year/user)",null,null,null,null,null,null,null,null,null,null,null,null,null,null,0,null,null,0,null,null,0,null,null,0]
["Archiving Compliance and Monitoring",null,null,null,null,null,null,null,null,null,null,null,null,null,null,0,null,null,0,null,null,0,null,null,0]
["Dedicated NOS WORM Storage Setup",null,null,null,null,null,null,null,null,null,null,null,null,null,null,0,null,null,0,null,null,0,null,null,0]
[]
["nFinity SMB Basic Desktop",null,null,null,null,null,null,null,null,null,null,null,null,null,null,0,null,null,0,null,null,0,null,null,0]
["nFinity SMB Advanced Desktop",null,null,null,null,null,null,null,null,null,null,null,null,null,null,0,null,null,0,null,null,0,null,null,0]
[]
["Private Standard Server",null,null,null,null,null,null,null,null,null,null,null,null,null,null,0,null,null,0,null,null,{"$f":"N84*P84","v":0},null,null,{"$f":"N84*S84","v":0}]
["Private Professional Server",null,null,null,null,null,null,null,null,null,null,null,null,null,null,0,null,null,0,null,null,0,null,null,0]
["Private Enterprise Server",null,null,null,null,null,null,null,null,null,null,null,null,null,null,0,null,null,0,null,null,0,null,null,0]
["Private Custom Server",null,null,null,null,null,null,null,null,null,null,null,null,null,null,0,null,null,0,null,null,0,null,null,0]
["Private RAM (add-on)",null,null,null,null,null,null,null,null,null,null,null,null,null,null,0,null,null,0,null,null,0,null,null,0]
["Private vCPU (add-on)",null,null,null,null,null,null,null,null,null,null,null,null,null,null,0,null,null,0,null,null,0,null,null,0]
["Private IP Addresses",null,null,null,null,null,null,null,null,null,null,null,null,null,null,0,null,null,0,null,null,0,null,null,0]
["Private Dedicated Firewall Service",null,null,null,null,null,null,null,null,null,null,null,null,null,null,0,null,null,0,null,null,0,null,null,0]
["Private Load-Balancing Service",null,null,null,null,null,null,null,null,null,null,null,null,null,null,0,null,null,0,null,null,0,null,null,0]
["Private VPN Connections",null,null,null,null,null,null,null,null,null,null,null,null,null,null,0,null,null,0,null,null,0,null,null,0]
["Private Monitoring Service",null,null,null,null,null,null,null,null,null,null,null,null,null,null,0,null,null,0,null,null,0,null,null,0]
["MS SQL Standard - SAL",null,null,null,null,null,null,null,null,null,null,null,null,null,null,0,null,null,0,null,null,0,null,null,0]
["MS SQL Enterprise - SAL",null,null,null,null,null,null,null,null,null,null,null,null,null,null,0,null,null,0,null,null,0,null,null,0]
["MS SQL Standard Server - Proc License",null,null,null,null,null,null,null,null,null,null,null,null,null,null,0,null,null,0,null,null,0,null,null,0]
["MS SQL Enterprise Server - Proc License",null,null,null,null,null,null,null,null,null,null,null,null,null,null,0,null,null,0,null,null,0,null,null,0]
[]
["Professional Services  per hour",null,null,null,null,null,null,null,null,null,null,null,null,null,null,0,null,null,0,null,null,0,null,null,0]
["Physical Data Seed",null,null,null,null,null,null,null,null,null,null,null,null,null,null,0,null,null,0,null,null,0,null,null,0]
[]
["EDU - nFinity Browser™ ",null,null,null,null,null,null,null,null,null,null,null,null,null,null,0,null,null,0,null,null,0,null,null,0]
["EDU - nFinity Basic Desktop™",null,null,null,null,null,null,null,null,null,null,null,null,null,null,0,null,null,0,null,null,0,null,null,0]
["EDU - nFinity Quick Launch™",null,null,null,null,null,null,null,null,null,null,null,null,null,null,0,null,null,0,null,null,0,null,null,0]
["EDU - nFinity Advanced Desktop™",null,null,null,null,null,null,null,null,null,null,null,null,null,null,0,null,null,0,null,null,0,null,null,0]
["EDU - nFinity Advanced Desktop + Quick Launch",null,null,null,null,null,null,null,null,null,null,null,null,null,null,0,null,null,0,null,null,0,null,null,0]
["EDU - MS Office Standard",null,null,null,null,null,null,null,null,null,null,null,null,null,null,0,null,null,0,null,null,0,null,null,0]
["EDU - MS Office Pro",null,null,null,null,null,null,null,null,null,null,null,null,null,null,0,null,null,0,null,null,0,null,null,0]
["EDU - MS Visio Professional",null,null,null,null,null,null,null,null,null,null,null,null,null,null,0,null,null,0,null,null,0,null,null,0]
["EDU - MS Visio Premium",null,null,null,null,null,null,null,null,null,null,null,null,null,null,0,null,null,0,null,null,0,null,null,0]
["EDU - MS Project Professional ",null,null,null,null,null,null,null,null,null,null,null,null,null,null,0,null,null,0,null,null,0,null,null,0]
["EDU - MS SQL Standard",null,null,null,null,null,null,null,null,null,null,null,null,null,null,0,null,null,0,null,null,0,null,null,0]
["EDU - MS SQL Enterprise",null,null,null,null,null,null,null,null,null,null,null,null,null,null,0,null,null,0,null,null,0,null,null,0]
["EDU - MS SQL Standard - Proc",null,null,null,null,null,null,null,null,null,null,null,null,null,null,0,null,null,0,null,null,0,null,null,0]
["EDU - MS SQL Enterprise - Proc",null,null,null,null,null,null,null,null,null,null,null,null,null,null,0,null,null,0,null,null,0,null,null,0]
["EDU - Hosted Exchange - web mail (1 GB)",null,null,null,null,null,null,null,null,null,null,null,null,null,null,0,null,null,0,null,null,0,null,null,0]
["EDU - Hosted Exchange - web mail (2 GB)",null,null,null,null,null,null,null,null,null,null,null,null,null,null,0,null,null,0,null,null,0,null,null,0]
["EDU - Hosted Exchange - web mail (3 GB)",null,null,null,null,null,null,null,null,null,null,null,null,null,null,0,null,null,0,null,null,0,null,null,0]
["EDU - Hosted Exchange - web mail (4 GB)",null,null,null,null,null,null,null,null,null,null,null,null,null,null,0,null,null,0,null,null,0,null,null,0]
["EDU - Hosted Exchange - web mail (5 GB)",null,null,null,null,null,null,null,null,null,null,null,null,null,null,0,null,null,0,null,null,0,null,null,0]
["EDU - Hosted Exchange - Standard (1 GB)",null,null,null,null,null,null,null,null,null,null,null,null,null,null,0,null,null,0,null,null,0,null,null,0]
["EDU - Hosted Exchange - Standard (2 GB)",null,null,null,null,null,null,null,null,null,null,null,null,null,null,0,null,null,0,null,null,0,null,null,0]
["EDU - Hosted Exchange - Standard (3 GB)",null,null,null,null,null,null,null,null,null,null,null,null,null,null,0,null,null,0,null,null,0,null,null,0]
["EDU - Hosted Exchange - Standard (4 GB)",null,null,null,null,null,null,null,null,null,null,null,null,null,null,0,null,null,0,null,null,0,null,null,0]
["EDU - Hosted Exchange - Standard (5 GB)",null,null,null,null,null,null,null,null,null,null,null,null,null,null,0,null,null,0,null,null,0,null,null,0]
["EDU - Hosted Exchange - Professional (1 GB)",null,null,null,null,null,null,null,null,null,null,null,null,null,null,0,null,null,0,null,null,0,null,null,0]
["EDU - Hosted Exchange - Professional (2 GB)",null,null,null,null,null,null,null,null,null,null,null,null,null,null,0,null,null,0,null,null,0,null,null,0]
["EDU - Hosted Exchange - Professional (3 GB)",null,null,null,null,null,null,null,null,null,null,null,null,null,null,0,null,null,0,null,null,0,null,null,0]
["EDU - Hosted Exchange - Professional (4 GB)",null,null,null,null,null,null,null,null,null,null,null,null,null,null,0,null,null,0,null,null,0,null,null,0]
["EDU - Hosted Exchange - Professional (5 GB) ",null,null,null,null,null,null,null,null,null,null,null,null,null,null,0,null,null,0,null,null,0,null,null,0]
[]
["Scan To Cloud",null,null,null,null,null,null,null,null,null,null,null,null,null,null,0,null,null,0,null,null,0,null,null,0]
["SMTP Relay",null,null,null,null,null,null,null,null,null,null,null,null,null,null,0,null,null,0,null,null,0,null,null,0]
[null,null,null,null,null,null,null,null,null,null,null,null,null,"Total Charges:",null,null,null,null,null,null,null,{"$f":"SUM(V18:V134)","v":0},null,null,{"$f":"SUM(Y18:Y134)","v":0}]
[]
["Account Comments & Additional Information"]
[]
[]
["Service Authorization"]
["I have read and agree to be bound by all terms and conditions as listed on the applicable terms and conditions documents."]
["Printed Name",null,null,null,null,null,null,null,null,null,null,null,null,"Signature"]
["Title",null,null,null,null,null,null,null,null,null,null,null,null,"Date"]
[]
["revised 07.02.13"]